BEGIN:VCALENDAR
VERSION:2.0
PRODID:-//The Ontario Historical Society - ECPv6.15.20//NONSGML v1.0//EN
CALSCALE:GREGORIAN
METHOD:PUBLISH
X-ORIGINAL-URL:https://ontariohistoricalsociety.ca
X-WR-CALDESC:Events for The Ontario Historical Society
REFRESH-INTERVAL;VALUE=DURATION:PT1H
X-Robots-Tag:noindex
X-PUBLISHED-TTL:PT1H
BEGIN:VTIMEZONE
TZID:America/Toronto
BEGIN:DAYLIGHT
TZOFFSETFROM:-0500
TZOFFSETTO:-0400
TZNAME:EDT
DTSTART:20210314T070000
END:DAYLIGHT
BEGIN:STANDARD
TZOFFSETFROM:-0400
TZOFFSETTO:-0500
TZNAME:EST
DTSTART:20211107T060000
END:STANDARD
BEGIN:DAYLIGHT
TZOFFSETFROM:-0500
TZOFFSETTO:-0400
TZNAME:EDT
DTSTART:20220313T070000
END:DAYLIGHT
BEGIN:STANDARD
TZOFFSETFROM:-0400
TZOFFSETTO:-0500
TZNAME:EST
DTSTART:20221106T060000
END:STANDARD
BEGIN:DAYLIGHT
TZOFFSETFROM:-0500
TZOFFSETTO:-0400
TZNAME:EDT
DTSTART:20230312T070000
END:DAYLIGHT
BEGIN:STANDARD
TZOFFSETFROM:-0400
TZOFFSETTO:-0500
TZNAME:EST
DTSTART:20231105T060000
END:STANDARD
BEGIN:DAYLIGHT
TZOFFSETFROM:-0500
TZOFFSETTO:-0400
TZNAME:EDT
DTSTART:20240310T070000
END:DAYLIGHT
BEGIN:STANDARD
TZOFFSETFROM:-0400
TZOFFSETTO:-0500
TZNAME:EST
DTSTART:20241103T060000
END:STANDARD
BEGIN:DAYLIGHT
TZOFFSETFROM:-0500
TZOFFSETTO:-0400
TZNAME:EDT
DTSTART:20250309T070000
END:DAYLIGHT
BEGIN:STANDARD
TZOFFSETFROM:-0400
TZOFFSETTO:-0500
TZNAME:EST
DTSTART:20251102T060000
END:STANDARD
BEGIN:DAYLIGHT
TZOFFSETFROM:-0500
TZOFFSETTO:-0400
TZNAME:EDT
DTSTART:20260308T070000
END:DAYLIGHT
BEGIN:STANDARD
TZOFFSETFROM:-0400
TZOFFSETTO:-0500
TZNAME:EST
DTSTART:20261101T060000
END:STANDARD
END:VTIMEZONE
BEGIN:VEVENT
DTSTART;TZID=America/Toronto:20250225T183000
DTEND;TZID=America/Toronto:20250225T183000
DTSTAMP:20260422T062530
CREATED:20250212T172551Z
LAST-MODIFIED:20250212T172551Z
UID:10001418-1740508200-1740508200@ontariohistoricalsociety.ca
SUMMARY:Oxford Historical Society Black History Month Presentation
DESCRIPTION:The OxHS is pleased to present A Black History Month Event with Special Guest dKT \nJoin us for an inspiring evening of spoken word and conversation as Duane Kumala-Thomas (dKT) explores the rich history and reliance of Canadians! \nFeaturing inspired performances of: \nThis Town of Ours: Ingersoll’s Ties to the Underground Railroad\nOppression to Operation: Anderson Ruffin Abbott’s Glass Ceiling\nAnderson and Her Son: A Path to Hear Here \nThrough poetry and dialogue\, dKT will uncover histories\, celebrate Black excellence\, and spark meaningful discussions! \n 
URL:https://ontariohistoricalsociety.ca/event/oxford-historical-society-black-history-month-presentation/
LOCATION:Woodstock Museum\, 466 Dundas Street\, Woodstock\, ON\, N4S 1C4\, Canada
ORGANIZER;CN="Oxford Historical Society":MAILTO:info@oxhs.ca
GEO:43.1293096;-80.7574255
X-APPLE-STRUCTURED-LOCATION;VALUE=URI;X-ADDRESS=Woodstock Museum 466 Dundas Street Woodstock ON N4S 1C4 Canada;X-APPLE-RADIUS=500;X-TITLE=466 Dundas Street:geo:-80.7574255,43.1293096
END:VEVENT
BEGIN:VEVENT
DTSTART;TZID=America/Toronto:20250129T183000
DTEND;TZID=America/Toronto:20250129T183000
DTSTAMP:20260422T062530
CREATED:20241216T152153Z
LAST-MODIFIED:20241216T152153Z
UID:10001395-1738175400-1738175400@ontariohistoricalsociety.ca
SUMMARY:Oxford Historical Society Annual General Meeting & Presentation
DESCRIPTION:Please join us for the Society’s AGM\, which will be held at the Woodstock Museum National Historic Site\, meeting will begin at 6:45pm. \nAt this meeting the 2025 Executive will be voted in\, all paying members will have a chance to vote. \nElaine Becker presenting To Be Continued: The Story of the Salvation Army in Woodstock\nFrom Elaine: “In January 1884 the Salvation Army came to Woodstock Ontario led by a group of Salvationists from Ingersoll Ontario. The organization had only begun in London England in 1865 under the Leadership of William and Catherine Booth. Who are these people and how did this organization spread so quickly as an international movement? \nLearn the origins and the motivation of this organization that still keep it moving forward today. In how many countries does it operate?  Perhaps the more important question for the local residents will be the progress of the Army here in Woodstock. You will be introduced to some of the colourful characters. Bring any questions you may have about this group of people and Elaine will endeavour  to answer them.”
URL:https://ontariohistoricalsociety.ca/event/oxford-historical-society-annual-general-meeting-presentation/
LOCATION:Woodstock Museum\, 466 Dundas Street\, Woodstock\, ON\, N4S 1C4\, Canada
ORGANIZER;CN="Oxford Historical Society":MAILTO:info@oxhs.ca
GEO:43.1293096;-80.7574255
X-APPLE-STRUCTURED-LOCATION;VALUE=URI;X-ADDRESS=Woodstock Museum 466 Dundas Street Woodstock ON N4S 1C4 Canada;X-APPLE-RADIUS=500;X-TITLE=466 Dundas Street:geo:-80.7574255,43.1293096
END:VEVENT
BEGIN:VEVENT
DTSTART;TZID=America/Toronto:20221130T183000
DTEND;TZID=America/Toronto:20221130T183000
DTSTAMP:20260422T062530
CREATED:20221017T210956Z
LAST-MODIFIED:20221017T210956Z
UID:10000743-1669833000-1669833000@ontariohistoricalsociety.ca
SUMMARY:Oxford Historical Society November 2022 Meeting: Life Aboard a Lancaster Bomber in WWII
DESCRIPTION:John Bullen\, from the Canadian Warplane Heritage Museum\, will be presenting Life Aboard a Lancaster Bomber in WWII. \nThis presentation will take place at the Woodstock Museum\, NHS. Doors open at 6:30pm and the meeting will start at 6:45pm. This is a free public meeting\, all are welcome to attend.
URL:https://ontariohistoricalsociety.ca/event/oxford-historical-society-november-2022-meeting-life-aboard-a-lancaster-bomber-in-wwii/
LOCATION:Woodstock Museum\, 466 Dundas Street\, Woodstock\, ON\, N4S 1C4\, Canada
ORGANIZER;CN="Oxford Historical Society":MAILTO:info@oxhs.ca
GEO:43.1293096;-80.7574255
X-APPLE-STRUCTURED-LOCATION;VALUE=URI;X-ADDRESS=Woodstock Museum 466 Dundas Street Woodstock ON N4S 1C4 Canada;X-APPLE-RADIUS=500;X-TITLE=466 Dundas Street:geo:-80.7574255,43.1293096
END:VEVENT
BEGIN:VEVENT
DTSTART;TZID=America/Toronto:20221026T183000
DTEND;TZID=America/Toronto:20221026T183000
DTSTAMP:20260422T062530
CREATED:20221017T210715Z
LAST-MODIFIED:20221017T210715Z
UID:10000742-1666809000-1666809000@ontariohistoricalsociety.ca
SUMMARY:Oxford Historical Society October 2022 Meeting: Doris Weir – Cold Springs Farm in Thamesford
DESCRIPTION:Please join us on Wednesday\, October 26 at 6:30 to hear Doris Weir’s presentation on the Cold Spring’s Farm in Thamesford. The presentation will be held at the Woodstock Museum\, NHS. \nFrom Doris Weir: \n“Mr. Harvey Beaty was a huge employer and contributor to the town of Thamesford and surrounding areas.  He started Cold Springs Farm in 1949 and up to his death in 1994 he created a business with over 100 farms\, processing plants and was starting to build a mini town in Florida. \nWhen I received his memoirs I wanted to ensure everyone knew who he was and what he had done for Thamesford\, Oxford County and many other areas in Ontario\, Michigan and Florida so I digitized the memoirs and created a book for everyone to read and enjoy. \nI will be talking about Mr. Beaty’s memoirs book\, his upbringing\, how he crippled himself (his word) and how he started in to the poultry and feedmill business and more.” \nThis presentation will take place at the Woodstock Museum\, NHS. Doors open at 6:30pm and the meeting will start at 6:45pm. This is a free public meeting\, all are welcome to attend.
URL:https://ontariohistoricalsociety.ca/event/oxford-historical-society-october-2022-meeting-doris-weir-cold-springs-farm-in-thamesford/
LOCATION:Woodstock Museum\, 466 Dundas Street\, Woodstock\, ON\, N4S 1C4\, Canada
ORGANIZER;CN="Oxford Historical Society":MAILTO:info@oxhs.ca
GEO:43.1293096;-80.7574255
X-APPLE-STRUCTURED-LOCATION;VALUE=URI;X-ADDRESS=Woodstock Museum 466 Dundas Street Woodstock ON N4S 1C4 Canada;X-APPLE-RADIUS=500;X-TITLE=466 Dundas Street:geo:-80.7574255,43.1293096
END:VEVENT
END:VCALENDAR