BEGIN:VCALENDAR
VERSION:2.0
PRODID:-//The Ontario Historical Society - ECPv6.15.20//NONSGML v1.0//EN
CALSCALE:GREGORIAN
METHOD:PUBLISH
X-WR-CALNAME:The Ontario Historical Society
X-ORIGINAL-URL:https://ontariohistoricalsociety.ca
X-WR-CALDESC:Events for The Ontario Historical Society
REFRESH-INTERVAL;VALUE=DURATION:PT1H
X-Robots-Tag:noindex
X-PUBLISHED-TTL:PT1H
BEGIN:VTIMEZONE
TZID:America/Toronto
BEGIN:DAYLIGHT
TZOFFSETFROM:-0500
TZOFFSETTO:-0400
TZNAME:EDT
DTSTART:20180311T070000
END:DAYLIGHT
BEGIN:STANDARD
TZOFFSETFROM:-0400
TZOFFSETTO:-0500
TZNAME:EST
DTSTART:20181104T060000
END:STANDARD
BEGIN:DAYLIGHT
TZOFFSETFROM:-0500
TZOFFSETTO:-0400
TZNAME:EDT
DTSTART:20190310T070000
END:DAYLIGHT
BEGIN:STANDARD
TZOFFSETFROM:-0400
TZOFFSETTO:-0500
TZNAME:EST
DTSTART:20191103T060000
END:STANDARD
BEGIN:DAYLIGHT
TZOFFSETFROM:-0500
TZOFFSETTO:-0400
TZNAME:EDT
DTSTART:20200308T070000
END:DAYLIGHT
BEGIN:STANDARD
TZOFFSETFROM:-0400
TZOFFSETTO:-0500
TZNAME:EST
DTSTART:20201101T060000
END:STANDARD
END:VTIMEZONE
BEGIN:VEVENT
DTSTART;TZID=America/Toronto:20190403T193000
DTEND;TZID=America/Toronto:20190403T193000
DTSTAMP:20260421T065047
CREATED:20190325T145510Z
LAST-MODIFIED:20190325T151749Z
UID:10000033-1554319800-1554319800@ontariohistoricalsociety.ca
SUMMARY:Weston Historical Society presents "Memories of Weston and C. R. Marchant School"
DESCRIPTION:The Weston Historical Society are pleased to present \n“Memories of Weston and C. R. Marchant School” \nWith Guest Speaker:   Peter Caskey \nWednesday April 3\, 2019 at 7:30 pm \nAt Village of Humber Heights Retirement Home \n2245 Lawrence Ave W \nAll are welcome! \nRefreshments will be served after the meeting.
URL:https://ontariohistoricalsociety.ca/event/weston-historical-society-presents-memories-of-weston-and-c-r-marchant-school/
LOCATION:Village of Humber Heights Retirement Home\, 2245 Lawrence Avenue West\, Etobicoke\, Ontario\, M9P 3W3\, Canada
ATTACH;FMTTYPE=image/jpeg:https://ontariohistoricalsociety.ca/wp-content/uploads/2019/02/NHS-Logo-MINI.jpg
GEO:43.6970955;-79.526899
X-APPLE-STRUCTURED-LOCATION;VALUE=URI;X-ADDRESS=Village of Humber Heights Retirement Home 2245 Lawrence Avenue West Etobicoke Ontario M9P 3W3 Canada;X-APPLE-RADIUS=500;X-TITLE=2245 Lawrence Avenue West:geo:-79.526899,43.6970955
END:VEVENT
END:VCALENDAR