BEGIN:VCALENDAR
VERSION:2.0
PRODID:-//The Ontario Historical Society - ECPv6.15.20//NONSGML v1.0//EN
CALSCALE:GREGORIAN
METHOD:PUBLISH
X-ORIGINAL-URL:https://ontariohistoricalsociety.ca
X-WR-CALDESC:Events for The Ontario Historical Society
REFRESH-INTERVAL;VALUE=DURATION:PT1H
X-Robots-Tag:noindex
X-PUBLISHED-TTL:PT1H
BEGIN:VTIMEZONE
TZID:America/Toronto
BEGIN:DAYLIGHT
TZOFFSETFROM:-0500
TZOFFSETTO:-0400
TZNAME:EDT
DTSTART:20200308T070000
END:DAYLIGHT
BEGIN:STANDARD
TZOFFSETFROM:-0400
TZOFFSETTO:-0500
TZNAME:EST
DTSTART:20201101T060000
END:STANDARD
BEGIN:DAYLIGHT
TZOFFSETFROM:-0500
TZOFFSETTO:-0400
TZNAME:EDT
DTSTART:20210314T070000
END:DAYLIGHT
BEGIN:STANDARD
TZOFFSETFROM:-0400
TZOFFSETTO:-0500
TZNAME:EST
DTSTART:20211107T060000
END:STANDARD
BEGIN:DAYLIGHT
TZOFFSETFROM:-0500
TZOFFSETTO:-0400
TZNAME:EDT
DTSTART:20220313T070000
END:DAYLIGHT
BEGIN:STANDARD
TZOFFSETFROM:-0400
TZOFFSETTO:-0500
TZNAME:EST
DTSTART:20221106T060000
END:STANDARD
END:VTIMEZONE
BEGIN:VEVENT
DTSTART;VALUE=DATE:20210713
DTEND;VALUE=DATE:20210718
DTSTAMP:20260421T063102
CREATED:20210712T145228Z
LAST-MODIFIED:20210712T145228Z
UID:10000293-1626134400-1626566399@ontariohistoricalsociety.ca
SUMMARY:Uxbridge Historical Centre - Heritage Crafts
DESCRIPTION:Stop by the UHC any weekday between 9am-5pm to pick up a fun heritage craft kit to work on at home! This week’s activity is a Hanging Quilt Craft and next week’s activity is a Bookmark Weaving Craft. Heritage craft kits include all materials needed and instructions. Kits are available by donation; suggested donation is $3. \n\nStay tuned on our social media for instructional videos and more craft kits throughout the summer! \nHERITAGE CRAFT KITS.
URL:https://ontariohistoricalsociety.ca/event/heritage-crafts/
LOCATION:Uxbridge Historical Centre\, 7239 Concession Rd 6\, Uxbridge\, Ontario\, L9P 1N5\, Canada
ORGANIZER;CN="Uxbridge Historical Centre":MAILTO:museum@uxbridge.ca
GEO:44.1069902;-79.1457143
X-APPLE-STRUCTURED-LOCATION;VALUE=URI;X-ADDRESS=Uxbridge Historical Centre 7239 Concession Rd 6 Uxbridge Ontario L9P 1N5 Canada;X-APPLE-RADIUS=500;X-TITLE=7239 Concession Rd 6:geo:-79.1457143,44.1069902
END:VEVENT
END:VCALENDAR