BEGIN:VCALENDAR
VERSION:2.0
PRODID:-//The Ontario Historical Society - ECPv6.15.20//NONSGML v1.0//EN
CALSCALE:GREGORIAN
METHOD:PUBLISH
X-ORIGINAL-URL:https://ontariohistoricalsociety.ca
X-WR-CALDESC:Events for The Ontario Historical Society
REFRESH-INTERVAL;VALUE=DURATION:PT1H
X-Robots-Tag:noindex
X-PUBLISHED-TTL:PT1H
BEGIN:VTIMEZONE
TZID:America/Toronto
BEGIN:DAYLIGHT
TZOFFSETFROM:-0500
TZOFFSETTO:-0400
TZNAME:EDT
DTSTART:20250309T070000
END:DAYLIGHT
BEGIN:STANDARD
TZOFFSETFROM:-0400
TZOFFSETTO:-0500
TZNAME:EST
DTSTART:20251102T060000
END:STANDARD
BEGIN:DAYLIGHT
TZOFFSETFROM:-0500
TZOFFSETTO:-0400
TZNAME:EDT
DTSTART:20260308T070000
END:DAYLIGHT
BEGIN:STANDARD
TZOFFSETFROM:-0400
TZOFFSETTO:-0500
TZNAME:EST
DTSTART:20261101T060000
END:STANDARD
BEGIN:DAYLIGHT
TZOFFSETFROM:-0500
TZOFFSETTO:-0400
TZNAME:EDT
DTSTART:20270314T070000
END:DAYLIGHT
BEGIN:STANDARD
TZOFFSETFROM:-0400
TZOFFSETTO:-0500
TZNAME:EST
DTSTART:20271107T060000
END:STANDARD
END:VTIMEZONE
BEGIN:VEVENT
DTSTART;TZID=America/Toronto:20260128T190000
DTEND;TZID=America/Toronto:20260128T210000
DTSTAMP:20260421T064601
CREATED:20260122T145130Z
LAST-MODIFIED:20260122T145130Z
UID:10001678-1769626800-1769634000@ontariohistoricalsociety.ca
SUMMARY:Toronto's Lost Shipwreck
DESCRIPTION:Scarborough Underwater Club Inc.\, University of Toronto Scarborough proudly present ! \n\nBeyond the Familiar: Cultivating Exploration Close to Home \n\n\nJoin Heison Chak\, OUC President and seasoned technical diver\, as he shares the story behind a remarkable discovery beneath Toronto’s waters. \nIn August 2025\, a Canadian dive team ventured into the unknown and uncovered a forgotten wooden schooner resting quietly on the lakebed — a vessel believed to have sailed the Great Lakes in the early days of Toronto’s history. \nThrough photos\, stories\, and insights from the expedition\, discover how curiosity discipline\, and careful planning led to and extraordinary find that connects our present to a long-vanished past. \n\n\n\nWhen: Wednesday\, January 28\, 2026. 7-9PM  \n\n\n\nWhere:  UofT Scarborough campus\, Sam Ibrahim Building\, Room IA-B1100\, parking lot H\n\n\nDeadline to register: Saturday\, January 24\, before midnight.\n\nAll are invited to attend this public event.\n\n\nAddress: 1050 Military Trail\, Toronto ON M1C 1G9\n\nContact Owen Jones <suciowen@gmail.com> with any questions. Please notify us of any last minute cancellations so we can account for refreshment !
URL:https://ontariohistoricalsociety.ca/event/torontos-lost-shipwreck/
LOCATION:University of Toronto\, Scarborough Campus\, 1050 Military Trail\, Toronto\, ON\, M1C 1G9\, Canada
END:VEVENT
END:VCALENDAR