BEGIN:VCALENDAR
VERSION:2.0
PRODID:-//The Ontario Historical Society - ECPv6.15.20//NONSGML v1.0//EN
CALSCALE:GREGORIAN
METHOD:PUBLISH
X-ORIGINAL-URL:https://ontariohistoricalsociety.ca
X-WR-CALDESC:Events for The Ontario Historical Society
REFRESH-INTERVAL;VALUE=DURATION:PT1H
X-Robots-Tag:noindex
X-PUBLISHED-TTL:PT1H
BEGIN:VTIMEZONE
TZID:America/Toronto
BEGIN:DAYLIGHT
TZOFFSETFROM:-0500
TZOFFSETTO:-0400
TZNAME:EDT
DTSTART:20210314T070000
END:DAYLIGHT
BEGIN:STANDARD
TZOFFSETFROM:-0400
TZOFFSETTO:-0500
TZNAME:EST
DTSTART:20211107T060000
END:STANDARD
BEGIN:DAYLIGHT
TZOFFSETFROM:-0500
TZOFFSETTO:-0400
TZNAME:EDT
DTSTART:20220313T070000
END:DAYLIGHT
BEGIN:STANDARD
TZOFFSETFROM:-0400
TZOFFSETTO:-0500
TZNAME:EST
DTSTART:20221106T060000
END:STANDARD
BEGIN:DAYLIGHT
TZOFFSETFROM:-0500
TZOFFSETTO:-0400
TZNAME:EDT
DTSTART:20230312T070000
END:DAYLIGHT
BEGIN:STANDARD
TZOFFSETFROM:-0400
TZOFFSETTO:-0500
TZNAME:EST
DTSTART:20231105T060000
END:STANDARD
END:VTIMEZONE
BEGIN:VEVENT
DTSTART;TZID=America/Toronto:20220730T103000
DTEND;TZID=America/Toronto:20220730T143000
DTSTAMP:20260421T063742
CREATED:20220725T134018Z
LAST-MODIFIED:20220725T134018Z
UID:10000618-1659177000-1659191400@ontariohistoricalsociety.ca
SUMMARY:Ontario Heritage Trust: Emancipation Day 2022
DESCRIPTION:Schedule of activities:\nDebut of new name – Join us for the unveiling of the new site name at Noon \nAmaria Phillips\n10:40 a.m. and 1:45 pm. \nAmaria Phillips is the co-founder and President of Concordia University’s Black Student Union. She’ll present two original works of poetry. \nTracy Cain\n10:50 a.m. and 1:30 p.m. \nGospel musician Tracy Cain is a fifth-generation Black Canadian with roots in North Buxton\, St. Catharines and the Queen’s Bush settlement. Her warm\, smooth vocal stylings are influenced by gospel\, jazz and R&B. \nTerrence Vick\n11 a.m. \nGreat-great-grandson of Josiah Henson\, Reverend Terrence Vick will bring remarks on behalf of the Henson family. \nKwame Delfish\n11:15 a.m. and 1:50 p.m. \nAn artist and designer commissioned by the Royal Canadian Mint to design the Underground Railroad commemorative coin for Black History Month 2022\, Delfish will speak about his creative process and his work in commemorating Black history and the Underground Railroad. \nSusan Cooke Soderberg\n11:35 a.m. \nA public historian and freelance writer from Maryland\, Soderberg is the author of an upcoming biography entitled The Real Josiah Henson: One Man’s Journey from Enslavement to Celebrity. \nHeritage Singers Canada\n11:55 a.m. and 2 p.m. \nA crowd favourite\, Heritage Singers Canada return to Emancipation Day to conduct a musical journey from slavery to freedom. \nAn Enduring Dawn: Dresden’s Black presence since the 19th century\nAll day \nA photographic exhibit highlighting the role people of African descent have played in the early development of the town of Dresden. \nCulture Craft\n10 a.m. to Noon \nAn art activity for kids. \nLunch available for purchase\, with food and desserts from Dresden Sidestreets Youth Centre.
URL:https://ontariohistoricalsociety.ca/event/ontario-heritage-trust-emancipation-day-2022/
LOCATION:Uncle Tom’s Cabin Historic Site\, 29251 Freedom Road\, Dresden\, Ontario\, N0P 1M0\, Canada
GEO:42.5895615;-82.1833144
X-APPLE-STRUCTURED-LOCATION;VALUE=URI;X-ADDRESS=Uncle Tom’s Cabin Historic Site 29251 Freedom Road Dresden Ontario N0P 1M0 Canada;X-APPLE-RADIUS=500;X-TITLE=29251 Freedom Road:geo:-82.1833144,42.5895615
END:VEVENT
END:VCALENDAR