BEGIN:VCALENDAR
VERSION:2.0
PRODID:-//The Ontario Historical Society - ECPv6.15.20//NONSGML v1.0//EN
CALSCALE:GREGORIAN
METHOD:PUBLISH
X-WR-CALNAME:The Ontario Historical Society
X-ORIGINAL-URL:https://ontariohistoricalsociety.ca
X-WR-CALDESC:Events for The Ontario Historical Society
REFRESH-INTERVAL;VALUE=DURATION:PT1H
X-Robots-Tag:noindex
X-PUBLISHED-TTL:PT1H
BEGIN:VTIMEZONE
TZID:America/Toronto
BEGIN:DAYLIGHT
TZOFFSETFROM:-0500
TZOFFSETTO:-0400
TZNAME:EDT
DTSTART:20180311T070000
END:DAYLIGHT
BEGIN:STANDARD
TZOFFSETFROM:-0400
TZOFFSETTO:-0500
TZNAME:EST
DTSTART:20181104T060000
END:STANDARD
BEGIN:DAYLIGHT
TZOFFSETFROM:-0500
TZOFFSETTO:-0400
TZNAME:EDT
DTSTART:20190310T070000
END:DAYLIGHT
BEGIN:STANDARD
TZOFFSETFROM:-0400
TZOFFSETTO:-0500
TZNAME:EST
DTSTART:20191103T060000
END:STANDARD
BEGIN:DAYLIGHT
TZOFFSETFROM:-0500
TZOFFSETTO:-0400
TZNAME:EDT
DTSTART:20200308T070000
END:DAYLIGHT
BEGIN:STANDARD
TZOFFSETFROM:-0400
TZOFFSETTO:-0500
TZNAME:EST
DTSTART:20201101T060000
END:STANDARD
END:VTIMEZONE
BEGIN:VEVENT
DTSTART;TZID=America/Toronto:20190401T180000
DTEND;TZID=America/Toronto:20190401T210000
DTSTAMP:20260421T095937
CREATED:20190325T181317Z
LAST-MODIFIED:20190325T181317Z
UID:10000042-1554141600-1554152400@ontariohistoricalsociety.ca
SUMMARY:West Willowdale Neighbourhood Association Community Safety Event 2019
DESCRIPTION:Join Councillor John Filion\, representatives of Toronto Police Service 32 Division\, WWNA and Edithvale Yonge Community association for a discussion on community safety in our area. \nMONDAY APRIL 1ST ~ 6:00 PM – 8:00 PM \n374 Sheppard Avenue East ~ Peoples Church \nShare your thoughts and bring your questions as we discuss community safety strategies for safer neighbourhoods including preventing break-ins\, safer parks and green spaces and traffic safety.
URL:https://ontariohistoricalsociety.ca/event/west-willowdale-neighbourhood-association-community-safety-event-2019/
LOCATION:The Peoples Church\, 374 Sheppard Ave E\, North York\, ON\, M2N 3B6\, Canada
ATTACH;FMTTYPE=image/png:https://ontariohistoricalsociety.ca/wp-content/uploads/2019/03/west-willowdale-neighbourhood-association-logo.png
ORGANIZER;CN="West Willowdale Neighbourhood Association":MAILTO:westwillowdale@gmail.com
GEO:43.7659298;-79.3938452
X-APPLE-STRUCTURED-LOCATION;VALUE=URI;X-ADDRESS=The Peoples Church 374 Sheppard Ave E North York ON M2N 3B6 Canada;X-APPLE-RADIUS=500;X-TITLE=374 Sheppard Ave E:geo:-79.3938452,43.7659298
END:VEVENT
END:VCALENDAR