BEGIN:VCALENDAR
VERSION:2.0
PRODID:-//The Ontario Historical Society - ECPv6.15.20//NONSGML v1.0//EN
CALSCALE:GREGORIAN
METHOD:PUBLISH
X-WR-CALNAME:The Ontario Historical Society
X-ORIGINAL-URL:https://ontariohistoricalsociety.ca
X-WR-CALDESC:Events for The Ontario Historical Society
REFRESH-INTERVAL;VALUE=DURATION:PT1H
X-Robots-Tag:noindex
X-PUBLISHED-TTL:PT1H
BEGIN:VTIMEZONE
TZID:America/Toronto
BEGIN:DAYLIGHT
TZOFFSETFROM:-0500
TZOFFSETTO:-0400
TZNAME:EDT
DTSTART:20220313T070000
END:DAYLIGHT
BEGIN:STANDARD
TZOFFSETFROM:-0400
TZOFFSETTO:-0500
TZNAME:EST
DTSTART:20221106T060000
END:STANDARD
BEGIN:DAYLIGHT
TZOFFSETFROM:-0500
TZOFFSETTO:-0400
TZNAME:EDT
DTSTART:20230312T070000
END:DAYLIGHT
BEGIN:STANDARD
TZOFFSETFROM:-0400
TZOFFSETTO:-0500
TZNAME:EST
DTSTART:20231105T060000
END:STANDARD
BEGIN:DAYLIGHT
TZOFFSETFROM:-0500
TZOFFSETTO:-0400
TZNAME:EDT
DTSTART:20240310T070000
END:DAYLIGHT
BEGIN:STANDARD
TZOFFSETFROM:-0400
TZOFFSETTO:-0500
TZNAME:EST
DTSTART:20241103T060000
END:STANDARD
END:VTIMEZONE
BEGIN:VEVENT
DTSTART;TZID=America/Toronto:20230416T140000
DTEND;TZID=America/Toronto:20230416T160000
DTSTAMP:20260421T115934
CREATED:20230414T140640Z
LAST-MODIFIED:20230414T140640Z
UID:10000936-1681653600-1681660800@ontariohistoricalsociety.ca
SUMMARY:Myseum of Toronto: BEYOND PERIPHERY: Exhibition Launch & Documentary Roundtable
DESCRIPTION:Part of the Intersections Festival 2023 collection \nNo Silence on Race + the Ontario Jewish Archives invite you to the launch of this unique exhibition as a part of the Intersections festival. \nLearn about the ways that multi-ethnic Jewish people in Ontario share their experiences and explore ideas of representation\, intersectionality\, ethnicity\, race\, and sexuality.\nWe’ll be celebrating the launch of this exhibition with a roundtable discussion\, performances from some of Periphery’s participants\, and food + drink. \nPeriphery\, the documentary\, was filmed and photographed two years ago. Where is Toronto’s Jewish community now with these conversations both within and outside of Jewish communal spaces? And\, how do their experiences continue to translate within the context of the city? Explore these reflections in this exhibition and roundtable discussion. \nAll are welcome to join us in exploring these questions at this exhibition launch party! \nAbout the Roundtable Discussion \nThere will be an exclusive Q&A with the director of the Periphery documentary and a selection of the film’s participants\, whose stories are also featured in this exhibition. \nThis roundtable discussion will explore speakers’ various multi-ethnic Jewish identities (e.g. mixed heritage\, hyphenated identities\, etc.)\, which are highlighted in the film and the exhibit.
URL:https://ontariohistoricalsociety.ca/event/myseum-of-toronto-beyond-periphery-exhibition-launch-documentary-roundtable/
LOCATION:The Lyceum Gallery\, 969 Queen Street West\, Toronto\, Ontario\, M6J 2V1\, Canada
ORGANIZER;CN="Myseum of Toronto":MAILTO:info@myseumoftoronto.com
GEO:43.6448935;-79.4148154
X-APPLE-STRUCTURED-LOCATION;VALUE=URI;X-ADDRESS=The Lyceum Gallery 969 Queen Street West Toronto Ontario M6J 2V1 Canada;X-APPLE-RADIUS=500;X-TITLE=969 Queen Street West:geo:-79.4148154,43.6448935
END:VEVENT
END:VCALENDAR