BEGIN:VCALENDAR
VERSION:2.0
PRODID:-//The Ontario Historical Society - ECPv6.15.20//NONSGML v1.0//EN
CALSCALE:GREGORIAN
METHOD:PUBLISH
X-ORIGINAL-URL:https://ontariohistoricalsociety.ca
X-WR-CALDESC:Events for The Ontario Historical Society
REFRESH-INTERVAL;VALUE=DURATION:PT1H
X-Robots-Tag:noindex
X-PUBLISHED-TTL:PT1H
BEGIN:VTIMEZONE
TZID:America/Toronto
BEGIN:DAYLIGHT
TZOFFSETFROM:-0500
TZOFFSETTO:-0400
TZNAME:EDT
DTSTART:20240310T070000
END:DAYLIGHT
BEGIN:STANDARD
TZOFFSETFROM:-0400
TZOFFSETTO:-0500
TZNAME:EST
DTSTART:20241103T060000
END:STANDARD
BEGIN:DAYLIGHT
TZOFFSETFROM:-0500
TZOFFSETTO:-0400
TZNAME:EDT
DTSTART:20250309T070000
END:DAYLIGHT
BEGIN:STANDARD
TZOFFSETFROM:-0400
TZOFFSETTO:-0500
TZNAME:EST
DTSTART:20251102T060000
END:STANDARD
BEGIN:DAYLIGHT
TZOFFSETFROM:-0500
TZOFFSETTO:-0400
TZNAME:EDT
DTSTART:20260308T070000
END:DAYLIGHT
BEGIN:STANDARD
TZOFFSETFROM:-0400
TZOFFSETTO:-0500
TZNAME:EST
DTSTART:20261101T060000
END:STANDARD
END:VTIMEZONE
BEGIN:VEVENT
DTSTART;TZID=America/Toronto:20250916T180000
DTEND;TZID=America/Toronto:20250916T200000
DTSTAMP:20260421T101616
CREATED:20250819T140740Z
LAST-MODIFIED:20250819T140740Z
UID:10001587-1758045600-1758052800@ontariohistoricalsociety.ca
SUMMARY:Kawartha Lakes Tourism September Speaker "Why Museums Matter"
DESCRIPTION:The Kawartha Lakes Culture Team invites you to the third installment of Connections and Conversation\, in partnership with Alison Drummond\, Executive Director of the Ontario Museum Association\, for a discussion on the topic: Why Museums Matter. \nAlison will explore the ongoing relevance and importance of museums in our society. Her presentation will delve into the evolving landscape of government priorities at the federal\, provincial\, and municipal levels\, highlighting what is shifting and what remains constant. She will examine how these policy changes and continuities impact museums—both in terms of funding and strategic direction—as well as the broader implications for the communities they serve. Through this discussion\, Alison aims to shed light on the role museums play in public life and how they can adapt to meet the needs of a changing world.
URL:https://ontariohistoricalsociety.ca/event/kawartha-lakes-tourism-september-speaker-why-museums-matter/
LOCATION:The City of Kawartha Lakes City Hall\, 26 Francis Street\, Lindsay\, ON\, K9V 5R8\, Canada
END:VEVENT
END:VCALENDAR