BEGIN:VCALENDAR
VERSION:2.0
PRODID:-//The Ontario Historical Society - ECPv6.15.20//NONSGML v1.0//EN
CALSCALE:GREGORIAN
METHOD:PUBLISH
X-WR-CALNAME:The Ontario Historical Society
X-ORIGINAL-URL:https://ontariohistoricalsociety.ca
X-WR-CALDESC:Events for The Ontario Historical Society
REFRESH-INTERVAL;VALUE=DURATION:PT1H
X-Robots-Tag:noindex
X-PUBLISHED-TTL:PT1H
BEGIN:VTIMEZONE
TZID:America/Toronto
BEGIN:DAYLIGHT
TZOFFSETFROM:-0500
TZOFFSETTO:-0400
TZNAME:EDT
DTSTART:20170312T070000
END:DAYLIGHT
BEGIN:STANDARD
TZOFFSETFROM:-0400
TZOFFSETTO:-0500
TZNAME:EST
DTSTART:20171105T060000
END:STANDARD
BEGIN:DAYLIGHT
TZOFFSETFROM:-0500
TZOFFSETTO:-0400
TZNAME:EDT
DTSTART:20180311T070000
END:DAYLIGHT
BEGIN:STANDARD
TZOFFSETFROM:-0400
TZOFFSETTO:-0500
TZNAME:EST
DTSTART:20181104T060000
END:STANDARD
BEGIN:DAYLIGHT
TZOFFSETFROM:-0500
TZOFFSETTO:-0400
TZNAME:EDT
DTSTART:20190310T070000
END:DAYLIGHT
BEGIN:STANDARD
TZOFFSETFROM:-0400
TZOFFSETTO:-0500
TZNAME:EST
DTSTART:20191103T060000
END:STANDARD
BEGIN:DAYLIGHT
TZOFFSETFROM:-0500
TZOFFSETTO:-0400
TZNAME:EDT
DTSTART:20200308T070000
END:DAYLIGHT
BEGIN:STANDARD
TZOFFSETFROM:-0400
TZOFFSETTO:-0500
TZNAME:EST
DTSTART:20201101T060000
END:STANDARD
BEGIN:DAYLIGHT
TZOFFSETFROM:-0500
TZOFFSETTO:-0400
TZNAME:EDT
DTSTART:20210314T070000
END:DAYLIGHT
BEGIN:STANDARD
TZOFFSETFROM:-0400
TZOFFSETTO:-0500
TZNAME:EST
DTSTART:20211107T060000
END:STANDARD
BEGIN:DAYLIGHT
TZOFFSETFROM:-0500
TZOFFSETTO:-0400
TZNAME:EDT
DTSTART:20220313T070000
END:DAYLIGHT
BEGIN:STANDARD
TZOFFSETFROM:-0400
TZOFFSETTO:-0500
TZNAME:EST
DTSTART:20221106T060000
END:STANDARD
BEGIN:DAYLIGHT
TZOFFSETFROM:-0500
TZOFFSETTO:-0400
TZNAME:EDT
DTSTART:20230312T070000
END:DAYLIGHT
BEGIN:STANDARD
TZOFFSETFROM:-0400
TZOFFSETTO:-0500
TZNAME:EST
DTSTART:20231105T060000
END:STANDARD
BEGIN:DAYLIGHT
TZOFFSETFROM:-0500
TZOFFSETTO:-0400
TZNAME:EDT
DTSTART:20240310T070000
END:DAYLIGHT
BEGIN:STANDARD
TZOFFSETFROM:-0400
TZOFFSETTO:-0500
TZNAME:EST
DTSTART:20241103T060000
END:STANDARD
END:VTIMEZONE
BEGIN:VEVENT
DTSTART;TZID=America/Toronto:20231206T200000
DTEND;TZID=America/Toronto:20231206T200000
DTSTAMP:20260420T195053
CREATED:20231113T143924Z
LAST-MODIFIED:20231113T143924Z
UID:10001227-1701892800-1701892800@ontariohistoricalsociety.ca
SUMMARY:Swansea Historical Society Monthly Meeting - An Immersive Journey Through the History of Tap Dancing
DESCRIPTION:Join us on Wednesday\, December 6 at 8 p.m. for an immersive journey through tap dance history\, beautifully narrated through storytelling and dance. With over 300 years of evolution\, this art form has a rich and complex past that intertwines with jazz music and jazz movements. \nSpeakers (and dancers!) Trina Josdal & Amy Lintunen are co-directors of Vintage Taps\, a vaudeville inspired tap dance company. They are dance instructors at Swansea School of Dance and active members of the Swansea community. \nThis meeting will be offered as a hybrid meeting\, but given the nature of this topic\, which will include live dance\, the event will be best experienced in-person\, on location\, at Swansea Town Hall\, Rousseau Room. For those who still prefer to join us online\, you can join us via Zoom using the links on our WEBSITE.
URL:https://ontariohistoricalsociety.ca/event/swansea-historical-society-monthly-meeting-an-immersive-journey-through-the-history-of-tap-dancing/
LOCATION:Swansea Town Hall\, 95 Lavinia Ave.\, Toronto\, Ontario\, M6S 3H9\, Canada
ORGANIZER;CN="Swansea Historical Society":MAILTO:swanseahistoricalsociety@gmail.com
GEO:43.647655;-79.4778149
X-APPLE-STRUCTURED-LOCATION;VALUE=URI;X-ADDRESS=Swansea Town Hall 95 Lavinia Ave. Toronto Ontario M6S 3H9 Canada;X-APPLE-RADIUS=500;X-TITLE=95 Lavinia Ave.:geo:-79.4778149,43.647655
END:VEVENT
BEGIN:VEVENT
DTSTART;TZID=America/Toronto:20231101T194500
DTEND;TZID=America/Toronto:20231101T194500
DTSTAMP:20260420T195053
CREATED:20230915T145659Z
LAST-MODIFIED:20230915T145659Z
UID:10001156-1698867900-1698867900@ontariohistoricalsociety.ca
SUMMARY:Swansea Historical Society (Virtual and In-Person): 2023 November Meeting
DESCRIPTION:Speakers: Katy Whitfield and Ian DaSilva – “They Walked These Streets; We Will Remember Them” \nKaty and Ian will be expanding their interactive WWI and WWII Remembrance Day soldier memorials all the way south to Lake Ontario this year. They will talk about their projects commemorating local soldiers who lost their lives during the World Wars and include specifics relating to our Swansea area. \nInformation about their initiatives from previous years can be found at https://wtjhs.ca/2022/10/26/general-meeting-october-6-2022. \nThe November meeting will be conducted in a hybrid format so that participants can attend in-person at the Swansea Town Hall or connect on-line using the Zoom tool. Zoom links will be provided closer to the meeting date. The Zoom connection will be open by 7:45 pm on November 1. If possible\, we suggest that on-line participants start tuning in as soon as the link is open\, so that we can be ready to kick off the meeting at 8 pm. \nVisitors Welcome! Light Refreshments!
URL:https://ontariohistoricalsociety.ca/event/swansea-historical-society-virtual-and-in-person-2023-november-meeting/
LOCATION:Swansea Town Hall\, 95 Lavinia Ave.\, Toronto\, Ontario\, M6S 3H9\, Canada
ORGANIZER;CN="Swansea Historical Society":MAILTO:swanseahistoricalsociety@gmail.com
GEO:43.647655;-79.4778149
X-APPLE-STRUCTURED-LOCATION;VALUE=URI;X-ADDRESS=Swansea Town Hall 95 Lavinia Ave. Toronto Ontario M6S 3H9 Canada;X-APPLE-RADIUS=500;X-TITLE=95 Lavinia Ave.:geo:-79.4778149,43.647655
END:VEVENT
BEGIN:VEVENT
DTSTART;TZID=America/Toronto:20231004T193000
DTEND;TZID=America/Toronto:20231004T193000
DTSTAMP:20260420T195053
CREATED:20230915T145145Z
LAST-MODIFIED:20230915T145248Z
UID:10001155-1696447800-1696447800@ontariohistoricalsociety.ca
SUMMARY:Swansea Historical Society (Virtual and In-Person): 2023 October Meeting
DESCRIPTION:Wed. Oct. 4 — Rousseau Room – Swansea Town Hall \nSPEAKER: Cameron Tolton “From Junction High School to World Class Collegiate Institute: The Story of Humberside” \nHumberside Collegiate in the west end of Toronto has a history dating back to 1892. Cam is the son of a long-time Humberside teacher\, and has an intimate knowledge of the school’s archives. Given the timing of back-to-school\, this should be a great topic for other alumni\, and for families who might just be starting their own Humberside journey! \nThe October meeting will be conducted in a hybrid format so that participants can attend in-person at the Swansea Town Hall or connect on-line using the Zoom tool. Zoom links will be provided closer to the meeting date. The evening’s programme will start at 7:30 pm with a brief Annual General Meeting (AGM) and Elections. We request that members be on time\, so that we can achieve a quorum for the AGM. We will move on to Professor Tolton’s presentation about 8:00 pm. \nVisitors Welcome! Light Refreshments!
URL:https://ontariohistoricalsociety.ca/event/swansea-historical-society-virtual-and-in-person-2023-october-meeting/
LOCATION:Swansea Town Hall\, 95 Lavinia Ave.\, Toronto\, Ontario\, M6S 3H9\, Canada
ORGANIZER;CN="Swansea Historical Society":MAILTO:swanseahistoricalsociety@gmail.com
GEO:43.647655;-79.4778149
X-APPLE-STRUCTURED-LOCATION;VALUE=URI;X-ADDRESS=Swansea Town Hall 95 Lavinia Ave. Toronto Ontario M6S 3H9 Canada;X-APPLE-RADIUS=500;X-TITLE=95 Lavinia Ave.:geo:-79.4778149,43.647655
END:VEVENT
BEGIN:VEVENT
DTSTART;TZID=America/Toronto:20191106T191500
DTEND;TZID=America/Toronto:20191106T191500
DTSTAMP:20260420T195053
CREATED:20181120T161841Z
LAST-MODIFIED:20190125T223943Z
UID:10000007-1573067700-1573067700@ontariohistoricalsociety.ca
SUMMARY:Swansea Historical Society November 2019 Meeting
DESCRIPTION:Speaker: Richard Jordan – “Hurricane Hazel and its Legacy” \n2019 marks the 65th anniversary of Hurricane Hazel\, the most deadly natural disaster in recorded history to hit southern Ontario. Many of the deaths occurred in the valley of the Humber River. With a background in surveying\, Richard Jordan recently retired from the City of Mississauga\, where he was responsible for the property-mapping database and municipal addressing. He is a former President of the Etobicoke Historical Society\, and he has written local-history columns for the Etobicoke Guardian and Toronto Star. \n 
URL:https://ontariohistoricalsociety.ca/event/swansea-historical-society-november-2019-meeting/
LOCATION:Swansea Town Hall\, 95 Lavinia Ave.\, Toronto\, Ontario\, M6S 3H9\, Canada
ORGANIZER;CN="Swansea Historical Society":MAILTO:swanseahistoricalsociety@gmail.com
GEO:43.647655;-79.4778149
X-APPLE-STRUCTURED-LOCATION;VALUE=URI;X-ADDRESS=Swansea Town Hall 95 Lavinia Ave. Toronto Ontario M6S 3H9 Canada;X-APPLE-RADIUS=500;X-TITLE=95 Lavinia Ave.:geo:-79.4778149,43.647655
END:VEVENT
BEGIN:VEVENT
DTSTART;TZID=America/Toronto:20191002T191500
DTEND;TZID=America/Toronto:20191002T191500
DTSTAMP:20260420T195053
CREATED:20181120T161714Z
LAST-MODIFIED:20181120T161714Z
UID:10000008-1570043700-1570043700@ontariohistoricalsociety.ca
SUMMARY:Swansea Historical Society October 2019 Meeting\, AGM & Elections
DESCRIPTION:Speaker: To Be Announced
URL:https://ontariohistoricalsociety.ca/event/swansea-historical-society-october-2019-meeting-agm-elections/
LOCATION:Swansea Town Hall\, 95 Lavinia Ave.\, Toronto\, Ontario\, M6S 3H9\, Canada
ORGANIZER;CN="Swansea Historical Society":MAILTO:swanseahistoricalsociety@gmail.com
GEO:43.647655;-79.4778149
X-APPLE-STRUCTURED-LOCATION;VALUE=URI;X-ADDRESS=Swansea Town Hall 95 Lavinia Ave. Toronto Ontario M6S 3H9 Canada;X-APPLE-RADIUS=500;X-TITLE=95 Lavinia Ave.:geo:-79.4778149,43.647655
END:VEVENT
BEGIN:VEVENT
DTSTART;TZID=America/Toronto:20190501T191500
DTEND;TZID=America/Toronto:20190501T191500
DTSTAMP:20260420T195053
CREATED:20181120T161557Z
LAST-MODIFIED:20181120T161557Z
UID:10000025-1556738100-1556738100@ontariohistoricalsociety.ca
SUMMARY:Swansea Historical Society May 2019 Meeting
DESCRIPTION:Speaker: Alexandra Kim – “A Royal Presentation: Curating the Dress Collection at Kensington Palace” \nHave you ever wondered what it is like to dress like a King or Queen? Learn how to dress “royally” from Alexandra Kim\, formerly a Curator at England’s historic Kensington Palace\, home of the Royal Ceremonial Dress Collection which contains items dating from the 1500s to the present day. After working in a variety of British museums\, Alexandra moved to Canada. She is now a Curator with the City of Toronto\, in charge of Montgomery’s Inn in Etobicoke and Gibson House in North York.
URL:https://ontariohistoricalsociety.ca/event/swansea-historical-society-may-2019-meeting/
LOCATION:Swansea Town Hall\, 95 Lavinia Ave.\, Toronto\, Ontario\, M6S 3H9\, Canada
ORGANIZER;CN="Swansea Historical Society":MAILTO:swanseahistoricalsociety@gmail.com
GEO:43.647655;-79.4778149
X-APPLE-STRUCTURED-LOCATION;VALUE=URI;X-ADDRESS=Swansea Town Hall 95 Lavinia Ave. Toronto Ontario M6S 3H9 Canada;X-APPLE-RADIUS=500;X-TITLE=95 Lavinia Ave.:geo:-79.4778149,43.647655
END:VEVENT
BEGIN:VEVENT
DTSTART;TZID=America/Toronto:20190403T191500
DTEND;TZID=America/Toronto:20190403T191500
DTSTAMP:20260420T195053
CREATED:20181120T150102Z
LAST-MODIFIED:20181120T150102Z
UID:10000018-1554318900-1554318900@ontariohistoricalsociety.ca
SUMMARY:Swansea Historical Society April 2019 Meeting
DESCRIPTION:Speaker: Kelly Mathews – “The Road to Marylake” \nIn 2018\, we enjoyed a most entertaining talk by author Kelly Mathews on the subject of Lady Flora Eaton’s lavish country estate in King Township. We are delighted that Kelly will be returning to talk about the subject of her latest book which deals with “Marylake”\, the neighbouring country estate of Sir Henry Pellatt\, better known as the builder of Casa Loma. (For those wishing to check out these historic properties\, the Eaton estate is now the King Campus of Seneca College\, while the Pellatt Estate is now the site of the Shrine of Our Lady of Grace. The two properties are north of the 15th Sideroad and west of Dufferin Ave). \n  \n 
URL:https://ontariohistoricalsociety.ca/event/swansea-historical-society-march-2019-meeting-2/
LOCATION:Swansea Town Hall\, 95 Lavinia Ave.\, Toronto\, Ontario\, M6S 3H9\, Canada
ORGANIZER;CN="Swansea Historical Society":MAILTO:swanseahistoricalsociety@gmail.com
GEO:43.647655;-79.4778149
X-APPLE-STRUCTURED-LOCATION;VALUE=URI;X-ADDRESS=Swansea Town Hall 95 Lavinia Ave. Toronto Ontario M6S 3H9 Canada;X-APPLE-RADIUS=500;X-TITLE=95 Lavinia Ave.:geo:-79.4778149,43.647655
END:VEVENT
BEGIN:VEVENT
DTSTART;TZID=America/Toronto:20190306T191500
DTEND;TZID=America/Toronto:20190306T191500
DTSTAMP:20260420T195053
CREATED:20181120T145811Z
LAST-MODIFIED:20190214T222715Z
UID:10000017-1551899700-1551899700@ontariohistoricalsociety.ca
SUMMARY:Swansea Historical Society March 2019 Meeting
DESCRIPTION:Speaker: John Maniezzo – “When Swansea Was Dry” \nDid you know that the sale of alcoholic beverages was prohibited in the Province of Ontario between 1916 and 1927\, or that some municipalities\, including Swansea\, were “dry” for even longer periods of time\, under a provision known as “Local Option”? A restaurant partly in Swansea and partly in York Township could serve alcohol in the back half but not the front half. For many years it was thought that the south side of Bloor Street between Jane and Runnymede was legally “dry”\, when in fact it was not. John Maniezzo will talk about these and other quirky stories as he explores the history of alcohol sales in Swansea and its neighbouring municipalities.
URL:https://ontariohistoricalsociety.ca/event/swansea-historical-society-march-2019-meeting/
LOCATION:Swansea Town Hall\, 95 Lavinia Ave.\, Toronto\, Ontario\, M6S 3H9\, Canada
ATTACH;FMTTYPE=image/jpeg:https://ontariohistoricalsociety.ca/wp-content/uploads/2018/11/Swansea-March-2019-small.jpg
ORGANIZER;CN="Swansea Historical Society":MAILTO:swanseahistoricalsociety@gmail.com
GEO:43.647655;-79.4778149
X-APPLE-STRUCTURED-LOCATION;VALUE=URI;X-ADDRESS=Swansea Town Hall 95 Lavinia Ave. Toronto Ontario M6S 3H9 Canada;X-APPLE-RADIUS=500;X-TITLE=95 Lavinia Ave.:geo:-79.4778149,43.647655
END:VEVENT
BEGIN:VEVENT
DTSTART;TZID=America/Toronto:20190206T191500
DTEND;TZID=America/Toronto:20190206T191500
DTSTAMP:20260420T195053
CREATED:20181120T145553Z
LAST-MODIFIED:20181120T145553Z
UID:10000009-1549480500-1549480500@ontariohistoricalsociety.ca
SUMMARY:Swansea Historical Society February 2019 Meeting
DESCRIPTION:Speaker: Gregory Klages – “The Many Deaths of Tom Thomson” \nIn 1917\, shortly before his 40th birthday\, the renowned Canadian landscape artist\, Tom Thomson\, died under mysterious circumstances in Canoe Lake\, Algonquin Park. Was it accidental\, or was he a murder victim? Author Gregory Klages will talk about Tom Thomson and the various theories that have been proposed to explain Thomson’s untimely death. \n 
URL:https://ontariohistoricalsociety.ca/event/swansea-historical-society-february-2019-meeting/
LOCATION:Swansea Town Hall\, 95 Lavinia Ave.\, Toronto\, Ontario\, M6S 3H9\, Canada
ORGANIZER;CN="Swansea Historical Society":MAILTO:swanseahistoricalsociety@gmail.com
GEO:43.647655;-79.4778149
X-APPLE-STRUCTURED-LOCATION;VALUE=URI;X-ADDRESS=Swansea Town Hall 95 Lavinia Ave. Toronto Ontario M6S 3H9 Canada;X-APPLE-RADIUS=500;X-TITLE=95 Lavinia Ave.:geo:-79.4778149,43.647655
END:VEVENT
BEGIN:VEVENT
DTSTART;TZID=America/Toronto:20181205T191500
DTEND;TZID=America/Toronto:20181205T191500
DTSTAMP:20260420T195053
CREATED:20181120T144859Z
LAST-MODIFIED:20181120T145000Z
UID:10000079-1544037300-1544037300@ontariohistoricalsociety.ca
SUMMARY:Swansea Historical Society December 2018 Meeting
DESCRIPTION:Speaker: Plum Johnson – They Left Us Everything \nPlum Johnson is a Canadian writer raised in Oakville\, who won the RBC Taylor Prize in 2015 for her memoir They Left Us Everything. In it\, she describes discovering history in what parents leave behind\, and about the importance of preserving it to make sense of the past. \nVisitors Welcome! Light Refreshments!
URL:https://ontariohistoricalsociety.ca/event/swansea-historical-society-december-2018-meeting/
LOCATION:Swansea Town Hall\, 95 Lavinia Ave.\, Toronto\, Ontario\, M6S 3H9\, Canada
ATTACH;FMTTYPE=image/jpeg:https://ontariohistoricalsociety.ca/wp-content/uploads/2018/11/Swansea-HS-December-2018-Meeting.jpg
ORGANIZER;CN="Swansea Historical Society":MAILTO:swanseahistoricalsociety@gmail.com
GEO:43.647655;-79.4778149
X-APPLE-STRUCTURED-LOCATION;VALUE=URI;X-ADDRESS=Swansea Town Hall 95 Lavinia Ave. Toronto Ontario M6S 3H9 Canada;X-APPLE-RADIUS=500;X-TITLE=95 Lavinia Ave.:geo:-79.4778149,43.647655
END:VEVENT
END:VCALENDAR