BEGIN:VCALENDAR
VERSION:2.0
PRODID:-//The Ontario Historical Society - ECPv6.15.20//NONSGML v1.0//EN
CALSCALE:GREGORIAN
METHOD:PUBLISH
X-ORIGINAL-URL:https://ontariohistoricalsociety.ca
X-WR-CALDESC:Events for The Ontario Historical Society
REFRESH-INTERVAL;VALUE=DURATION:PT1H
X-Robots-Tag:noindex
X-PUBLISHED-TTL:PT1H
BEGIN:VTIMEZONE
TZID:America/Toronto
BEGIN:DAYLIGHT
TZOFFSETFROM:-0500
TZOFFSETTO:-0400
TZNAME:EDT
DTSTART:20210314T070000
END:DAYLIGHT
BEGIN:STANDARD
TZOFFSETFROM:-0400
TZOFFSETTO:-0500
TZNAME:EST
DTSTART:20211107T060000
END:STANDARD
BEGIN:DAYLIGHT
TZOFFSETFROM:-0500
TZOFFSETTO:-0400
TZNAME:EDT
DTSTART:20220313T070000
END:DAYLIGHT
BEGIN:STANDARD
TZOFFSETFROM:-0400
TZOFFSETTO:-0500
TZNAME:EST
DTSTART:20221106T060000
END:STANDARD
BEGIN:DAYLIGHT
TZOFFSETFROM:-0500
TZOFFSETTO:-0400
TZNAME:EDT
DTSTART:20230312T070000
END:DAYLIGHT
BEGIN:STANDARD
TZOFFSETFROM:-0400
TZOFFSETTO:-0500
TZNAME:EST
DTSTART:20231105T060000
END:STANDARD
END:VTIMEZONE
BEGIN:VEVENT
DTSTART;TZID=America/Toronto:20220427T180000
DTEND;TZID=America/Toronto:20220427T200000
DTSTAMP:20260421T082248
CREATED:20220328T163321Z
LAST-MODIFIED:20220425T144753Z
UID:10000515-1651082400-1651089600@ontariohistoricalsociety.ca
SUMMARY:Myseum of Toronto (In-Person and Virtual): Etobicoke Stories of Significance: Artist Talk – Part 2
DESCRIPTION:**This event was originally scheduled for April 13 but was rescheduled to April 27** \n\nStories of Significance: Etobicoke through Indigenous perspectives \nJoin us for an intimate conversation exploring Indigenous histories and narratives through storytelling with renowned Indigenous artists Philip Cote\, Susan Blight and Nyle Johnston. Each of these artists will speak about their experiences working on this project\, identifying sites\, exploring digital mediums and telling stories of significance from an Indigenous perspective. \nThis event will be held in person at the Storefront Gallery at Arts Etobicoke\, as well as livestreamed online. When registering\, please select either an “in-person” or “livestream” ticket\, based on how you would like to attend this event.
URL:https://ontariohistoricalsociety.ca/event/myseum-of-toronto-in-person-and-virtual-etobicoke-stories-of-significance-artist-talk-part-2/
LOCATION:Storefront Gallery at Arts Etobicoke\, 4893a Dundas St W\, Etobicoke\, Ontario\, M9A 1B2\, Canada
ORGANIZER;CN="Myseum of Toronto":MAILTO:info@myseumoftoronto.com
GEO:43.6491214;-79.5282141
X-APPLE-STRUCTURED-LOCATION;VALUE=URI;X-ADDRESS=Storefront Gallery at Arts Etobicoke 4893a Dundas St W Etobicoke Ontario M9A 1B2 Canada;X-APPLE-RADIUS=500;X-TITLE=4893a Dundas St W:geo:-79.5282141,43.6491214
END:VEVENT
BEGIN:VEVENT
DTSTART;TZID=America/Toronto:20220420T180000
DTEND;TZID=America/Toronto:20220420T200000
DTSTAMP:20260421T082248
CREATED:20220328T165253Z
LAST-MODIFIED:20220328T165253Z
UID:10000519-1650477600-1650484800@ontariohistoricalsociety.ca
SUMMARY:Myseum of Toronto: Etobicoke Stories of Significance: Exhibit Reception
DESCRIPTION:An exhibition launch\, with presentations from Indigenous and newcomer artists looking deeper into the histories and ideas behind their projects. Join us for the exhibition reception event to meet the artists and the community.
URL:https://ontariohistoricalsociety.ca/event/myseum-of-toronto-etobicoke-stories-of-significance-exhibit-reception/
LOCATION:Storefront Gallery at Arts Etobicoke\, 4893a Dundas St W\, Etobicoke\, Ontario\, M9A 1B2\, Canada
ORGANIZER;CN="Myseum of Toronto":MAILTO:info@myseumoftoronto.com
GEO:43.6491214;-79.5282141
X-APPLE-STRUCTURED-LOCATION;VALUE=URI;X-ADDRESS=Storefront Gallery at Arts Etobicoke 4893a Dundas St W Etobicoke Ontario M9A 1B2 Canada;X-APPLE-RADIUS=500;X-TITLE=4893a Dundas St W:geo:-79.5282141,43.6491214
END:VEVENT
BEGIN:VEVENT
DTSTART;TZID=America/Toronto:20220406T180000
DTEND;TZID=America/Toronto:20220406T200000
DTSTAMP:20260421T082248
CREATED:20220328T162820Z
LAST-MODIFIED:20220328T162820Z
UID:10000513-1649268000-1649275200@ontariohistoricalsociety.ca
SUMMARY:Myseum of Toronto (In-Person and Virtual): Etobicoke Stories of Significance: Artist Talk – Part 1
DESCRIPTION:Stories of Significance: Etobicoke through immigrants’ perspective \nJoin us for an intimate conversation exploring the history and lived experiences of newcomers and their journey of making and calling Etobicoke home with Khadija Aziz\, Nicolas Sanchez\, and Khaula Mazhar. Each artist will share their experiences working on this project – identifying sites\, exploring digital mediums and telling stories of significance from the perspective of immigrants in relation to changing demographics and history. \nThis event will be held in person at the Storefront Gallery at Arts Etobicoke\, as well as livestreamed online. When registering\, please select either an “in-person” or “livestream” ticket\, based on how you would like to attend this event.
URL:https://ontariohistoricalsociety.ca/event/myseum-of-toronto-in-person-and-virtual-etobicoke-stories-of-significance-artist-talk-part-1/
LOCATION:Storefront Gallery at Arts Etobicoke\, 4893a Dundas St W\, Etobicoke\, Ontario\, M9A 1B2\, Canada
ORGANIZER;CN="Myseum of Toronto":MAILTO:info@myseumoftoronto.com
GEO:43.6491214;-79.5282141
X-APPLE-STRUCTURED-LOCATION;VALUE=URI;X-ADDRESS=Storefront Gallery at Arts Etobicoke 4893a Dundas St W Etobicoke Ontario M9A 1B2 Canada;X-APPLE-RADIUS=500;X-TITLE=4893a Dundas St W:geo:-79.5282141,43.6491214
END:VEVENT
END:VCALENDAR