BEGIN:VCALENDAR
VERSION:2.0
PRODID:-//The Ontario Historical Society - ECPv6.15.20//NONSGML v1.0//EN
CALSCALE:GREGORIAN
METHOD:PUBLISH
X-WR-CALNAME:The Ontario Historical Society
X-ORIGINAL-URL:https://ontariohistoricalsociety.ca
X-WR-CALDESC:Events for The Ontario Historical Society
REFRESH-INTERVAL;VALUE=DURATION:PT1H
X-Robots-Tag:noindex
X-PUBLISHED-TTL:PT1H
BEGIN:VTIMEZONE
TZID:America/Toronto
BEGIN:DAYLIGHT
TZOFFSETFROM:-0500
TZOFFSETTO:-0400
TZNAME:EDT
DTSTART:20210314T070000
END:DAYLIGHT
BEGIN:STANDARD
TZOFFSETFROM:-0400
TZOFFSETTO:-0500
TZNAME:EST
DTSTART:20211107T060000
END:STANDARD
BEGIN:DAYLIGHT
TZOFFSETFROM:-0500
TZOFFSETTO:-0400
TZNAME:EDT
DTSTART:20220313T070000
END:DAYLIGHT
BEGIN:STANDARD
TZOFFSETFROM:-0400
TZOFFSETTO:-0500
TZNAME:EST
DTSTART:20221106T060000
END:STANDARD
BEGIN:DAYLIGHT
TZOFFSETFROM:-0500
TZOFFSETTO:-0400
TZNAME:EDT
DTSTART:20230312T070000
END:DAYLIGHT
BEGIN:STANDARD
TZOFFSETFROM:-0400
TZOFFSETTO:-0500
TZNAME:EST
DTSTART:20231105T060000
END:STANDARD
BEGIN:DAYLIGHT
TZOFFSETFROM:-0500
TZOFFSETTO:-0400
TZNAME:EDT
DTSTART:20240310T070000
END:DAYLIGHT
BEGIN:STANDARD
TZOFFSETFROM:-0400
TZOFFSETTO:-0500
TZNAME:EST
DTSTART:20241103T060000
END:STANDARD
END:VTIMEZONE
BEGIN:VEVENT
DTSTART;TZID=America/Toronto:20230923T130000
DTEND;TZID=America/Toronto:20230923T130000
DTSTAMP:20260421T050400
CREATED:20230918T170649Z
LAST-MODIFIED:20230918T170649Z
UID:10001160-1695474000-1695474000@ontariohistoricalsociety.ca
SUMMARY:Kingston & District Branch UELAC (Virtual and In-Person): September 2023 Meeting
DESCRIPTION:The next Kingston and District Branch meeting will be held Saturday\, September 23 at 1:00 p.m.\, either in-person at St. Paul’s Church Hall or via Zoom. Richard Parry will be speaking on The History of the Heritage Cemetery and it’s Associated Churches. If you are unable to join in person\, join in by Zoom at this link at 12:30 p.m.
URL:https://ontariohistoricalsociety.ca/event/kingston-district-branch-uelac-virtual-and-in-person-september-2023-meeting/
LOCATION:St. Paul’s Anglican Church\, Kingston\, 137 Queen St.\, Kingston\, Ontario\, K7K 1A8\, Canada
ORGANIZER;CN="Kingston & District Branch UELAC":MAILTO:kingston.uelac@gmail.com
GEO:44.2332955;-76.4847651
X-APPLE-STRUCTURED-LOCATION;VALUE=URI;X-ADDRESS=St. Paul’s Anglican Church Kingston 137 Queen St. Kingston Ontario K7K 1A8 Canada;X-APPLE-RADIUS=500;X-TITLE=137 Queen St.:geo:-76.4847651,44.2332955
END:VEVENT
BEGIN:VEVENT
DTSTART;TZID=America/Toronto:20230422T130000
DTEND;TZID=America/Toronto:20230422T130000
DTSTAMP:20260421T050400
CREATED:20230414T155709Z
LAST-MODIFIED:20230414T155709Z
UID:10000950-1682168400-1682168400@ontariohistoricalsociety.ca
SUMMARY:Kingston & District Branch UELAC (In-Person and Virtual): "Fort Frontenac" by Jean Rae Baxter
DESCRIPTION:Kingston & District Branch UELAC meets on Saturday\, April 22 at 1:00 pm. This will be a Hybrid presentation with many of us in person at St. Paul’s Hall\, 137 Queen Street\, Kingston (doors open at 12:30 p.m.) Others will join us by Zoom about 1:00 pm. \nOur Speaker will be Jean Rae Baxter with a talk called “Fort Frontenac: The Rise and Fall of New France’s Key to the West.” This presentation follows the fortunes of Fort Frontenac over the centuries — how it was knocked down\, rebuilt\, abandoned\, rebuilt\, blown up\, rebuilt again\, destroyed by the British in the last days of New France and\, finally\, became the site for the Loyalist settlement at Cataraqui following the American Revolution. And it all began with the beaver. \nNo registration required\, link.
URL:https://ontariohistoricalsociety.ca/event/kingston-district-branch-uelac-in-person-and-virtual-fort-frontenac-by-jean-rae-baxter/
LOCATION:St. Paul’s Anglican Church\, Kingston\, 137 Queen St.\, Kingston\, Ontario\, K7K 1A8\, Canada
ORGANIZER;CN="Kingston & District Branch UELAC":MAILTO:kingston.uelac@gmail.com
GEO:44.2332955;-76.4847651
X-APPLE-STRUCTURED-LOCATION;VALUE=URI;X-ADDRESS=St. Paul’s Anglican Church Kingston 137 Queen St. Kingston Ontario K7K 1A8 Canada;X-APPLE-RADIUS=500;X-TITLE=137 Queen St.:geo:-76.4847651,44.2332955
END:VEVENT
BEGIN:VEVENT
DTSTART;TZID=America/Toronto:20221126T130000
DTEND;TZID=America/Toronto:20221126T130000
DTSTAMP:20260421T050400
CREATED:20221114T180626Z
LAST-MODIFIED:20221114T180626Z
UID:10000798-1669467600-1669467600@ontariohistoricalsociety.ca
SUMMARY:Kingston & District Branch UELAC (In-Person and Virtual): The Treaty of Niagara (1764)
DESCRIPTION:Author Nathan Tidridge is the speaker. \nThis is a hybrid meeting. To attend in person: 137 Queen Street\, St. Paul’s Anglican Church Hall\, access off Montreal Street. Arrive after 12:30 pm\, possibly with a bagged lunch. This will be our AGM. \nTo join by Zoom\, visit uelac.org/Kingston-Branch/ after 12:45pm\, Sat Nov 26\, and click the link under EVENTS. \nAll are welcome for this free event.
URL:https://ontariohistoricalsociety.ca/event/kingston-district-branch-uelac-in-person-and-virtual-the-treaty-of-niagara-1764/
LOCATION:St. Paul’s Anglican Church\, Kingston\, 137 Queen St.\, Kingston\, Ontario\, K7K 1A8\, Canada
ORGANIZER;CN="Kingston & District Branch UELAC":MAILTO:kingston.uelac@gmail.com
GEO:44.2332955;-76.4847651
X-APPLE-STRUCTURED-LOCATION;VALUE=URI;X-ADDRESS=St. Paul’s Anglican Church Kingston 137 Queen St. Kingston Ontario K7K 1A8 Canada;X-APPLE-RADIUS=500;X-TITLE=137 Queen St.:geo:-76.4847651,44.2332955
END:VEVENT
END:VCALENDAR