BEGIN:VCALENDAR
VERSION:2.0
PRODID:-//The Ontario Historical Society - ECPv6.15.20//NONSGML v1.0//EN
CALSCALE:GREGORIAN
METHOD:PUBLISH
X-WR-CALNAME:The Ontario Historical Society
X-ORIGINAL-URL:https://ontariohistoricalsociety.ca
X-WR-CALDESC:Events for The Ontario Historical Society
REFRESH-INTERVAL;VALUE=DURATION:PT1H
X-Robots-Tag:noindex
X-PUBLISHED-TTL:PT1H
BEGIN:VTIMEZONE
TZID:America/Toronto
BEGIN:DAYLIGHT
TZOFFSETFROM:-0500
TZOFFSETTO:-0400
TZNAME:EDT
DTSTART:20250309T070000
END:DAYLIGHT
BEGIN:STANDARD
TZOFFSETFROM:-0400
TZOFFSETTO:-0500
TZNAME:EST
DTSTART:20251102T060000
END:STANDARD
BEGIN:DAYLIGHT
TZOFFSETFROM:-0500
TZOFFSETTO:-0400
TZNAME:EDT
DTSTART:20260308T070000
END:DAYLIGHT
BEGIN:STANDARD
TZOFFSETFROM:-0400
TZOFFSETTO:-0500
TZNAME:EST
DTSTART:20261101T060000
END:STANDARD
BEGIN:DAYLIGHT
TZOFFSETFROM:-0500
TZOFFSETTO:-0400
TZNAME:EDT
DTSTART:20270314T070000
END:DAYLIGHT
BEGIN:STANDARD
TZOFFSETFROM:-0400
TZOFFSETTO:-0500
TZNAME:EST
DTSTART:20271107T060000
END:STANDARD
END:VTIMEZONE
BEGIN:VEVENT
DTSTART;TZID=America/Toronto:20260425T190000
DTEND;TZID=America/Toronto:20260425T190000
DTSTAMP:20260420T152136
CREATED:20260420T131206Z
LAST-MODIFIED:20260420T131206Z
UID:10001727-1777143600-1777143600@ontariohistoricalsociety.ca
SUMMARY:Nine Ships 1825 - "Irish and Canadian": An Evening of History\, Heritage and Music
DESCRIPTION:Nine Ships is pleased to support an exciting event in Douro on Saturday\, April 25 at 7pm! Head out to St. Joseph’s Parish Hall for an evening of history\, heritage and music featuring a presentation from Patrick Leahy entitled “Irish and Canadian: Irish Identity in Times of Conflict\,” live music from the Kitchen Party Band and a discussion about new research projects underway in 2026.\n\nAdmission is $5 at the door and both refreshments and a cash bar will be available. If you have any questions or would like to learn more about the event\, please call 705-927-3126 or email pat.leahy17@gmail.com.\n\nWe hope you’ll join us for a memorable evening!
URL:https://ontariohistoricalsociety.ca/event/nine-ships-1825-irish-and-canadian-an-evening-of-history-heritage-and-music/
LOCATION:St. Joseph’s Parish Hall\, 300 County Rd 8\, Douro\, ON\, K0L 2H0\, Canada
ORGANIZER;CN="Nine Ships 1825":MAILTO:nineships1825@gmail.com
END:VEVENT
END:VCALENDAR