BEGIN:VCALENDAR
VERSION:2.0
PRODID:-//The Ontario Historical Society - ECPv6.15.20//NONSGML v1.0//EN
CALSCALE:GREGORIAN
METHOD:PUBLISH
X-WR-CALNAME:The Ontario Historical Society
X-ORIGINAL-URL:https://ontariohistoricalsociety.ca
X-WR-CALDESC:Events for The Ontario Historical Society
REFRESH-INTERVAL;VALUE=DURATION:PT1H
X-Robots-Tag:noindex
X-PUBLISHED-TTL:PT1H
BEGIN:VTIMEZONE
TZID:America/Toronto
BEGIN:DAYLIGHT
TZOFFSETFROM:-0500
TZOFFSETTO:-0400
TZNAME:EDT
DTSTART:20250309T070000
END:DAYLIGHT
BEGIN:STANDARD
TZOFFSETFROM:-0400
TZOFFSETTO:-0500
TZNAME:EST
DTSTART:20251102T060000
END:STANDARD
BEGIN:DAYLIGHT
TZOFFSETFROM:-0500
TZOFFSETTO:-0400
TZNAME:EDT
DTSTART:20260308T070000
END:DAYLIGHT
BEGIN:STANDARD
TZOFFSETFROM:-0400
TZOFFSETTO:-0500
TZNAME:EST
DTSTART:20261101T060000
END:STANDARD
BEGIN:DAYLIGHT
TZOFFSETFROM:-0500
TZOFFSETTO:-0400
TZNAME:EDT
DTSTART:20270314T070000
END:DAYLIGHT
BEGIN:STANDARD
TZOFFSETFROM:-0400
TZOFFSETTO:-0500
TZNAME:EST
DTSTART:20271107T060000
END:STANDARD
END:VTIMEZONE
BEGIN:VEVENT
DTSTART;TZID=America/Toronto:20260502T110000
DTEND;TZID=America/Toronto:20260502T153000
DTSTAMP:20260420T155947
CREATED:20260420T131543Z
LAST-MODIFIED:20260420T131543Z
UID:10001728-1777719600-1777735800@ontariohistoricalsociety.ca
SUMMARY:Lanark County Genealogical Society Community Event
DESCRIPTION:The Lanark County Genealogical Society is pleased to invite members and the wider community to a special Community Event on Saturday\, May 2\, 2026\, celebrating local history\, heritage\, and preservation. \nWe are delighted to gather at St. George’s Anglican Church Hall in Clayton\, as the church marks its 125th anniversary. The day will feature engaging guest speakers\, opportunities to learn more about local history\, and time to connect with others who share an interest in genealogy and heritage. \nThe event begins at 11:00 a.m. with the opening of St. George’s Church for a history talk presented by parishioners\, followed by an exploration of its 1901 origins. Later\, Angela Yach of Ottawa Valley Stonekeepers will present practical guidance on the safe cleaning and preservation of historic stone monuments\, concluding with a hands-on demonstration at St. George’s Cemetery. \nA cold plate lunch\, catered by Barb Drummond\, will be served. Tickets are $20 per person and must be purchased in advance by emailing lcgspresident@gmail.com. \nSeating is limited—reserve your place early to avoid disappointment. Join us for an informative and enjoyable day celebrating Lanark County’s rich history and the importance of preserving it for future generations.
URL:https://ontariohistoricalsociety.ca/event/lanark-county-genealogical-society-community-event/
LOCATION:St. George’s Anglican Chuch\, 2786 Tatlock Rd\, Clayton\, ON\, K0A 1P0\, Canada
END:VEVENT
END:VCALENDAR