BEGIN:VCALENDAR
VERSION:2.0
PRODID:-//The Ontario Historical Society - ECPv6.15.20//NONSGML v1.0//EN
CALSCALE:GREGORIAN
METHOD:PUBLISH
X-ORIGINAL-URL:https://ontariohistoricalsociety.ca
X-WR-CALDESC:Events for The Ontario Historical Society
REFRESH-INTERVAL;VALUE=DURATION:PT1H
X-Robots-Tag:noindex
X-PUBLISHED-TTL:PT1H
BEGIN:VTIMEZONE
TZID:America/Toronto
BEGIN:DAYLIGHT
TZOFFSETFROM:-0500
TZOFFSETTO:-0400
TZNAME:EDT
DTSTART:20210314T070000
END:DAYLIGHT
BEGIN:STANDARD
TZOFFSETFROM:-0400
TZOFFSETTO:-0500
TZNAME:EST
DTSTART:20211107T060000
END:STANDARD
BEGIN:DAYLIGHT
TZOFFSETFROM:-0500
TZOFFSETTO:-0400
TZNAME:EDT
DTSTART:20220313T070000
END:DAYLIGHT
BEGIN:STANDARD
TZOFFSETFROM:-0400
TZOFFSETTO:-0500
TZNAME:EST
DTSTART:20221106T060000
END:STANDARD
BEGIN:DAYLIGHT
TZOFFSETFROM:-0500
TZOFFSETTO:-0400
TZNAME:EDT
DTSTART:20230312T070000
END:DAYLIGHT
BEGIN:STANDARD
TZOFFSETFROM:-0400
TZOFFSETTO:-0500
TZNAME:EST
DTSTART:20231105T060000
END:STANDARD
BEGIN:DAYLIGHT
TZOFFSETFROM:-0500
TZOFFSETTO:-0400
TZNAME:EDT
DTSTART:20240310T070000
END:DAYLIGHT
BEGIN:STANDARD
TZOFFSETFROM:-0400
TZOFFSETTO:-0500
TZNAME:EST
DTSTART:20241103T060000
END:STANDARD
BEGIN:DAYLIGHT
TZOFFSETFROM:-0500
TZOFFSETTO:-0400
TZNAME:EDT
DTSTART:20250309T070000
END:DAYLIGHT
BEGIN:STANDARD
TZOFFSETFROM:-0400
TZOFFSETTO:-0500
TZNAME:EST
DTSTART:20251102T060000
END:STANDARD
END:VTIMEZONE
BEGIN:VEVENT
DTSTART;TZID=America/Toronto:20240803T130000
DTEND;TZID=America/Toronto:20240803T230000
DTSTAMP:20260421T063023
CREATED:20240125T150000Z
LAST-MODIFIED:20240125T150000Z
UID:10001254-1722690000-1722726000@ontariohistoricalsociety.ca
SUMMARY:Halton Black History Awareness Society: 2024 Halton Freedom Celebration Festival
DESCRIPTION:The HBHAS is excited with this year’s Celebration Festival August 3\, 2024 at Spencer Smith Park\, Burlington\, as the lineup is stupendous.  We’re also pround of one of our musical groups\, Blackburn\, in their record breaking 2024\, 9 Maple Blues Award nominations.  Blackburn has played for this festival every year since our incorporation.  Due to their exquisite global promotions\, they will not be joining us this year as they’ve been asked to do a European tour.  Congratulations Blackburn.  We’ll revisit down the road. \n  \nThe musical program this year includes Maple Blues nominated for best new group\, Garnetta Cromwell and DaGroovmasters; Rayzalution – 5 piece all female Reggae phenom; Dejehan Luckystickz Hamilton & Friends; World Class Lou Pomanti & Oakland Stroke; and\, the infamous LTD Connection.  (Bios attaced).  Jazz/soul phenom\, Shelley Hamilton will be joining Luckystickz as Masters of Ceremony.  This exquisite musical entourage will compliment the wide array of multi-cultural crafts\, fashion\, art and storytelling workshops\, and youth activities.  This is a festival you do not want to miss. \n  \nLast years attendance of 5000 will definitely increase\, and the Halton Freedom Festival weekend\, will include an HBHAS Emancipation Flag Raising at Burlington City Hall on Thursday\, August 1st followed by our HBHAS Emancipation Gala Thursday evening at the Burlington Performing Arts Center\, and the 7th Emancipation Art Exhibition taking place August 4th at the Helson Gallery in Halton Hills. \n  \nThe HBHAS is currently accepting vendors to serve multi-cultural cuisine\, and we welcome crafters\, artisans\, storytellers\, genealogists\, historians\, and community service providers to join in the experience and celebrating within the “1st city in the world to acclaim August as Emancipation Month”.  We welcome you and yours to this free celebration festival.
URL:https://ontariohistoricalsociety.ca/event/halton-black-history-awareness-society-2024-halton-freedom-celebration-festival/
LOCATION:Spencer Smith Park\, 1400 Lakeshore Rd.\, Burlington\, Ontario\, L7S 1Y2\, Canada
ORGANIZER;CN="Halton Black History Awareness Society":MAILTO:hbhas2015@gmail.com
GEO:43.3231502;-79.7945855
X-APPLE-STRUCTURED-LOCATION;VALUE=URI;X-ADDRESS=Spencer Smith Park 1400 Lakeshore Rd. Burlington Ontario L7S 1Y2 Canada;X-APPLE-RADIUS=500;X-TITLE=1400 Lakeshore Rd.:geo:-79.7945855,43.3231502
END:VEVENT
BEGIN:VEVENT
DTSTART;TZID=America/Toronto:20220730T120000
DTEND;TZID=America/Toronto:20220730T230000
DTSTAMP:20260421T063023
CREATED:20220705T150607Z
LAST-MODIFIED:20220705T150607Z
UID:10000616-1659182400-1659222000@ontariohistoricalsociety.ca
SUMMARY:2022 Halton Freedom Celebration Festival
DESCRIPTION:Join us for a day of total pleasure!!! Exquisite R&B\, Soul\, Funk\, Reggae\, Salsa\, African Dance and Jazz Fusion complimenting Cultural Crafts\, Tasty Treats (Food Trucks and Multi-Cultural Vendors)\, Community Services\, Youth Activities and Workshops. \nThis free festival is exquisite with multi-cultural crafts\, food trucks\, art\, fashion\, accessories\, cultural and heritage vendors\, youth activities and enormous ambience. Bring your chairs\, umbrellas\, and dancing shoes. See you there!!! \nThe 2022 Halton Freedom Festival will showcase musicians including Blackburn –2016 Juno runners up and recognized by Rolling Stone Magazine as the best blues band in Canada (2015)\, enslaved descendants whose father\, Bobby “Dean” Blackburn\, is recognized on the Mississauga Walk of Fame for bringing R&B into Canada and member of the first black family in Brampton\, Ontario; Dejehan Hamilton (MC) aka. Luckystickz (with band) who is Berklee College of Music’s 1st Steel Drum graduate supporting his scholarship in drumming\, represents Berklee University globally\, has a past playing with Harry Belafonte and is a HBHAS Board Director; and Michael Dunston\, renowned vocalist whose group The Lincolns are recognized as the Best R&B band in Canada and Soul Stew (Bamboo’s original home band of 40+ years)\, We were also pleased to present 11 x Canadian Music Award recipient\, Errol Woodward and his Reggae Band to our audiences and the exceptionally talented Neema Children’s Project from Uganda – 19 talented orphans dancing\, singing and drumming towards fundraising to send school supplies to hospitals and orphanages back home. We are please to have join us this year: Garnetta & Dagroovmasters – a high energy show band that plays and sing the genres of Blues\, Classic Soul & Funk\, and a reflection of Canada’s multicultural society! Garnetta was lead vocalist and drummer for a Toronto’s only female reggae band Sweet Sensation\, performing on the same stage with Platinum/Grammy Award artists like Maxi Priest\, Shabba Ranks\, Shaggy\, Gregory Issacs and Sean Kingston\, Platinum/Grammy award Soul legends\, Percy Sledge\, Dorothy Moore and The Manhattans\, and Carlene Ling\, (aka Vanda Li) Founding Director\, Bling Entertainment & “Black African Caribbean Canadian Artists Unite” (BACCAU) who perform for Black Music Month (June) and Black African Caribbean Canadian Appreciation Month.
URL:https://ontariohistoricalsociety.ca/event/2022-halton-freedom-celebration-festival/
LOCATION:Spencer Smith Park\, 1400 Lakeshore Rd.\, Burlington\, Ontario\, L7S 1Y2\, Canada
ORGANIZER;CN="Halton Black History Awareness Society":MAILTO:hbhas2015@gmail.com
GEO:43.3231502;-79.7945855
X-APPLE-STRUCTURED-LOCATION;VALUE=URI;X-ADDRESS=Spencer Smith Park 1400 Lakeshore Rd. Burlington Ontario L7S 1Y2 Canada;X-APPLE-RADIUS=500;X-TITLE=1400 Lakeshore Rd.:geo:-79.7945855,43.3231502
END:VEVENT
END:VCALENDAR