BEGIN:VCALENDAR
VERSION:2.0
PRODID:-//The Ontario Historical Society - ECPv6.15.20//NONSGML v1.0//EN
CALSCALE:GREGORIAN
METHOD:PUBLISH
X-ORIGINAL-URL:https://ontariohistoricalsociety.ca
X-WR-CALDESC:Events for The Ontario Historical Society
REFRESH-INTERVAL;VALUE=DURATION:PT1H
X-Robots-Tag:noindex
X-PUBLISHED-TTL:PT1H
BEGIN:VTIMEZONE
TZID:America/Toronto
BEGIN:DAYLIGHT
TZOFFSETFROM:-0500
TZOFFSETTO:-0400
TZNAME:EDT
DTSTART:20180311T070000
END:DAYLIGHT
BEGIN:STANDARD
TZOFFSETFROM:-0400
TZOFFSETTO:-0500
TZNAME:EST
DTSTART:20181104T060000
END:STANDARD
BEGIN:DAYLIGHT
TZOFFSETFROM:-0500
TZOFFSETTO:-0400
TZNAME:EDT
DTSTART:20190310T070000
END:DAYLIGHT
BEGIN:STANDARD
TZOFFSETFROM:-0400
TZOFFSETTO:-0500
TZNAME:EST
DTSTART:20191103T060000
END:STANDARD
BEGIN:DAYLIGHT
TZOFFSETFROM:-0500
TZOFFSETTO:-0400
TZNAME:EDT
DTSTART:20200308T070000
END:DAYLIGHT
BEGIN:STANDARD
TZOFFSETFROM:-0400
TZOFFSETTO:-0500
TZNAME:EST
DTSTART:20201101T060000
END:STANDARD
BEGIN:DAYLIGHT
TZOFFSETFROM:-0500
TZOFFSETTO:-0400
TZNAME:EDT
DTSTART:20210314T070000
END:DAYLIGHT
BEGIN:STANDARD
TZOFFSETFROM:-0400
TZOFFSETTO:-0500
TZNAME:EST
DTSTART:20211107T060000
END:STANDARD
BEGIN:DAYLIGHT
TZOFFSETFROM:-0500
TZOFFSETTO:-0400
TZNAME:EDT
DTSTART:20220313T070000
END:DAYLIGHT
BEGIN:STANDARD
TZOFFSETFROM:-0400
TZOFFSETTO:-0500
TZNAME:EST
DTSTART:20221106T060000
END:STANDARD
END:VTIMEZONE
BEGIN:VEVENT
DTSTART;VALUE=DATE:20210829
DTEND;VALUE=DATE:20210830
DTSTAMP:20260421T062921
CREATED:20210804T132602Z
LAST-MODIFIED:20210804T132602Z
UID:10000303-1630195200-1630281599@ontariohistoricalsociety.ca
SUMMARY:Canadian Lighthouses of Lake Superior - Lighthouse Carnival
DESCRIPTION:A new event that was added to the lighthouse program in 2020 was the Lighthouse Carnival which took place on August 29\, 2020. This year’s Carnival will be held August 28\, 2021. Admission and transportation can be purchased via the CLLS Reservation System. \nEntertainment will be provided by the Scott Van Teeffelen Band. The film showing in the gallery will feature the Graham Family in the 1980 CBC production about the life of a lightkeeper. \nCorn on the cob\, fish and chips\, salad\, and other items will be part of the food line up with a BBQ available for people doing their own cooking. \nLighthouse tours are available for new visitors to the island. Monarch butterflies will be attending the event prior to leaving for Mexico. \n\n\n\n\n\n\n\n\nFor those visitors requiring transportation\, there are 3 charters available: \n\n\nDeparting Silver Islet at 9:00 a.m. and arriving Porphyry Island at 9:30 a.m. Leaving Porphyry Island at 4:00 p.m. and arriving at Silver Islet at 4:30 p.m. (Sold Out\, but check Reservation System in case there are seats made available because of cancellations) \n\n\nDeparting Silver Islet at 10:15 a.m. and arriving at Porphyry Island at 10:45 a.m. Leaving Porphyry Island at 5:15 p.m. and arriving at Silver Islet at 5:45 p.m. \n\n\nDeparting Silver Islet at 11:30 a.m. and arriving at Porphyry Island at 12:00 p.m. Leaving Porphyry Island at 6:30 p.m. and arriving at Silver Islet at 7:00 p.m.
URL:https://ontariohistoricalsociety.ca/event/canadian-lighthouses-of-lake-superior-lighthouse-carnival/
LOCATION:Silver Islet Docks\, ON-587\, Unorganized Thunder Bay District\, Ontario\, POT\, Canada
ORGANIZER;CN="Canadian Lighthouses of Lake Superior (CLLS)":MAILTO:canadian.lighthouses@gmail.com
GEO:48.3811691;-89.276729
X-APPLE-STRUCTURED-LOCATION;VALUE=URI;X-ADDRESS=Silver Islet Docks ON-587 Unorganized Thunder Bay District Ontario POT Canada;X-APPLE-RADIUS=500;X-TITLE=ON-587:geo:-89.276729,48.3811691
END:VEVENT
BEGIN:VEVENT
DTSTART;TZID=America/Toronto:20190601T093000
DTEND;TZID=America/Toronto:20190601T180000
DTSTAMP:20260421T062921
CREATED:20190325T162044Z
LAST-MODIFIED:20190325T162458Z
UID:10000031-1559381400-1559412000@ontariohistoricalsociety.ca
SUMMARY:Canadian Lighthouses of Lake Superior June 2019 Porphyry Clean-up (Silver Islet Departure)
DESCRIPTION:Join as a members of the Canadian Lighthouses of Lake Superior for the annual clean up at Porphyry Island Lighthouse. Leave from Silver Islet Dock located at the general store at 9:30am June 1\, 2019 and venture on a 20 minute trip to Porphyry Island 13 km to the east. Arrive for a volunteer work day and leave around suppertime. We are working on several projects from installing docks\, constructing a new sauna\, creating some new staff accommodations and a visitor reception area. At the main lighthouse reserve on the point\, we will be doing spring cleaning\, hanging new curtains in the guest house\, filling up our cistern\, cutting the grass\, and turning the garden over\, and planting\, and finally be moving our outhouse. Leave on the shuttle back to Silver Islet between 4-6pm.
URL:https://ontariohistoricalsociety.ca/event/canadian-lighthouses-of-lake-superior-june-2019-porphyry-clean-up-silver-islet-departure/
LOCATION:Silver Islet Docks\, ON-587\, Unorganized Thunder Bay District\, Ontario\, POT\, Canada
ATTACH;FMTTYPE=image/jpeg:https://ontariohistoricalsociety.ca/wp-content/uploads/2019/03/CLLS.jpg
ORGANIZER;CN="Canadian Lighthouses of Lake Superior (CLLS)":MAILTO:canadian.lighthouses@gmail.com
GEO:48.3811691;-89.276729
X-APPLE-STRUCTURED-LOCATION;VALUE=URI;X-ADDRESS=Silver Islet Docks ON-587 Unorganized Thunder Bay District Ontario POT Canada;X-APPLE-RADIUS=500;X-TITLE=ON-587:geo:-89.276729,48.3811691
END:VEVENT
END:VCALENDAR