BEGIN:VCALENDAR
VERSION:2.0
PRODID:-//The Ontario Historical Society - ECPv6.15.20//NONSGML v1.0//EN
CALSCALE:GREGORIAN
METHOD:PUBLISH
X-ORIGINAL-URL:https://ontariohistoricalsociety.ca
X-WR-CALDESC:Events for The Ontario Historical Society
REFRESH-INTERVAL;VALUE=DURATION:PT1H
X-Robots-Tag:noindex
X-PUBLISHED-TTL:PT1H
BEGIN:VTIMEZONE
TZID:America/Toronto
BEGIN:DAYLIGHT
TZOFFSETFROM:-0500
TZOFFSETTO:-0400
TZNAME:EDT
DTSTART:20250309T070000
END:DAYLIGHT
BEGIN:STANDARD
TZOFFSETFROM:-0400
TZOFFSETTO:-0500
TZNAME:EST
DTSTART:20251102T060000
END:STANDARD
BEGIN:DAYLIGHT
TZOFFSETFROM:-0500
TZOFFSETTO:-0400
TZNAME:EDT
DTSTART:20260308T070000
END:DAYLIGHT
BEGIN:STANDARD
TZOFFSETFROM:-0400
TZOFFSETTO:-0500
TZNAME:EST
DTSTART:20261101T060000
END:STANDARD
BEGIN:DAYLIGHT
TZOFFSETFROM:-0500
TZOFFSETTO:-0400
TZNAME:EDT
DTSTART:20270314T070000
END:DAYLIGHT
BEGIN:STANDARD
TZOFFSETFROM:-0400
TZOFFSETTO:-0500
TZNAME:EST
DTSTART:20271107T060000
END:STANDARD
END:VTIMEZONE
BEGIN:VEVENT
DTSTART;TZID=America/Toronto:20260322T150000
DTEND;TZID=America/Toronto:20260322T150000
DTSTAMP:20260421T075423
CREATED:20260316T172516Z
LAST-MODIFIED:20260316T172613Z
UID:10001708-1774191600-1774191600@ontariohistoricalsociety.ca
SUMMARY:Brock University Department of History - Sankey Lecture “Religion and Politics in Early Eighteenth-Century English Freemasonry"
DESCRIPTION:The Department of History at Brock University invites you to attend this year’s annual Dr. Charles A. Sankey Lecture in Masonic Studies.\nOur lecture this year is by Dr. Susan Mitchell Sommers (Saint Vincent College\, Latrobe\, Pennsylvania). In her talk\, entitled\, “Scenes From a Biography of James Anderson: Religion and Politics in Early Eighteenth-Century English Freemasonry\,” Dr. Mason will explore the intellectual and cultural world of one of Freemasonry’s major figures.\nWe hope you can join us on Sunday\, March 22\, at 3 p.m. in the Sean O’Sullivan Theatre at Brock University. The talk will be followed by a reception.\nTickets are free\, and you can register at: https://sankeylectures.ca/tickets/. (Note that it is not too late to register.)\nOr\, if you cannot attend in person\, you can watch the livestream here: http://live.sankeylectures.ca
URL:https://ontariohistoricalsociety.ca/event/brock-university-department-of-history-sankey-lecture-scenes-from-a-biography-of-james-anderson-religion-and-politics-in-early-eighteenth-century-english-freemasonry/
LOCATION:Sean O’Sullivan Theatre\, Brock University\, 1812 Sir Isaac Brock Way\, St. Catharines\, ON\, L2S 3A1\, Canada
END:VEVENT
END:VCALENDAR