BEGIN:VCALENDAR
VERSION:2.0
PRODID:-//The Ontario Historical Society - ECPv6.15.20//NONSGML v1.0//EN
CALSCALE:GREGORIAN
METHOD:PUBLISH
X-WR-CALNAME:The Ontario Historical Society
X-ORIGINAL-URL:https://ontariohistoricalsociety.ca
X-WR-CALDESC:Events for The Ontario Historical Society
REFRESH-INTERVAL;VALUE=DURATION:PT1H
X-Robots-Tag:noindex
X-PUBLISHED-TTL:PT1H
BEGIN:VTIMEZONE
TZID:America/Toronto
BEGIN:DAYLIGHT
TZOFFSETFROM:-0500
TZOFFSETTO:-0400
TZNAME:EDT
DTSTART:20210314T070000
END:DAYLIGHT
BEGIN:STANDARD
TZOFFSETFROM:-0400
TZOFFSETTO:-0500
TZNAME:EST
DTSTART:20211107T060000
END:STANDARD
BEGIN:DAYLIGHT
TZOFFSETFROM:-0500
TZOFFSETTO:-0400
TZNAME:EDT
DTSTART:20220313T070000
END:DAYLIGHT
BEGIN:STANDARD
TZOFFSETFROM:-0400
TZOFFSETTO:-0500
TZNAME:EST
DTSTART:20221106T060000
END:STANDARD
BEGIN:DAYLIGHT
TZOFFSETFROM:-0500
TZOFFSETTO:-0400
TZNAME:EDT
DTSTART:20230312T070000
END:DAYLIGHT
BEGIN:STANDARD
TZOFFSETFROM:-0400
TZOFFSETTO:-0500
TZNAME:EST
DTSTART:20231105T060000
END:STANDARD
END:VTIMEZONE
BEGIN:VEVENT
DTSTART;VALUE=DATE:20221028
DTEND;VALUE=DATE:20221031
DTSTAMP:20260421T113359
CREATED:20210922T194054Z
LAST-MODIFIED:20220927T201506Z
UID:10000352-1666915200-1667174399@ontariohistoricalsociety.ca
SUMMARY:Ontario Archaeological Society 2022 Symposium (In-Person & Online)
DESCRIPTION:Registration for the 49th Annual OAS Symposium in Hamilton/Burlington is now open. \nRegister Here \nThis hybrid style symposium (both online and in-person) will include a Friday reception at McMaster Innovation Park\, Hamilton\, and Saturday and Sunday symposium events at the Royal Botanical Gardens\, Burlington. \nThe theme is “Archaeologies of Resilience”. \nRegistration at the door will be available.
URL:https://ontariohistoricalsociety.ca/event/ontario-archaeological-society-2022-symposium/
LOCATION:Royal Botanical Gardens\, 680 Plains Rd W\, Burlington\, Ontario\, L7T 4H4\, Canada
ORGANIZER;CN="Ontario Archaeological Society":MAILTO:info@ontarioarchaeology.org
GEO:43.2910864;-79.8765835
X-APPLE-STRUCTURED-LOCATION;VALUE=URI;X-ADDRESS=Royal Botanical Gardens 680 Plains Rd W Burlington Ontario L7T 4H4 Canada;X-APPLE-RADIUS=500;X-TITLE=680 Plains Rd W:geo:-79.8765835,43.2910864
END:VEVENT
END:VCALENDAR