BEGIN:VCALENDAR
VERSION:2.0
PRODID:-//The Ontario Historical Society - ECPv6.15.20//NONSGML v1.0//EN
CALSCALE:GREGORIAN
METHOD:PUBLISH
X-ORIGINAL-URL:https://ontariohistoricalsociety.ca
X-WR-CALDESC:Events for The Ontario Historical Society
REFRESH-INTERVAL;VALUE=DURATION:PT1H
X-Robots-Tag:noindex
X-PUBLISHED-TTL:PT1H
BEGIN:VTIMEZONE
TZID:America/Toronto
BEGIN:DAYLIGHT
TZOFFSETFROM:-0500
TZOFFSETTO:-0400
TZNAME:EDT
DTSTART:20170312T070000
END:DAYLIGHT
BEGIN:STANDARD
TZOFFSETFROM:-0400
TZOFFSETTO:-0500
TZNAME:EST
DTSTART:20171105T060000
END:STANDARD
BEGIN:DAYLIGHT
TZOFFSETFROM:-0500
TZOFFSETTO:-0400
TZNAME:EDT
DTSTART:20180311T070000
END:DAYLIGHT
BEGIN:STANDARD
TZOFFSETFROM:-0400
TZOFFSETTO:-0500
TZNAME:EST
DTSTART:20181104T060000
END:STANDARD
BEGIN:DAYLIGHT
TZOFFSETFROM:-0500
TZOFFSETTO:-0400
TZNAME:EDT
DTSTART:20190310T070000
END:DAYLIGHT
BEGIN:STANDARD
TZOFFSETFROM:-0400
TZOFFSETTO:-0500
TZNAME:EST
DTSTART:20191103T060000
END:STANDARD
END:VTIMEZONE
BEGIN:VEVENT
DTSTART;TZID=America/Toronto:20181106T190000
DTEND;TZID=America/Toronto:20181106T200000
DTSTAMP:20260421T163344
CREATED:20181026T151905Z
LAST-MODIFIED:20181026T151905Z
UID:10000166-1541530800-1541534400@ontariohistoricalsociety.ca
SUMMARY:Dear Sadie: Love\, Lives and Remembrance from Ontario's First World War
DESCRIPTION:Join Jay Young\, PhD\, for a presentation commemorating this year’s centennial of the First World War. The Archives of Ontario’s “Dear Sadie” exhibit is based on a series of letters between Harry Mason\, a Canadian soldier fighting overseas\, and Sadie Arbuckle\, his sweetheart back home\, highlighting the personal stories underlying the war. \nRegistration required. Call 416-393-7720 to register or for more information.
URL:https://ontariohistoricalsociety.ca/event/dear-sadie-love-lives-and-remembrance-from-ontarios-first-world-war/
LOCATION:Riverdale Branch\, Toronto Public Library\, 370 Broadview Ave.\, Toronto\, ON\, M4K 2M8\, Canada
ATTACH;FMTTYPE=image/jpeg:https://ontariohistoricalsociety.ca/wp-content/uploads/2018/10/Dear-Sadie.jpg
GEO:43.6658148;-79.3531802
X-APPLE-STRUCTURED-LOCATION;VALUE=URI;X-ADDRESS=Riverdale Branch Toronto Public Library 370 Broadview Ave. Toronto ON M4K 2M8 Canada;X-APPLE-RADIUS=500;X-TITLE=370 Broadview Ave.:geo:-79.3531802,43.6658148
END:VEVENT
END:VCALENDAR