BEGIN:VCALENDAR
VERSION:2.0
PRODID:-//The Ontario Historical Society - ECPv6.15.20//NONSGML v1.0//EN
CALSCALE:GREGORIAN
METHOD:PUBLISH
X-WR-CALNAME:The Ontario Historical Society
X-ORIGINAL-URL:https://ontariohistoricalsociety.ca
X-WR-CALDESC:Events for The Ontario Historical Society
REFRESH-INTERVAL;VALUE=DURATION:PT1H
X-Robots-Tag:noindex
X-PUBLISHED-TTL:PT1H
BEGIN:VTIMEZONE
TZID:America/Toronto
BEGIN:DAYLIGHT
TZOFFSETFROM:-0500
TZOFFSETTO:-0400
TZNAME:EDT
DTSTART:20230312T070000
END:DAYLIGHT
BEGIN:STANDARD
TZOFFSETFROM:-0400
TZOFFSETTO:-0500
TZNAME:EST
DTSTART:20231105T060000
END:STANDARD
BEGIN:DAYLIGHT
TZOFFSETFROM:-0500
TZOFFSETTO:-0400
TZNAME:EDT
DTSTART:20240310T070000
END:DAYLIGHT
BEGIN:STANDARD
TZOFFSETFROM:-0400
TZOFFSETTO:-0500
TZNAME:EST
DTSTART:20241103T060000
END:STANDARD
BEGIN:DAYLIGHT
TZOFFSETFROM:-0500
TZOFFSETTO:-0400
TZNAME:EDT
DTSTART:20250309T070000
END:DAYLIGHT
BEGIN:STANDARD
TZOFFSETFROM:-0400
TZOFFSETTO:-0500
TZNAME:EST
DTSTART:20251102T060000
END:STANDARD
END:VTIMEZONE
BEGIN:VEVENT
DTSTART;TZID=America/Toronto:20240504T120000
DTEND;TZID=America/Toronto:20240504T160000
DTSTAMP:20260422T062225
CREATED:20240423T171848Z
LAST-MODIFIED:20240423T171848Z
UID:10001285-1714824000-1714838400@ontariohistoricalsociety.ca
SUMMARY:Culinary Historians of Canada - 30th Anniversary Cookbook Sale
DESCRIPTION:Book Lovers! Cookbook Collectors! Food Historians! Curious Chefs! And Home Cooks! Take heed of our ENORMOUS book sale taking place on May 4\, 2024. There will be THOUSANDS of delicious and mouth-watering food-related books perfect to enhance (or start!) your own collections. \nJoin us for this delightful celebration as we mark 30 extraordinary years of the Culinary Historians of Canada! Don’t miss this fun-filled fundraising event—be a part of our history! \nBooks from the amazing collections of the late Canadian food writer Dorothy Duncan\, writer and culinary historian Mary Williamson\, and many other noted food writers and researchers will be available for sale.The books range from 1800s antiquarian volumes\, to 1930s company recipe booklets\, to signed copies of modern cookbooks\, and everything in between. \nCookies made from historic recipes (including some gluten-free offerings) will be available for purchase.  Keep your strength up while you shop! Come join us! \nBring your own bag. Cash\, Credit\, and Debit will be accepted. Paid street parking available in surrounding areas or Green P Lot off Broadview just north of Queen Street East. We recommend you allow for extra travel time due to construction and Gardiner lane closures.
URL:https://ontariohistoricalsociety.ca/event/culinary-historians-of-canada-30th-anniversary-cookbook-sale/
LOCATION:Ralph Thornton Comunity Centre\, Queen Street East 765\, Toronto\, Ontario\, M4M 1H3\, Canada
ORGANIZER;CN="Culinary Historians of Canada":MAILTO:info@culinaryhistorians.ca
GEO:43.6591936;-79.347659
X-APPLE-STRUCTURED-LOCATION;VALUE=URI;X-ADDRESS=Ralph Thornton Comunity Centre Queen Street East 765 Toronto Ontario M4M 1H3 Canada;X-APPLE-RADIUS=500;X-TITLE=Queen Street East 765:geo:-79.347659,43.6591936
END:VEVENT
END:VCALENDAR