BEGIN:VCALENDAR
VERSION:2.0
PRODID:-//The Ontario Historical Society - ECPv6.15.20//NONSGML v1.0//EN
CALSCALE:GREGORIAN
METHOD:PUBLISH
X-ORIGINAL-URL:https://ontariohistoricalsociety.ca
X-WR-CALDESC:Events for The Ontario Historical Society
REFRESH-INTERVAL;VALUE=DURATION:PT1H
X-Robots-Tag:noindex
X-PUBLISHED-TTL:PT1H
BEGIN:VTIMEZONE
TZID:America/Toronto
BEGIN:DAYLIGHT
TZOFFSETFROM:-0500
TZOFFSETTO:-0400
TZNAME:EDT
DTSTART:20220313T070000
END:DAYLIGHT
BEGIN:STANDARD
TZOFFSETFROM:-0400
TZOFFSETTO:-0500
TZNAME:EST
DTSTART:20221106T060000
END:STANDARD
BEGIN:DAYLIGHT
TZOFFSETFROM:-0500
TZOFFSETTO:-0400
TZNAME:EDT
DTSTART:20230312T070000
END:DAYLIGHT
BEGIN:STANDARD
TZOFFSETFROM:-0400
TZOFFSETTO:-0500
TZNAME:EST
DTSTART:20231105T060000
END:STANDARD
BEGIN:DAYLIGHT
TZOFFSETFROM:-0500
TZOFFSETTO:-0400
TZNAME:EDT
DTSTART:20240310T070000
END:DAYLIGHT
BEGIN:STANDARD
TZOFFSETFROM:-0400
TZOFFSETTO:-0500
TZNAME:EST
DTSTART:20241103T060000
END:STANDARD
END:VTIMEZONE
BEGIN:VEVENT
DTSTART;TZID=America/Toronto:20230321T180000
DTEND;TZID=America/Toronto:20230321T180000
DTSTAMP:20260421T063413
CREATED:20230301T162732Z
LAST-MODIFIED:20230301T162732Z
UID:10000894-1679421600-1679421600@ontariohistoricalsociety.ca
SUMMARY:Oshawa Historical Society and Oshawa Public Libraries’ March Local History Speaker : Dan Buchanan
DESCRIPTION:The most sensational trial of the mid-1850s resulted in the only hanging in Northumberland County. Dr. King poisoned his wife with arsenic in Brighton and\, after the trial and hanging\, was buried in the front yard of the King family farm house at Codrington – the same house where the author grew up! Here is the full story of this notorious crime\, based on documents\, including the confession of the murderer. \nDan Buchanan is “The History Guy of Brighton\, Ontario.” He is engaged in many projects related to local and Ontario history\, working from his home in Brighton. As a guest speaker\, Dan provides fascinating stories of Ontario history presented with humour and passion. His first book\, published in 2015\, was Murder In The Family: The Dr. King Story\, which tells the fascinating true story of Brighton’s infamous murder case in 1859. \nMarch’s Local History Speaker Series is taking place Tuesday\, March 21 at 6PM. The Speaker Series will be held at the McLaughlin Branch of the Oshawa Public Libraries\, in the lower level auditorium\, located at 65 Bagot Street\, Oshawa. \nThe Local History Speaker Series is an event presented in partnership between the Oshawa Historical Society and the Oshawa Public Libraries. \nFor more info on Dan Buchanan\, please see his website: www.danbuchananhistoryguy.com
URL:https://ontariohistoricalsociety.ca/event/oshawa-historical-society-and-oshawa-public-libraries-march-local-history-speaker-dan-buchanan/
LOCATION:Oshawa Public Library McLaughlin Branch\, 65 Bagot Street\, Oshawa\, Ontario\, L1H 1N2\, Canada
GEO:43.8947735;-78.8649812
X-APPLE-STRUCTURED-LOCATION;VALUE=URI;X-ADDRESS=Oshawa Public Library McLaughlin Branch 65 Bagot Street Oshawa Ontario L1H 1N2 Canada;X-APPLE-RADIUS=500;X-TITLE=65 Bagot Street:geo:-78.8649812,43.8947735
END:VEVENT
BEGIN:VEVENT
DTSTART;TZID=America/Toronto:20230117T180000
DTEND;TZID=America/Toronto:20230117T180000
DTSTAMP:20260421T063413
CREATED:20230110T191619Z
LAST-MODIFIED:20230110T191619Z
UID:10000851-1673978400-1673978400@ontariohistoricalsociety.ca
SUMMARY:Oshawa Historical Society & Oshawa Museum Local History Speaker Series
DESCRIPTION:We are excited to start the 2023 Local History Speaker Series with a look at the history of newspapers in Oshawa. On Tuesday\, January 17\, at 6pm\, Nicole Adams\, Local History & Genealogy Librarian for the Oshawa Public Libraries will present Read all about it: A History of Newspapers in Oshawa. \nThe Local History Speaker Series is taking place Tuesday\, January 17 at 6PM. The Speaker Series will be held at the McLaughlin Branch of the Oshawa Public Libraries\, in the lower level auditorium\, located at 65 Bagot Street\, Oshawa. \nThe Local History Speaker Series is an event presented in partnership between the Oshawa Historical Society and the Oshawa Public Libraries.
URL:https://ontariohistoricalsociety.ca/event/oshawa-historical-society-oshawa-museum-local-history-speaker-series/
LOCATION:Oshawa Public Library McLaughlin Branch\, 65 Bagot Street\, Oshawa\, Ontario\, L1H 1N2\, Canada
GEO:43.8947735;-78.8649812
X-APPLE-STRUCTURED-LOCATION;VALUE=URI;X-ADDRESS=Oshawa Public Library McLaughlin Branch 65 Bagot Street Oshawa Ontario L1H 1N2 Canada;X-APPLE-RADIUS=500;X-TITLE=65 Bagot Street:geo:-78.8649812,43.8947735
END:VEVENT
END:VCALENDAR