BEGIN:VCALENDAR
VERSION:2.0
PRODID:-//The Ontario Historical Society - ECPv6.15.20//NONSGML v1.0//EN
CALSCALE:GREGORIAN
METHOD:PUBLISH
X-WR-CALNAME:The Ontario Historical Society
X-ORIGINAL-URL:https://ontariohistoricalsociety.ca
X-WR-CALDESC:Events for The Ontario Historical Society
REFRESH-INTERVAL;VALUE=DURATION:PT1H
X-Robots-Tag:noindex
X-PUBLISHED-TTL:PT1H
BEGIN:VTIMEZONE
TZID:America/Toronto
BEGIN:DAYLIGHT
TZOFFSETFROM:-0500
TZOFFSETTO:-0400
TZNAME:EDT
DTSTART:20180311T070000
END:DAYLIGHT
BEGIN:STANDARD
TZOFFSETFROM:-0400
TZOFFSETTO:-0500
TZNAME:EST
DTSTART:20181104T060000
END:STANDARD
BEGIN:DAYLIGHT
TZOFFSETFROM:-0500
TZOFFSETTO:-0400
TZNAME:EDT
DTSTART:20190310T070000
END:DAYLIGHT
BEGIN:STANDARD
TZOFFSETFROM:-0400
TZOFFSETTO:-0500
TZNAME:EST
DTSTART:20191103T060000
END:STANDARD
BEGIN:DAYLIGHT
TZOFFSETFROM:-0500
TZOFFSETTO:-0400
TZNAME:EDT
DTSTART:20200308T070000
END:DAYLIGHT
BEGIN:STANDARD
TZOFFSETFROM:-0400
TZOFFSETTO:-0500
TZNAME:EST
DTSTART:20201101T060000
END:STANDARD
END:VTIMEZONE
BEGIN:VEVENT
DTSTART;TZID=America/Toronto:20190629T130000
DTEND;TZID=America/Toronto:20190629T130000
DTSTAMP:20260421T082625
CREATED:20190424T172944Z
LAST-MODIFIED:20190424T172944Z
UID:10000058-1561813200-1561813200@ontariohistoricalsociety.ca
SUMMARY:TBETHS Walking Tour with Gene Domagala: Historic East Toronto
DESCRIPTION:
URL:https://ontariohistoricalsociety.ca/event/tbeths-walking-tour-with-gene-domagala-historic-east-toronto/
LOCATION:Northwest corner of Main Street and Danforth Avenue\, 2550 Danforth Ave.\, Toronto\, Ontario\, M4C 1L2\, Canada
ATTACH;FMTTYPE=image/jpeg:https://ontariohistoricalsociety.ca/wp-content/uploads/2019/04/TBETHS-June-29-2019-Walking-Tour-featured-image-1.jpg
GEO:43.6882937;-79.3021449
X-APPLE-STRUCTURED-LOCATION;VALUE=URI;X-ADDRESS=Northwest corner of Main Street and Danforth Avenue 2550 Danforth Ave. Toronto Ontario M4C 1L2 Canada;X-APPLE-RADIUS=500;X-TITLE=2550 Danforth Ave.:geo:-79.3021449,43.6882937
END:VEVENT
END:VCALENDAR