BEGIN:VCALENDAR
VERSION:2.0
PRODID:-//The Ontario Historical Society - ECPv6.15.20//NONSGML v1.0//EN
CALSCALE:GREGORIAN
METHOD:PUBLISH
X-WR-CALNAME:The Ontario Historical Society
X-ORIGINAL-URL:https://ontariohistoricalsociety.ca
X-WR-CALDESC:Events for The Ontario Historical Society
REFRESH-INTERVAL;VALUE=DURATION:PT1H
X-Robots-Tag:noindex
X-PUBLISHED-TTL:PT1H
BEGIN:VTIMEZONE
TZID:America/Toronto
BEGIN:DAYLIGHT
TZOFFSETFROM:-0500
TZOFFSETTO:-0400
TZNAME:EDT
DTSTART:20180311T070000
END:DAYLIGHT
BEGIN:STANDARD
TZOFFSETFROM:-0400
TZOFFSETTO:-0500
TZNAME:EST
DTSTART:20181104T060000
END:STANDARD
BEGIN:DAYLIGHT
TZOFFSETFROM:-0500
TZOFFSETTO:-0400
TZNAME:EDT
DTSTART:20190310T070000
END:DAYLIGHT
BEGIN:STANDARD
TZOFFSETFROM:-0400
TZOFFSETTO:-0500
TZNAME:EST
DTSTART:20191103T060000
END:STANDARD
BEGIN:DAYLIGHT
TZOFFSETFROM:-0500
TZOFFSETTO:-0400
TZNAME:EDT
DTSTART:20200308T070000
END:DAYLIGHT
BEGIN:STANDARD
TZOFFSETFROM:-0400
TZOFFSETTO:-0500
TZNAME:EST
DTSTART:20201101T060000
END:STANDARD
BEGIN:DAYLIGHT
TZOFFSETFROM:-0500
TZOFFSETTO:-0400
TZNAME:EDT
DTSTART:20210314T070000
END:DAYLIGHT
BEGIN:STANDARD
TZOFFSETFROM:-0400
TZOFFSETTO:-0500
TZNAME:EST
DTSTART:20211107T060000
END:STANDARD
BEGIN:DAYLIGHT
TZOFFSETFROM:-0500
TZOFFSETTO:-0400
TZNAME:EDT
DTSTART:20220313T070000
END:DAYLIGHT
BEGIN:STANDARD
TZOFFSETFROM:-0400
TZOFFSETTO:-0500
TZNAME:EST
DTSTART:20221106T060000
END:STANDARD
BEGIN:DAYLIGHT
TZOFFSETFROM:-0500
TZOFFSETTO:-0400
TZNAME:EDT
DTSTART:20230312T070000
END:DAYLIGHT
BEGIN:STANDARD
TZOFFSETFROM:-0400
TZOFFSETTO:-0500
TZNAME:EST
DTSTART:20231105T060000
END:STANDARD
BEGIN:DAYLIGHT
TZOFFSETFROM:-0500
TZOFFSETTO:-0400
TZNAME:EDT
DTSTART:20240310T070000
END:DAYLIGHT
BEGIN:STANDARD
TZOFFSETFROM:-0400
TZOFFSETTO:-0500
TZNAME:EST
DTSTART:20241103T060000
END:STANDARD
END:VTIMEZONE
BEGIN:VEVENT
DTSTART;TZID=America/Toronto:20230722T130000
DTEND;TZID=America/Toronto:20230722T130000
DTSTAMP:20260421T133533
CREATED:20230714T153733Z
LAST-MODIFIED:20230714T153733Z
UID:10001066-1690030800-1690030800@ontariohistoricalsociety.ca
SUMMARY:The Beach and East Toronto Historical Society: Historic Danforth Walking Tour
DESCRIPTION:The Beach & East Toronto Historical Society presents Walking Tours with historian and Beach Metro News columnist Gene Domagala. \nMeet 1 p.m. at the north-west corner of Woodbine and Danforth Avenues. Walk will continue to Dawes Rd.
URL:https://ontariohistoricalsociety.ca/event/the-beach-and-east-toronto-historical-society-historic-danforth-walking-tour/
LOCATION:Northwest corner of Danforth & Woodbine\, 2072 Danforth Ave.\, Toronto\, ON\, M4C 1J6\, Canada
GEO:43.6858498;-79.3131505
X-APPLE-STRUCTURED-LOCATION;VALUE=URI;X-ADDRESS=Northwest corner of Danforth & Woodbine 2072 Danforth Ave. Toronto ON M4C 1J6 Canada;X-APPLE-RADIUS=500;X-TITLE=2072 Danforth Ave.:geo:-79.3131505,43.6858498
END:VEVENT
BEGIN:VEVENT
DTSTART;TZID=America/Toronto:20190427T130000
DTEND;TZID=America/Toronto:20190427T130000
DTSTAMP:20260421T133533
CREATED:20190424T170424Z
LAST-MODIFIED:20190424T171213Z
UID:10000061-1556370000-1556370000@ontariohistoricalsociety.ca
SUMMARY:TBETHS Walking Tour with Gene Domagala: Historic Danforth Avenue
DESCRIPTION:
URL:https://ontariohistoricalsociety.ca/event/tbeths-walking-tour-with-gene-domagala-historic-danforth-avenue/
LOCATION:Northwest corner of Danforth & Woodbine\, 2072 Danforth Ave.\, Toronto\, ON\, M4C 1J6\, Canada
ATTACH;FMTTYPE=image/jpeg:https://ontariohistoricalsociety.ca/wp-content/uploads/2019/04/TBETHS-April-27-2019-Walking-Tour-featured-image.jpg
GEO:43.6858498;-79.3131505
X-APPLE-STRUCTURED-LOCATION;VALUE=URI;X-ADDRESS=Northwest corner of Danforth & Woodbine 2072 Danforth Ave. Toronto ON M4C 1J6 Canada;X-APPLE-RADIUS=500;X-TITLE=2072 Danforth Ave.:geo:-79.3131505,43.6858498
END:VEVENT
END:VCALENDAR