BEGIN:VCALENDAR
VERSION:2.0
PRODID:-//The Ontario Historical Society - ECPv6.15.20//NONSGML v1.0//EN
CALSCALE:GREGORIAN
METHOD:PUBLISH
X-ORIGINAL-URL:https://ontariohistoricalsociety.ca
X-WR-CALDESC:Events for The Ontario Historical Society
REFRESH-INTERVAL;VALUE=DURATION:PT1H
X-Robots-Tag:noindex
X-PUBLISHED-TTL:PT1H
BEGIN:VTIMEZONE
TZID:America/Toronto
BEGIN:DAYLIGHT
TZOFFSETFROM:-0500
TZOFFSETTO:-0400
TZNAME:EDT
DTSTART:20230312T070000
END:DAYLIGHT
BEGIN:STANDARD
TZOFFSETFROM:-0400
TZOFFSETTO:-0500
TZNAME:EST
DTSTART:20231105T060000
END:STANDARD
BEGIN:DAYLIGHT
TZOFFSETFROM:-0500
TZOFFSETTO:-0400
TZNAME:EDT
DTSTART:20240310T070000
END:DAYLIGHT
BEGIN:STANDARD
TZOFFSETFROM:-0400
TZOFFSETTO:-0500
TZNAME:EST
DTSTART:20241103T060000
END:STANDARD
BEGIN:DAYLIGHT
TZOFFSETFROM:-0500
TZOFFSETTO:-0400
TZNAME:EDT
DTSTART:20250309T070000
END:DAYLIGHT
BEGIN:STANDARD
TZOFFSETFROM:-0400
TZOFFSETTO:-0500
TZNAME:EST
DTSTART:20251102T060000
END:STANDARD
END:VTIMEZONE
BEGIN:VEVENT
DTSTART;TZID=America/Toronto:20241110T103000
DTEND;TZID=America/Toronto:20241110T103000
DTSTAMP:20260421T101010
CREATED:20241028T132054Z
LAST-MODIFIED:20241028T132054Z
UID:10001378-1731234600-1731234600@ontariohistoricalsociety.ca
SUMMARY:La Société d'histoire de Toronto HISTORITOUR - Les soldats qui reposent au cimetière Mount Pleasant
DESCRIPTION:Guides : Rolande Smith et Christine Rutland. \nDépart : 10h30 Grille d’entrée du cimetière sur la rue Yonge*\, au nord de St. Clair. Métro St. Clair. \nArrivée: retour à grille de la rue Yonge \nMarquons ensemble à notre façon l’Armistice du 11 novembre. En parcourant les allées du cimetière nous présenterons les tombes et cénotaphes à la mémoire des soldats canadiens qui ont combattu dans les guerres ici et outremer. Nous verrons aussi des monuments en l’honneur de divers régiments canadiens ainsi que des plaques historiques\, telle celle en l’honneur de William G. Barker\, un pilote qui reçut la Croix de Victoria. Nous parlerons du rôle que Toronto a joué pendant les deux Guerres mondiales avec ses usines d’armement et de construction d’avions\, ses camps d’entraînement de pilotes\, etc. \nPas de chien\nPas nécessaire de réserver – La SHT passera le chapeau à la fin de la visite \nContact : info@sht.ca \n*NOTE IMPORTANTE\, il n’y a pas de numéro à la grille du cimetière sur la rue Yonge. N’allez surtout pas à un numéro quelconque que vous pourriez trouver sur internet\, c’est simplement l’adresse du bureau administratif.
URL:https://ontariohistoricalsociety.ca/event/la-societe-dhistoire-de-toronto-historitour-les-soldats-qui-reposent-au-cimetiere-mount-pleasant/
LOCATION:Mount Pleasant Cemetery
ORGANIZER;CN="La Soci%C3%A9t%C3%A9 d%E2%80%99histoire de Toronto":MAILTO:info@sht.ca
END:VEVENT
END:VCALENDAR