BEGIN:VCALENDAR
VERSION:2.0
PRODID:-//The Ontario Historical Society - ECPv6.15.20//NONSGML v1.0//EN
CALSCALE:GREGORIAN
METHOD:PUBLISH
X-ORIGINAL-URL:https://ontariohistoricalsociety.ca
X-WR-CALDESC:Events for The Ontario Historical Society
REFRESH-INTERVAL;VALUE=DURATION:PT1H
X-Robots-Tag:noindex
X-PUBLISHED-TTL:PT1H
BEGIN:VTIMEZONE
TZID:America/Toronto
BEGIN:DAYLIGHT
TZOFFSETFROM:-0500
TZOFFSETTO:-0400
TZNAME:EDT
DTSTART:20200308T070000
END:DAYLIGHT
BEGIN:STANDARD
TZOFFSETFROM:-0400
TZOFFSETTO:-0500
TZNAME:EST
DTSTART:20201101T060000
END:STANDARD
BEGIN:DAYLIGHT
TZOFFSETFROM:-0500
TZOFFSETTO:-0400
TZNAME:EDT
DTSTART:20210314T070000
END:DAYLIGHT
BEGIN:STANDARD
TZOFFSETFROM:-0400
TZOFFSETTO:-0500
TZNAME:EST
DTSTART:20211107T060000
END:STANDARD
BEGIN:DAYLIGHT
TZOFFSETFROM:-0500
TZOFFSETTO:-0400
TZNAME:EDT
DTSTART:20220313T070000
END:DAYLIGHT
BEGIN:STANDARD
TZOFFSETFROM:-0400
TZOFFSETTO:-0500
TZNAME:EST
DTSTART:20221106T060000
END:STANDARD
BEGIN:DAYLIGHT
TZOFFSETFROM:-0500
TZOFFSETTO:-0400
TZNAME:EDT
DTSTART:20230312T070000
END:DAYLIGHT
BEGIN:STANDARD
TZOFFSETFROM:-0400
TZOFFSETTO:-0500
TZNAME:EST
DTSTART:20231105T060000
END:STANDARD
END:VTIMEZONE
BEGIN:VEVENT
DTSTART;TZID=America/Toronto:20220804T190000
DTEND;TZID=America/Toronto:20220804T210000
DTSTAMP:20260421T100153
CREATED:20220725T184359Z
LAST-MODIFIED:20220725T184959Z
UID:10000624-1659639600-1659646800@ontariohistoricalsociety.ca
SUMMARY:Thunder Bay Museum: East End Historical Walking Tour
DESCRIPTION:Join the Thunder Bay Museum on our 2022 Historical Walking Tours. This year\, we are offering five tours: Port Arthur\, Fort William\, Court Street\, Westfort\, and East End Tours. Learn some fascinating aspects of local history; all you have to do is walk and listen! \nThe tours are approximately 1.5km and should last about 90 minutes. Be sure to dress appropriately. These tours welcome participants of all ages\, but some of the content may not be suitable for small children. Parental discretion is advised. \nAdmission for the tours is $10 per person. To register visit https://www.thunderbaymuseum.com/walking-tours/ or call the Museum at 807-623-0801. \nPreregistration is required for the tours\, payment will not be accepted during the tours. \n\nHow was the East End’s location important to the fur trade? Who were the ‘Black Hand’? Who are the people behind the street names of the East End? \nLearn the answers as we walk through one of the most historic parts of the city and explore the progression and dynamic change of the last 300 years. \nThe tour is approximately 1.5km and should last about 90 minutes. \nThe Historical Walking Tours will operate weather permitting\, we encourage you to dress appropriately. In instances of inclement weather\, we will do our best to reschedule the walking tour. If we are unable to reschedule the tour or you cannot join us at the later date we will be offering full refunds. \nThese tours welcome participants of all ages\, but some of the content may not be suitable for small children. Parental discretion is advised. \nStarting Location: Corner of McNaughton and McTavish.
URL:https://ontariohistoricalsociety.ca/event/thunder-bay-museum-east-end-historical-walking-tour/
LOCATION:McNaughton St. & McTavish St. Thunder Bay\, McNaughton St. & McTavish St.\, Thunder Bay\, Ontario\, Canada
ORGANIZER;CN="Thunder Bay Museum":MAILTO:info@thunderbaymuseum.com
GEO:48.3901425;-89.2316647
X-APPLE-STRUCTURED-LOCATION;VALUE=URI;X-ADDRESS=McNaughton St. & McTavish St. Thunder Bay McNaughton St. & McTavish St. Thunder Bay Ontario Canada;X-APPLE-RADIUS=500;X-TITLE=McNaughton St. & McTavish St.:geo:-89.2316647,48.3901425
END:VEVENT
BEGIN:VEVENT
DTSTART;TZID=America/Toronto:20211022T130000
DTEND;TZID=America/Toronto:20211022T150000
DTSTAMP:20260421T100153
CREATED:20211012T183310Z
LAST-MODIFIED:20211012T183310Z
UID:10000363-1634907600-1634914800@ontariohistoricalsociety.ca
SUMMARY:Thunder Bay Museum - Walking Tour - East End - Free
DESCRIPTION:As part of our Ontario Culture Days offerings please join the Thunder Bay Museum for a special free walking tour of the East End neighborhood. \nThe tour will start at the CPR Railyard Plaque (corner of McNaughton and McTavish Street) \nAttendance is free. \nThe tour is approximately 2km and should last about 120 minutes. Be sure to dress appropriately for the weather. \nThese tours welcome participants of all ages\, but some of the content may not be suitable for small children. Parental discretion is advised. \nGuests will be asked to be mindful of COVID-19 and social distancing during the tour.
URL:https://ontariohistoricalsociety.ca/event/thunder-bay-museum-walking-tour-east-end-free/
LOCATION:McNaughton St. & McTavish St. Thunder Bay\, McNaughton St. & McTavish St.\, Thunder Bay\, Ontario\, Canada
ORGANIZER;CN="Thunder Bay Museum":MAILTO:info@thunderbaymuseum.com
GEO:48.3901425;-89.2316647
X-APPLE-STRUCTURED-LOCATION;VALUE=URI;X-ADDRESS=McNaughton St. & McTavish St. Thunder Bay McNaughton St. & McTavish St. Thunder Bay Ontario Canada;X-APPLE-RADIUS=500;X-TITLE=McNaughton St. & McTavish St.:geo:-89.2316647,48.3901425
END:VEVENT
END:VCALENDAR