BEGIN:VCALENDAR
VERSION:2.0
PRODID:-//The Ontario Historical Society - ECPv6.15.20//NONSGML v1.0//EN
CALSCALE:GREGORIAN
METHOD:PUBLISH
X-ORIGINAL-URL:https://ontariohistoricalsociety.ca
X-WR-CALDESC:Events for The Ontario Historical Society
REFRESH-INTERVAL;VALUE=DURATION:PT1H
X-Robots-Tag:noindex
X-PUBLISHED-TTL:PT1H
BEGIN:VTIMEZONE
TZID:America/Toronto
BEGIN:DAYLIGHT
TZOFFSETFROM:-0500
TZOFFSETTO:-0400
TZNAME:EDT
DTSTART:20180311T070000
END:DAYLIGHT
BEGIN:STANDARD
TZOFFSETFROM:-0400
TZOFFSETTO:-0500
TZNAME:EST
DTSTART:20181104T060000
END:STANDARD
BEGIN:DAYLIGHT
TZOFFSETFROM:-0500
TZOFFSETTO:-0400
TZNAME:EDT
DTSTART:20190310T070000
END:DAYLIGHT
BEGIN:STANDARD
TZOFFSETFROM:-0400
TZOFFSETTO:-0500
TZNAME:EST
DTSTART:20191103T060000
END:STANDARD
BEGIN:DAYLIGHT
TZOFFSETFROM:-0500
TZOFFSETTO:-0400
TZNAME:EDT
DTSTART:20200308T070000
END:DAYLIGHT
BEGIN:STANDARD
TZOFFSETFROM:-0400
TZOFFSETTO:-0500
TZNAME:EST
DTSTART:20201101T060000
END:STANDARD
END:VTIMEZONE
BEGIN:VEVENT
DTSTART;TZID=America/Toronto:20190804T130000
DTEND;TZID=America/Toronto:20190804T150000
DTSTAMP:20260421T063706
CREATED:20190722T193008Z
LAST-MODIFIED:20190722T194145Z
UID:10000073-1564923600-1564930800@ontariohistoricalsociety.ca
SUMMARY:Walk the Six West: History on the Humber (Kleinburg)
DESCRIPTION:The Swansea Historical Society\, in collaboration with its partners La Société d’Histoire de Toronto\, The York Pioneer and Historical Society\, The West Toronto Junction Historical Society\, Heritage York\, King Township Historical Society\, Arts Society King\, and The McMichael Canadian Art Collection\, with funding support from the Government of Canada\, is pleased to announce the return of WALK THE SIX WEST to the banks of the Humber River this August 2019! \nWalk along the shared path and witness the magic of outdoor theatre as we celebrate the diverse  human history of the Humber River.  Discover six theatrical installations sharing Indigenous\,  Francophone\, and Newcomer stories of the  Humber River region.  Featuring performances by Mixed Company Theatre\, Ars Musica\, Jason Wilson’s Sumach Roots\, Cheri Maracle\, Erika MacNeil with Eric Cadesky\, and more. \nThis family-friendly and accessible event is FREE and OPEN to all members of the public. \nTo register for your FREE tickets\, please visit us at walkthesixwest.ca or call (647) 859-3901.
URL:https://ontariohistoricalsociety.ca/event/walk-the-six-west-history-on-the-humber-kleinburg/
LOCATION:McMichael Canadian Art Collection\, 10365 Islington Ave.\, Kleinburg\, ON\, L0J 1C0\, Canada
ATTACH;FMTTYPE=image/png:https://ontariohistoricalsociety.ca/wp-content/uploads/2019/07/Walk-The-Six-West-Logo.png
ORGANIZER;CN="Swansea Historical Society":MAILTO:swanseahistoricalsociety@gmail.com
GEO:43.8431978;-79.616772
X-APPLE-STRUCTURED-LOCATION;VALUE=URI;X-ADDRESS=McMichael Canadian Art Collection 10365 Islington Ave. Kleinburg ON L0J 1C0 Canada;X-APPLE-RADIUS=500;X-TITLE=10365 Islington Ave.:geo:-79.616772,43.8431978
END:VEVENT
END:VCALENDAR