BEGIN:VCALENDAR
VERSION:2.0
PRODID:-//The Ontario Historical Society - ECPv6.15.20//NONSGML v1.0//EN
CALSCALE:GREGORIAN
METHOD:PUBLISH
X-ORIGINAL-URL:https://ontariohistoricalsociety.ca
X-WR-CALDESC:Events for The Ontario Historical Society
REFRESH-INTERVAL;VALUE=DURATION:PT1H
X-Robots-Tag:noindex
X-PUBLISHED-TTL:PT1H
BEGIN:VTIMEZONE
TZID:America/Toronto
BEGIN:DAYLIGHT
TZOFFSETFROM:-0500
TZOFFSETTO:-0400
TZNAME:EDT
DTSTART:20240310T070000
END:DAYLIGHT
BEGIN:STANDARD
TZOFFSETFROM:-0400
TZOFFSETTO:-0500
TZNAME:EST
DTSTART:20241103T060000
END:STANDARD
BEGIN:DAYLIGHT
TZOFFSETFROM:-0500
TZOFFSETTO:-0400
TZNAME:EDT
DTSTART:20250309T070000
END:DAYLIGHT
BEGIN:STANDARD
TZOFFSETFROM:-0400
TZOFFSETTO:-0500
TZNAME:EST
DTSTART:20251102T060000
END:STANDARD
BEGIN:DAYLIGHT
TZOFFSETFROM:-0500
TZOFFSETTO:-0400
TZNAME:EDT
DTSTART:20260308T070000
END:DAYLIGHT
BEGIN:STANDARD
TZOFFSETFROM:-0400
TZOFFSETTO:-0500
TZNAME:EST
DTSTART:20261101T060000
END:STANDARD
END:VTIMEZONE
BEGIN:VEVENT
DTSTART;TZID=America/Toronto:20250608T130000
DTEND;TZID=America/Toronto:20250608T150000
DTSTAMP:20260419T113633
CREATED:20250527T132437Z
LAST-MODIFIED:20250527T132437Z
UID:10001467-1749387600-1749394800@ontariohistoricalsociety.ca
SUMMARY:Trent Lakes Historical Society Open House
DESCRIPTION:You are invited to our Open House on June 8\, 2025 at Galway Hall from 1:00 to 3:00 pm. The main focus will be sharing information about the Peter Robinson 200th Anniversary being celebrated this year. Please drop by for a visit and the opportunity to find out more about our plans and events this season. Please feel free to bring any friends and family interested in this special Anniversary event and/or our historical society.
URL:https://ontariohistoricalsociety.ca/event/trent-lakes-historical-society-open-house/
LOCATION:Galway Hall\, 388 Galway Road\, Trent Lakes\, Ontario\, K0M 2A0\, Canada
GEO:44.7477962;-78.5949756
X-APPLE-STRUCTURED-LOCATION;VALUE=URI;X-ADDRESS=Galway Hall 388 Galway Road Trent Lakes Ontario K0M 2A0 Canada;X-APPLE-RADIUS=500;X-TITLE=388 Galway Road:geo:-78.5949756,44.7477962
END:VEVENT
END:VCALENDAR