BEGIN:VCALENDAR
VERSION:2.0
PRODID:-//The Ontario Historical Society - ECPv6.15.20//NONSGML v1.0//EN
CALSCALE:GREGORIAN
METHOD:PUBLISH
X-ORIGINAL-URL:https://ontariohistoricalsociety.ca
X-WR-CALDESC:Events for The Ontario Historical Society
REFRESH-INTERVAL;VALUE=DURATION:PT1H
X-Robots-Tag:noindex
X-PUBLISHED-TTL:PT1H
BEGIN:VTIMEZONE
TZID:America/Toronto
BEGIN:DAYLIGHT
TZOFFSETFROM:-0500
TZOFFSETTO:-0400
TZNAME:EDT
DTSTART:20180311T070000
END:DAYLIGHT
BEGIN:STANDARD
TZOFFSETFROM:-0400
TZOFFSETTO:-0500
TZNAME:EST
DTSTART:20181104T060000
END:STANDARD
BEGIN:DAYLIGHT
TZOFFSETFROM:-0500
TZOFFSETTO:-0400
TZNAME:EDT
DTSTART:20190310T070000
END:DAYLIGHT
BEGIN:STANDARD
TZOFFSETFROM:-0400
TZOFFSETTO:-0500
TZNAME:EST
DTSTART:20191103T060000
END:STANDARD
BEGIN:DAYLIGHT
TZOFFSETFROM:-0500
TZOFFSETTO:-0400
TZNAME:EDT
DTSTART:20200308T070000
END:DAYLIGHT
BEGIN:STANDARD
TZOFFSETFROM:-0400
TZOFFSETTO:-0500
TZNAME:EST
DTSTART:20201101T060000
END:STANDARD
BEGIN:DAYLIGHT
TZOFFSETFROM:-0500
TZOFFSETTO:-0400
TZNAME:EDT
DTSTART:20210314T070000
END:DAYLIGHT
BEGIN:STANDARD
TZOFFSETFROM:-0400
TZOFFSETTO:-0500
TZNAME:EST
DTSTART:20211107T060000
END:STANDARD
BEGIN:DAYLIGHT
TZOFFSETFROM:-0500
TZOFFSETTO:-0400
TZNAME:EDT
DTSTART:20220313T070000
END:DAYLIGHT
BEGIN:STANDARD
TZOFFSETFROM:-0400
TZOFFSETTO:-0500
TZNAME:EST
DTSTART:20221106T060000
END:STANDARD
BEGIN:DAYLIGHT
TZOFFSETFROM:-0500
TZOFFSETTO:-0400
TZNAME:EDT
DTSTART:20230312T070000
END:DAYLIGHT
BEGIN:STANDARD
TZOFFSETFROM:-0400
TZOFFSETTO:-0500
TZNAME:EST
DTSTART:20231105T060000
END:STANDARD
BEGIN:DAYLIGHT
TZOFFSETFROM:-0500
TZOFFSETTO:-0400
TZNAME:EDT
DTSTART:20240310T070000
END:DAYLIGHT
BEGIN:STANDARD
TZOFFSETFROM:-0400
TZOFFSETTO:-0500
TZNAME:EST
DTSTART:20241103T060000
END:STANDARD
END:VTIMEZONE
BEGIN:VEVENT
DTSTART;TZID=America/Toronto:20230812T100000
DTEND;TZID=America/Toronto:20230812T150000
DTSTAMP:20260421T095312
CREATED:20230628T134149Z
LAST-MODIFIED:20230628T134149Z
UID:10001048-1691834400-1691852400@ontariohistoricalsociety.ca
SUMMARY:Freeman Station Public Opening
DESCRIPTION:Join us for the public opening of Freeman Station! After years of careful restoration and dedicated work by our volunteers\, we are thrilled to invite you to explore this historic train station\, which has been an essential part of Burlington’s landscape since 1906. \n‍During your visit\, you can expect to: \n— Take a tour of the station and learn about its rich history\, including its role in connecting people and communities through rail travel.\n— Enjoy our 1/24th scale exhibits that showcase the evolution of transportation and the impact of railways on society.\n— Meet our passionate volunteers who have worked tirelessly to preserve and maintain Freeman Station.\n— Learn about our plans for the future\, including upcoming events and initiatives to continue sharing this landmark with the community.
URL:https://ontariohistoricalsociety.ca/event/freeman-station-public-opening-august-12-2023/
LOCATION:Freeman Station\, 2185 Fairview St.\, Burlington\, ON\, L7R 2C8\, Canada
ORGANIZER;CN="Friends of Freeman Station":MAILTO:info@freemanstation.ca
GEO:43.3397103;-79.8082888
X-APPLE-STRUCTURED-LOCATION;VALUE=URI;X-ADDRESS=Freeman Station 2185 Fairview St. Burlington ON L7R 2C8 Canada;X-APPLE-RADIUS=500;X-TITLE=2185 Fairview St.:geo:-79.8082888,43.3397103
END:VEVENT
BEGIN:VEVENT
DTSTART;TZID=America/Toronto:20230715T100000
DTEND;TZID=America/Toronto:20230715T150000
DTSTAMP:20260421T095312
CREATED:20230628T134027Z
LAST-MODIFIED:20230628T134027Z
UID:10001047-1689415200-1689433200@ontariohistoricalsociety.ca
SUMMARY:Freeman Station Public Opening
DESCRIPTION:Join us for the public opening of Freeman Station! After years of careful restoration and dedicated work by our volunteers\, we are thrilled to invite you to explore this historic train station\, which has been an essential part of Burlington’s landscape since 1906. \n‍During your visit\, you can expect to: \n— Take a tour of the station and learn about its rich history\, including its role in connecting people and communities through rail travel.\n— Enjoy our 1/24th scale exhibits that showcase the evolution of transportation and the impact of railways on society.\n— Meet our passionate volunteers who have worked tirelessly to preserve and maintain Freeman Station.\n— Learn about our plans for the future\, including upcoming events and initiatives to continue sharing this landmark with the community.
URL:https://ontariohistoricalsociety.ca/event/freeman-station-public-opening-july-15-2023/
LOCATION:Freeman Station\, 2185 Fairview St.\, Burlington\, ON\, L7R 2C8\, Canada
ORGANIZER;CN="Friends of Freeman Station":MAILTO:info@freemanstation.ca
GEO:43.3397103;-79.8082888
X-APPLE-STRUCTURED-LOCATION;VALUE=URI;X-ADDRESS=Freeman Station 2185 Fairview St. Burlington ON L7R 2C8 Canada;X-APPLE-RADIUS=500;X-TITLE=2185 Fairview St.:geo:-79.8082888,43.3397103
END:VEVENT
BEGIN:VEVENT
DTSTART;TZID=America/Toronto:20230701T100000
DTEND;TZID=America/Toronto:20230701T150000
DTSTAMP:20260421T095312
CREATED:20230628T133817Z
LAST-MODIFIED:20230629T143219Z
UID:10001046-1688205600-1688223600@ontariohistoricalsociety.ca
SUMMARY:Cancelled: Freeman Station Canada Day Open House
DESCRIPTION:We will NOT be open this Canada Day. \nPlease note our Canada Day Open House is temporarily postponed. We sincerely apologize for any inconvenience. Keep an eye out for future dates\, and we look forward to welcoming you soon. \n\nJoin us for the special Canada Day public opening of Freeman Station! After years of careful restoration and dedicated work by our volunteers\, we are thrilled to invite you to explore this historic train station\, which has been an essential part of Burlington’s landscape since 1906. \n‍During your visit\, you can expect to: \n— Take a tour of the station and learn about its rich history\, including its role in connecting people and communities through rail travel.\n— Enjoy our 1/24th scale exhibits that showcase the evolution of transportation and the impact of railways on society.\n— Meet our passionate volunteers who have worked tirelessly to preserve and maintain Freeman Station.\n— Learn about our plans for the future\, including upcoming events and initiatives to continue sharing this landmark with the community.
URL:https://ontariohistoricalsociety.ca/event/freeman-station-canada-day-open-house/
LOCATION:Freeman Station\, 2185 Fairview St.\, Burlington\, ON\, L7R 2C8\, Canada
ORGANIZER;CN="Friends of Freeman Station":MAILTO:info@freemanstation.ca
GEO:43.3397103;-79.8082888
X-APPLE-STRUCTURED-LOCATION;VALUE=URI;X-ADDRESS=Freeman Station 2185 Fairview St. Burlington ON L7R 2C8 Canada;X-APPLE-RADIUS=500;X-TITLE=2185 Fairview St.:geo:-79.8082888,43.3397103
END:VEVENT
BEGIN:VEVENT
DTSTART;TZID=America/Toronto:20190504T103000
DTEND;TZID=America/Toronto:20190504T150000
DTSTAMP:20260421T095312
CREATED:20190501T142603Z
LAST-MODIFIED:20190501T142603Z
UID:10000066-1556965800-1556982000@ontariohistoricalsociety.ca
SUMMARY:Signal Mast Installation at Freeman Station
DESCRIPTION:
URL:https://ontariohistoricalsociety.ca/event/signal-mast-installation-at-freeman-station/
LOCATION:Freeman Station\, 2185 Fairview St.\, Burlington\, ON\, L7R 2C8\, Canada
ATTACH;FMTTYPE=image/jpeg:https://ontariohistoricalsociety.ca/wp-content/uploads/2019/05/Friends-of-Freeman-Station-Logo.jpg
ORGANIZER;CN="Friends of Freeman Station":MAILTO:info@freemanstation.ca
GEO:43.3397103;-79.8082888
X-APPLE-STRUCTURED-LOCATION;VALUE=URI;X-ADDRESS=Freeman Station 2185 Fairview St. Burlington ON L7R 2C8 Canada;X-APPLE-RADIUS=500;X-TITLE=2185 Fairview St.:geo:-79.8082888,43.3397103
END:VEVENT
END:VCALENDAR