BEGIN:VCALENDAR
VERSION:2.0
PRODID:-//The Ontario Historical Society - ECPv6.15.20//NONSGML v1.0//EN
CALSCALE:GREGORIAN
METHOD:PUBLISH
X-ORIGINAL-URL:https://ontariohistoricalsociety.ca
X-WR-CALDESC:Events for The Ontario Historical Society
REFRESH-INTERVAL;VALUE=DURATION:PT1H
X-Robots-Tag:noindex
X-PUBLISHED-TTL:PT1H
BEGIN:VTIMEZONE
TZID:America/Toronto
BEGIN:DAYLIGHT
TZOFFSETFROM:-0500
TZOFFSETTO:-0400
TZNAME:EDT
DTSTART:20250309T070000
END:DAYLIGHT
BEGIN:STANDARD
TZOFFSETFROM:-0400
TZOFFSETTO:-0500
TZNAME:EST
DTSTART:20251102T060000
END:STANDARD
BEGIN:DAYLIGHT
TZOFFSETFROM:-0500
TZOFFSETTO:-0400
TZNAME:EDT
DTSTART:20260308T070000
END:DAYLIGHT
BEGIN:STANDARD
TZOFFSETFROM:-0400
TZOFFSETTO:-0500
TZNAME:EST
DTSTART:20261101T060000
END:STANDARD
BEGIN:DAYLIGHT
TZOFFSETFROM:-0500
TZOFFSETTO:-0400
TZNAME:EDT
DTSTART:20270314T070000
END:DAYLIGHT
BEGIN:STANDARD
TZOFFSETFROM:-0400
TZOFFSETTO:-0500
TZNAME:EST
DTSTART:20271107T060000
END:STANDARD
END:VTIMEZONE
BEGIN:VEVENT
DTSTART;TZID=America/Toronto:20260401T180000
DTEND;TZID=America/Toronto:20260401T180000
DTSTAMP:20260420T173836
CREATED:20260324T155124Z
LAST-MODIFIED:20260324T155124Z
UID:10001714-1775066400-1775066400@ontariohistoricalsociety.ca
SUMMARY:The Canadian Crown: Lecture and Wine & Cheese Reception with Dr. Carolyn Harris.
DESCRIPTION:Join us for an evening exploring the history and role of the Crown in Canada\, followed by a wine and cheese reception and discussion. \nDate: April 1\, 2026\nLocation: Faculty Club\, University of Toronto \n6:00 PM Doors Open and Wine and Cheese Reception\n6:30 PM Lecture\n7:30 PM Reception Continues \nPrerequisite: Dark suit or business casual for women and men. For military personnel: mess dress with miniature medals. \nTickets:\nhttps://lepointdevente.com/billets/ja8260401001?lang=en
URL:https://ontariohistoricalsociety.ca/event/the-canadian-crown-lecture-and-wine-cheese-reception-with-dr-carolyn-harris/
LOCATION:Faculty Club University of Toronto\, 41 Willcocks St.\, Toronto\, ON\, M5S 3G3\, Canada
END:VEVENT
END:VCALENDAR