BEGIN:VCALENDAR
VERSION:2.0
PRODID:-//The Ontario Historical Society - ECPv6.15.20//NONSGML v1.0//EN
CALSCALE:GREGORIAN
METHOD:PUBLISH
X-WR-CALNAME:The Ontario Historical Society
X-ORIGINAL-URL:https://ontariohistoricalsociety.ca
X-WR-CALDESC:Events for The Ontario Historical Society
REFRESH-INTERVAL;VALUE=DURATION:PT1H
X-Robots-Tag:noindex
X-PUBLISHED-TTL:PT1H
BEGIN:VTIMEZONE
TZID:America/Toronto
BEGIN:DAYLIGHT
TZOFFSETFROM:-0500
TZOFFSETTO:-0400
TZNAME:EDT
DTSTART:20220313T070000
END:DAYLIGHT
BEGIN:STANDARD
TZOFFSETFROM:-0400
TZOFFSETTO:-0500
TZNAME:EST
DTSTART:20221106T060000
END:STANDARD
BEGIN:DAYLIGHT
TZOFFSETFROM:-0500
TZOFFSETTO:-0400
TZNAME:EDT
DTSTART:20230312T070000
END:DAYLIGHT
BEGIN:STANDARD
TZOFFSETFROM:-0400
TZOFFSETTO:-0500
TZNAME:EST
DTSTART:20231105T060000
END:STANDARD
BEGIN:DAYLIGHT
TZOFFSETFROM:-0500
TZOFFSETTO:-0400
TZNAME:EDT
DTSTART:20240310T070000
END:DAYLIGHT
BEGIN:STANDARD
TZOFFSETFROM:-0400
TZOFFSETTO:-0500
TZNAME:EST
DTSTART:20241103T060000
END:STANDARD
END:VTIMEZONE
BEGIN:VEVENT
DTSTART;TZID=America/Toronto:20230429T110000
DTEND;TZID=America/Toronto:20230429T110000
DTSTAMP:20260421T045756
CREATED:20230414T141832Z
LAST-MODIFIED:20230414T141832Z
UID:10000940-1682766000-1682766000@ontariohistoricalsociety.ca
SUMMARY:Myseum of Toronto: Nuville at the Brickworks\, Natural Medicine | MYSEUM INTERSECTIONS FESTIVAL
DESCRIPTION:Step into the shoes of a citizen from a megacity of the future in this experimental role-playing game. \nRaaraLab invites attendees on this interactive walk\, set in a Torontonian sci-fi future. Be a part of the first audience to test this experimental game! \nIn order to join this unique test group\, you’ll need a smartphone\, a set of headphones\, and a keen curiosity to explore the early stages of this unconventional new game. \nOn this Nuville tour\, you’ll test a live-action-role-playing game directed through your phone. You’ll role-play with fellow attendees as Nuville citizens who are on a mission to hack the city’s “algorithm.” You’ll be directed to complete a series of tasks that challenge the flow of urban life by rebuilding your relationship to place\, presence and humanness. \nStep into the world of Nuville. \nIn the world of Nuville\, you live in a future where the planet’s population has found refuge from the climate crisis in a megacity built by artificial intelligence. Built on robotic intelligence\, productivity is the name of the game – but at what cost to humanity? \nWhile Nuville appears to be the high-tech city of our dreams\, humans have become disconnected from city-building\, history\, the environment\, and each other. Wanting to reconnect\, you join a collective of citizens-turned-hackers\, called “Hacker D-Central\,” who want to hack the system and make Nuville more human.
URL:https://ontariohistoricalsociety.ca/event/myseum-of-toronto-nuville-at-the-brickworks-natural-medicine-myseum-intersections-festival/
LOCATION:Evergreen Brick Works\, 550 Bayview Avenue\, Toronto\, Ontario\, M4W 3X8\, Canada
ORGANIZER;CN="Myseum of Toronto":MAILTO:info@myseumoftoronto.com
GEO:43.685011;-79.3649036
X-APPLE-STRUCTURED-LOCATION;VALUE=URI;X-ADDRESS=Evergreen Brick Works 550 Bayview Avenue Toronto Ontario M4W 3X8 Canada;X-APPLE-RADIUS=500;X-TITLE=550 Bayview Avenue:geo:-79.3649036,43.685011
END:VEVENT
END:VCALENDAR