BEGIN:VCALENDAR
VERSION:2.0
PRODID:-//The Ontario Historical Society - ECPv6.15.20//NONSGML v1.0//EN
CALSCALE:GREGORIAN
METHOD:PUBLISH
X-ORIGINAL-URL:https://ontariohistoricalsociety.ca
X-WR-CALDESC:Events for The Ontario Historical Society
REFRESH-INTERVAL;VALUE=DURATION:PT1H
X-Robots-Tag:noindex
X-PUBLISHED-TTL:PT1H
BEGIN:VTIMEZONE
TZID:America/Toronto
BEGIN:DAYLIGHT
TZOFFSETFROM:-0500
TZOFFSETTO:-0400
TZNAME:EDT
DTSTART:20210314T070000
END:DAYLIGHT
BEGIN:STANDARD
TZOFFSETFROM:-0400
TZOFFSETTO:-0500
TZNAME:EST
DTSTART:20211107T060000
END:STANDARD
BEGIN:DAYLIGHT
TZOFFSETFROM:-0500
TZOFFSETTO:-0400
TZNAME:EDT
DTSTART:20220313T070000
END:DAYLIGHT
BEGIN:STANDARD
TZOFFSETFROM:-0400
TZOFFSETTO:-0500
TZNAME:EST
DTSTART:20221106T060000
END:STANDARD
BEGIN:DAYLIGHT
TZOFFSETFROM:-0500
TZOFFSETTO:-0400
TZNAME:EDT
DTSTART:20230312T070000
END:DAYLIGHT
BEGIN:STANDARD
TZOFFSETFROM:-0400
TZOFFSETTO:-0500
TZNAME:EST
DTSTART:20231105T060000
END:STANDARD
BEGIN:DAYLIGHT
TZOFFSETFROM:-0500
TZOFFSETTO:-0400
TZNAME:EDT
DTSTART:20240310T070000
END:DAYLIGHT
BEGIN:STANDARD
TZOFFSETFROM:-0400
TZOFFSETTO:-0500
TZNAME:EST
DTSTART:20241103T060000
END:STANDARD
BEGIN:DAYLIGHT
TZOFFSETFROM:-0500
TZOFFSETTO:-0400
TZNAME:EDT
DTSTART:20250309T070000
END:DAYLIGHT
BEGIN:STANDARD
TZOFFSETFROM:-0400
TZOFFSETTO:-0500
TZNAME:EST
DTSTART:20251102T060000
END:STANDARD
BEGIN:DAYLIGHT
TZOFFSETFROM:-0500
TZOFFSETTO:-0400
TZNAME:EDT
DTSTART:20260308T070000
END:DAYLIGHT
BEGIN:STANDARD
TZOFFSETFROM:-0400
TZOFFSETTO:-0500
TZNAME:EST
DTSTART:20261101T060000
END:STANDARD
BEGIN:DAYLIGHT
TZOFFSETFROM:-0500
TZOFFSETTO:-0400
TZNAME:EDT
DTSTART:20270314T070000
END:DAYLIGHT
BEGIN:STANDARD
TZOFFSETFROM:-0400
TZOFFSETTO:-0500
TZNAME:EST
DTSTART:20271107T060000
END:STANDARD
END:VTIMEZONE
BEGIN:VEVENT
DTSTART;TZID=America/Toronto:20260411T100000
DTEND;TZID=America/Toronto:20260411T160000
DTSTAMP:20260421T095108
CREATED:20260227T205114Z
LAST-MODIFIED:20260227T205114Z
UID:10001693-1775901600-1775923200@ontariohistoricalsociety.ca
SUMMARY:Middlesex Centre Archives Heritage Fair 2026
DESCRIPTION:MCA is pleased to host this year’s annual Heritage Fair at the Delaware Community Centre\, 2652 Gideon Dr.\, DELAWARE (Google defaults to East London) on Saturday\, April 11. The event will take place from 10 a.m. to 4 p.m. \nHeritage and cultural groups from across the area will be on-site to help celebrate the diversity of our community.
URL:https://ontariohistoricalsociety.ca/event/middlesex-centre-archives-heritage-fair-2026/
LOCATION:Delaware Commuity Centre\, 2652 Gideon Dr.\, Delaware\, Ontario\, N0L 1E0\, Canada
ORGANIZER;CN="Middlesex Centre Archives":MAILTO:middlesexcentrearchives@gmail.com
GEO:42.9104976;-81.4213309
X-APPLE-STRUCTURED-LOCATION;VALUE=URI;X-ADDRESS=Delaware Commuity Centre 2652 Gideon Dr. Delaware Ontario N0L 1E0 Canada;X-APPLE-RADIUS=500;X-TITLE=2652 Gideon Dr.:geo:-81.4213309,42.9104976
END:VEVENT
BEGIN:VEVENT
DTSTART;TZID=America/Toronto:20250329T100000
DTEND;TZID=America/Toronto:20250329T160000
DTSTAMP:20260421T095108
CREATED:20250326T130335Z
LAST-MODIFIED:20250326T130335Z
UID:10001447-1743242400-1743264000@ontariohistoricalsociety.ca
SUMMARY:Glencoe & District Historical Society at the Heritage Fair
DESCRIPTION:Don’t worry about the weather\, it’s indoors! \nSaturday\, March 29\, 2025. Everyone is invited to attend the annual Heritage Fair\, hosted by the Middlesex Centre Archives at the Delaware Community Centre at 2652 Gideon Drive\, DELAWARE. \nThis is a great networking event. All the museums and heritage groups attend. So many projects\, books\, stories and great people. And there is pie!! But you have to get there early before the pie is gone. Lunch too. Bring cash. \nRemember to drop in and see us at our table display “Glencoe & District Historical Society”. ALSO\, visit and support the display for “Committee for the Establishment of a Middlesex County Archive”.
URL:https://ontariohistoricalsociety.ca/event/glencoe-district-historical-society-at-the-heritage-fair/
LOCATION:Delaware Commuity Centre\, 2652 Gideon Dr.\, Delaware\, Ontario\, N0L 1E0\, Canada
ORGANIZER;CN="Middlesex Centre Archives":MAILTO:middlesexcentrearchives@gmail.com
GEO:42.9104976;-81.4213309
X-APPLE-STRUCTURED-LOCATION;VALUE=URI;X-ADDRESS=Delaware Commuity Centre 2652 Gideon Dr. Delaware Ontario N0L 1E0 Canada;X-APPLE-RADIUS=500;X-TITLE=2652 Gideon Dr.:geo:-81.4213309,42.9104976
END:VEVENT
BEGIN:VEVENT
DTSTART;TZID=America/Toronto:20220409T100000
DTEND;TZID=America/Toronto:20220409T160000
DTSTAMP:20260421T095108
CREATED:20220328T161713Z
LAST-MODIFIED:20220328T161741Z
UID:10000510-1649498400-1649520000@ontariohistoricalsociety.ca
SUMMARY:Middlesex Centre Archives Heritage Fair 2022
DESCRIPTION:
URL:https://ontariohistoricalsociety.ca/event/middlesex-centre-archives-heritage-fair-2022/
LOCATION:Delaware Commuity Centre\, 2652 Gideon Dr.\, Delaware\, Ontario\, N0L 1E0\, Canada
ORGANIZER;CN="Middlesex Centre Archives":MAILTO:middlesexcentrearchives@gmail.com
GEO:42.9104976;-81.4213309
X-APPLE-STRUCTURED-LOCATION;VALUE=URI;X-ADDRESS=Delaware Commuity Centre 2652 Gideon Dr. Delaware Ontario N0L 1E0 Canada;X-APPLE-RADIUS=500;X-TITLE=2652 Gideon Dr.:geo:-81.4213309,42.9104976
END:VEVENT
END:VCALENDAR