BEGIN:VCALENDAR
VERSION:2.0
PRODID:-//The Ontario Historical Society - ECPv6.15.20//NONSGML v1.0//EN
CALSCALE:GREGORIAN
METHOD:PUBLISH
X-ORIGINAL-URL:https://ontariohistoricalsociety.ca
X-WR-CALDESC:Events for The Ontario Historical Society
REFRESH-INTERVAL;VALUE=DURATION:PT1H
X-Robots-Tag:noindex
X-PUBLISHED-TTL:PT1H
BEGIN:VTIMEZONE
TZID:America/Toronto
BEGIN:DAYLIGHT
TZOFFSETFROM:-0500
TZOFFSETTO:-0400
TZNAME:EDT
DTSTART:20240310T070000
END:DAYLIGHT
BEGIN:STANDARD
TZOFFSETFROM:-0400
TZOFFSETTO:-0500
TZNAME:EST
DTSTART:20241103T060000
END:STANDARD
BEGIN:DAYLIGHT
TZOFFSETFROM:-0500
TZOFFSETTO:-0400
TZNAME:EDT
DTSTART:20250309T070000
END:DAYLIGHT
BEGIN:STANDARD
TZOFFSETFROM:-0400
TZOFFSETTO:-0500
TZNAME:EST
DTSTART:20251102T060000
END:STANDARD
BEGIN:DAYLIGHT
TZOFFSETFROM:-0500
TZOFFSETTO:-0400
TZNAME:EDT
DTSTART:20260308T070000
END:DAYLIGHT
BEGIN:STANDARD
TZOFFSETFROM:-0400
TZOFFSETTO:-0500
TZNAME:EST
DTSTART:20261101T060000
END:STANDARD
END:VTIMEZONE
BEGIN:VEVENT
DTSTART;TZID=America/Toronto:20250803T130000
DTEND;TZID=America/Toronto:20250803T170000
DTSTAMP:20260421T063536
CREATED:20250710T132027Z
LAST-MODIFIED:20250710T132027Z
UID:10001493-1754226000-1754240400@ontariohistoricalsociety.ca
SUMMARY:Historical Society of Ottawa - Museum Club Event: Cumberland Heritage Village Museum
DESCRIPTION:Join us for a special afternoon\, mingling with fellow members and exploring this fascinating historic village — stepping back in time to the 1920s and 1930s. \nAdults: $9.14 \nSeniors (65 and over)/Students (with full-time ID)/Youth (17 and under): $6.47 \nChildren (5 and under): Free \nFamily (Up to 2 adults\, accompanying children from same household): $23.15 \nAll are welcome! Pre-payment not required. \nWe would appreciate if you would send us an email to let us know that you’ll be joining us: museumclub@historicalsocietyottawa.ca \nTransportation not included. Free parking on-site. \nPlease contact us by July 28. 2025 if interested in participating in carpooling (as driver or passenger).\nCanteen and gift shop on-site.\nThe Cumberland Heritage Village Museum is a living-history museum that showcases life in the 1920s and 30s with dozens of heritage and true-to-the-era reproduction buildings. \nAccessibility: \n14 exhibition spaces are accessible\nWheelchair available for visitors\nAccessible seating available\nBilingual content & staff available\nHigh-contrast and large text signage available.\nDirectional signage available\nFree admission for support person
URL:https://ontariohistoricalsociety.ca/event/historical-society-of-ottawa-museum-club-event-exclusive-diefenbunker-tour-2/
LOCATION:Cumberland Heritage Village Museum\, 2940 Old Montreal Road\, Cumberland\, ON\, K4C 1G3\, Canada
ORGANIZER;CN="The Historical Society of Ottawa":MAILTO:info@historicalsocietyottawa.ca
GEO:45.5177743;-75.3912696
X-APPLE-STRUCTURED-LOCATION;VALUE=URI;X-ADDRESS=Cumberland Heritage Village Museum 2940 Old Montreal Road Cumberland ON K4C 1G3 Canada;X-APPLE-RADIUS=500;X-TITLE=2940 Old Montreal Road:geo:-75.3912696,45.5177743
END:VEVENT
END:VCALENDAR