BEGIN:VCALENDAR
VERSION:2.0
PRODID:-//The Ontario Historical Society - ECPv6.15.20//NONSGML v1.0//EN
CALSCALE:GREGORIAN
METHOD:PUBLISH
X-WR-CALNAME:The Ontario Historical Society
X-ORIGINAL-URL:https://ontariohistoricalsociety.ca
X-WR-CALDESC:Events for The Ontario Historical Society
REFRESH-INTERVAL;VALUE=DURATION:PT1H
X-Robots-Tag:noindex
X-PUBLISHED-TTL:PT1H
BEGIN:VTIMEZONE
TZID:America/Toronto
BEGIN:DAYLIGHT
TZOFFSETFROM:-0500
TZOFFSETTO:-0400
TZNAME:EDT
DTSTART:20210314T070000
END:DAYLIGHT
BEGIN:STANDARD
TZOFFSETFROM:-0400
TZOFFSETTO:-0500
TZNAME:EST
DTSTART:20211107T060000
END:STANDARD
BEGIN:DAYLIGHT
TZOFFSETFROM:-0500
TZOFFSETTO:-0400
TZNAME:EDT
DTSTART:20220313T070000
END:DAYLIGHT
BEGIN:STANDARD
TZOFFSETFROM:-0400
TZOFFSETTO:-0500
TZNAME:EST
DTSTART:20221106T060000
END:STANDARD
BEGIN:DAYLIGHT
TZOFFSETFROM:-0500
TZOFFSETTO:-0400
TZNAME:EDT
DTSTART:20230312T070000
END:DAYLIGHT
BEGIN:STANDARD
TZOFFSETFROM:-0400
TZOFFSETTO:-0500
TZNAME:EST
DTSTART:20231105T060000
END:STANDARD
END:VTIMEZONE
BEGIN:VEVENT
DTSTART;TZID=America/Toronto:20220809T190000
DTEND;TZID=America/Toronto:20220809T210000
DTSTAMP:20260421T081021
CREATED:20220725T184843Z
LAST-MODIFIED:20220725T184843Z
UID:10000625-1660071600-1660078800@ontariohistoricalsociety.ca
SUMMARY:Thunder Bay Museum: Court Street Historical Walking Tour
DESCRIPTION:Join the Thunder Bay Museum on our 2022 Historical Walking Tours. This year\, we are offering five tours: Port Arthur\, Fort William\, Court Street\, Westfort\, and East End Tours. Learn some fascinating aspects of local history; all you have to do is walk and listen! \nThe tours are approximately 1.5km and should last about 90 minutes. Be sure to dress appropriately. These tours welcome participants of all ages\, but some of the content may not be suitable for small children. Parental discretion is advised. \nAdmission for the tours is $10 per person. To register visit https://www.thunderbaymuseum.com/walking-tours/ or call the Museum at 807-623-0801. \nPreregistration is required for the tours\, payment will not be accepted during the tours. \n\nWho was William Leithenen and how did he meet his tragic fate? Why did the Queen place a naval training center so far from the ocean? Who were some of Port Arthur’s most well-to-do residents and where did they live? \nLearn the answer’s to these questions and more on this tour! \nThe tour is approximately 1.5 km and should last about 90 minutes. \nThe Historical Walking Tours will operate weather permitting\, we encourage you to dress appropriately. In instances of inclement weather\, we will do our best to reschedule the walking tour. If we are unable to reschedule the tour or you cannot join us at the later date we will be offering full refunds. \nOur tours welcome participants of all ages\, but some of the content may not be suitable for small children. Parental discretion is advised. \nStarting Location: Connaught Square\, 285 Red River Rd
URL:https://ontariohistoricalsociety.ca/event/thunder-bay-museum-court-street-historical-walking-tour/
LOCATION:Connaught Square\, 285 Red River Road\, Thunder Bay\, Ontario\, P7B 1A9
ORGANIZER;CN="Thunder Bay Museum":MAILTO:info@thunderbaymuseum.com
GEO:48.4362598;-89.2235868
X-APPLE-STRUCTURED-LOCATION;VALUE=URI;X-ADDRESS=Connaught Square 285 Red River Road Thunder Bay Ontario P7B 1A9;X-APPLE-RADIUS=500;X-TITLE=285 Red River Road:geo:-89.2235868,48.4362598
END:VEVENT
END:VCALENDAR