BEGIN:VCALENDAR
VERSION:2.0
PRODID:-//The Ontario Historical Society - ECPv6.15.20//NONSGML v1.0//EN
CALSCALE:GREGORIAN
METHOD:PUBLISH
X-ORIGINAL-URL:https://ontariohistoricalsociety.ca
X-WR-CALDESC:Events for The Ontario Historical Society
REFRESH-INTERVAL;VALUE=DURATION:PT1H
X-Robots-Tag:noindex
X-PUBLISHED-TTL:PT1H
BEGIN:VTIMEZONE
TZID:America/Toronto
BEGIN:DAYLIGHT
TZOFFSETFROM:-0500
TZOFFSETTO:-0400
TZNAME:EDT
DTSTART:20240310T070000
END:DAYLIGHT
BEGIN:STANDARD
TZOFFSETFROM:-0400
TZOFFSETTO:-0500
TZNAME:EST
DTSTART:20241103T060000
END:STANDARD
BEGIN:DAYLIGHT
TZOFFSETFROM:-0500
TZOFFSETTO:-0400
TZNAME:EDT
DTSTART:20250309T070000
END:DAYLIGHT
BEGIN:STANDARD
TZOFFSETFROM:-0400
TZOFFSETTO:-0500
TZNAME:EST
DTSTART:20251102T060000
END:STANDARD
BEGIN:DAYLIGHT
TZOFFSETFROM:-0500
TZOFFSETTO:-0400
TZNAME:EDT
DTSTART:20260308T070000
END:DAYLIGHT
BEGIN:STANDARD
TZOFFSETFROM:-0400
TZOFFSETTO:-0500
TZNAME:EST
DTSTART:20261101T060000
END:STANDARD
END:VTIMEZONE
BEGIN:VEVENT
DTSTART;VALUE=DATE:20251023
DTEND;VALUE=DATE:20251026
DTSTAMP:20260421T095235
CREATED:20250915T132404Z
LAST-MODIFIED:20250915T132404Z
UID:10001600-1761177600-1761436799@ontariohistoricalsociety.ca
SUMMARY:Italian Canadian Archives Project's 2025 Conference “Saving Stories: Communities in Conversation”
DESCRIPTION:The 2025 biannual ICAP conference aims to empower members of Italian-Canadian communities across Canada to preserve and protect their histories. It encourages participants to reflect on the vital role of archives as active tools that can support communities in telling their own stories on their own terms. This event will highlight case studies of preservation projects on Italians in Canada\, and will offer practical strategies and generative conversations to support individuals in safeguarding their stories for future generations\, no matter what stage of the process they are in. Register to join in-person or online. 
URL:https://ontariohistoricalsociety.ca/event/italian-canadian-archives-projects-2025-conference-saving-stories-communities-in-conversation/
LOCATION:Columbus Centre\, 901 Lawrence Ave West\, Toronto\, ON\, M6A 1C3\, Canada
END:VEVENT
END:VCALENDAR