BEGIN:VCALENDAR
VERSION:2.0
PRODID:-//The Ontario Historical Society - ECPv6.15.20//NONSGML v1.0//EN
CALSCALE:GREGORIAN
METHOD:PUBLISH
X-ORIGINAL-URL:https://ontariohistoricalsociety.ca
X-WR-CALDESC:Events for The Ontario Historical Society
REFRESH-INTERVAL;VALUE=DURATION:PT1H
X-Robots-Tag:noindex
X-PUBLISHED-TTL:PT1H
BEGIN:VTIMEZONE
TZID:America/Toronto
BEGIN:DAYLIGHT
TZOFFSETFROM:-0500
TZOFFSETTO:-0400
TZNAME:EDT
DTSTART:20250309T070000
END:DAYLIGHT
BEGIN:STANDARD
TZOFFSETFROM:-0400
TZOFFSETTO:-0500
TZNAME:EST
DTSTART:20251102T060000
END:STANDARD
BEGIN:DAYLIGHT
TZOFFSETFROM:-0500
TZOFFSETTO:-0400
TZNAME:EDT
DTSTART:20260308T070000
END:DAYLIGHT
BEGIN:STANDARD
TZOFFSETFROM:-0400
TZOFFSETTO:-0500
TZNAME:EST
DTSTART:20261101T060000
END:STANDARD
BEGIN:DAYLIGHT
TZOFFSETFROM:-0500
TZOFFSETTO:-0400
TZNAME:EDT
DTSTART:20270314T070000
END:DAYLIGHT
BEGIN:STANDARD
TZOFFSETFROM:-0400
TZOFFSETTO:-0500
TZNAME:EST
DTSTART:20271107T060000
END:STANDARD
END:VTIMEZONE
BEGIN:VEVENT
DTSTART;TZID=America/Toronto:20260325T183000
DTEND;TZID=America/Toronto:20260325T183000
DTSTAMP:20260421T050236
CREATED:20260319T145318Z
LAST-MODIFIED:20260319T145318Z
UID:10001713-1774463400-1774463400@ontariohistoricalsociety.ca
SUMMARY:Oxford Historical Society Talk: BURGESS HOMESTEAD RUINS - Where History and Mystery Converge
DESCRIPTION:For the upcoming March meeting\, the Oxford Historical Society is excited to announce that Julie Hawkins will be speaking about her family’s BURGESS HOMESTEAD – Where History and Mystery Converge! \nFree admission & parking. Donations welcome!
URL:https://ontariohistoricalsociety.ca/event/oxford-historical-society-talk-burgess-homestead-ruins-where-history-and-mystery-converge/
LOCATION:Chartwell Oxford Gardens\, 423 Devonshire Ave\, Woodstock\, Ontario\, Canada
ORGANIZER;CN="Oxford Historical Society":MAILTO:info@oxhs.ca
END:VEVENT
BEGIN:VEVENT
DTSTART;TZID=America/Toronto:20260225T183000
DTEND;TZID=America/Toronto:20260225T183000
DTSTAMP:20260421T050236
CREATED:20260217T200425Z
LAST-MODIFIED:20260217T200425Z
UID:10001686-1772044200-1772044200@ontariohistoricalsociety.ca
SUMMARY:Oxford Historical Society - How Do I Love Thee? Exploring a history of the Valentine
DESCRIPTION:Please join us Wednesday February 25\, 2026 for a special presentation by Scott Gillies\, Chair of the Oxford Historical Society. This is a free event. Donations Welcome!
URL:https://ontariohistoricalsociety.ca/event/oxford-historical-society-how-do-i-love-thee-exploring-a-history-of-the-valentine/
LOCATION:Chartwell Oxford Gardens\, 423 Devonshire Ave\, Woodstock\, Ontario\, Canada
ORGANIZER;CN="Oxford Historical Society":MAILTO:info@oxhs.ca
END:VEVENT
END:VCALENDAR