BEGIN:VCALENDAR
VERSION:2.0
PRODID:-//The Ontario Historical Society - ECPv6.15.20//NONSGML v1.0//EN
CALSCALE:GREGORIAN
METHOD:PUBLISH
X-WR-CALNAME:The Ontario Historical Society
X-ORIGINAL-URL:https://ontariohistoricalsociety.ca
X-WR-CALDESC:Events for The Ontario Historical Society
REFRESH-INTERVAL;VALUE=DURATION:PT1H
X-Robots-Tag:noindex
X-PUBLISHED-TTL:PT1H
BEGIN:VTIMEZONE
TZID:America/Toronto
BEGIN:DAYLIGHT
TZOFFSETFROM:-0500
TZOFFSETTO:-0400
TZNAME:EDT
DTSTART:20230312T070000
END:DAYLIGHT
BEGIN:STANDARD
TZOFFSETFROM:-0400
TZOFFSETTO:-0500
TZNAME:EST
DTSTART:20231105T060000
END:STANDARD
BEGIN:DAYLIGHT
TZOFFSETFROM:-0500
TZOFFSETTO:-0400
TZNAME:EDT
DTSTART:20240310T070000
END:DAYLIGHT
BEGIN:STANDARD
TZOFFSETFROM:-0400
TZOFFSETTO:-0500
TZNAME:EST
DTSTART:20241103T060000
END:STANDARD
BEGIN:DAYLIGHT
TZOFFSETFROM:-0500
TZOFFSETTO:-0400
TZNAME:EDT
DTSTART:20250309T070000
END:DAYLIGHT
BEGIN:STANDARD
TZOFFSETFROM:-0400
TZOFFSETTO:-0500
TZNAME:EST
DTSTART:20251102T060000
END:STANDARD
END:VTIMEZONE
BEGIN:VEVENT
DTSTART;TZID=America/Toronto:20240511T133000
DTEND;TZID=America/Toronto:20240511T133000
DTSTAMP:20260421T113447
CREATED:20240429T145051Z
LAST-MODIFIED:20240429T145051Z
UID:10001286-1715434200-1715434200@ontariohistoricalsociety.ca
SUMMARY:La Société d’histoire de Toronto - HISTORITOUR - QUARTIER DE ROSEDALE SUD-EST
DESCRIPTION:Départ à 13h30 La visite débutera à la station de métro Castle Frank \nFin :  Station de métro Sherbourne \nGuides : Brigitte LaFlair et Rolande Smith \n  \nRosedale est un quartier vaste avec de nombreuses facettes.   Nous évoquerons la fondation de Toronto avec le Gouverneur Simcoe.  Nous retrouverons la famille Jarvis\, nous verrons la famille Playter.  Les premiers propriétaires des terrains.  Nous identifierons les divers styles architecturaux du quartier – fin 19e début 20e.   Rosedale nous permet d’évoquer l’histoire de Toronto du 19e siècle.  Et au printemps il fait beau s’y promener. \n  \nSoyez des nôtres pour cette visite gratuite – il n’est pas nécessaire de réserver.  La SHT passera le chapeau.  Pas de chien\, SVP.    Contacts pour les médias : smth7631@rogers.com
URL:https://ontariohistoricalsociety.ca/event/rosedale-sud-est/
LOCATION:Castle Frank TTC Subway Station\, Bloor Street East 600\, Toronto\, Ontario\, M4W 3Z2\, Canada
ORGANIZER;CN="La Soci%C3%A9t%C3%A9 d%E2%80%99histoire de Toronto":MAILTO:info@sht.ca
GEO:43.67324;-79.3693749
X-APPLE-STRUCTURED-LOCATION;VALUE=URI;X-ADDRESS=Castle Frank TTC Subway Station Bloor Street East 600 Toronto Ontario M4W 3Z2 Canada;X-APPLE-RADIUS=500;X-TITLE=Bloor Street East 600:geo:-79.3693749,43.67324
END:VEVENT
END:VCALENDAR