BEGIN:VCALENDAR
VERSION:2.0
PRODID:-//The Ontario Historical Society - ECPv6.15.20//NONSGML v1.0//EN
CALSCALE:GREGORIAN
METHOD:PUBLISH
X-WR-CALNAME:The Ontario Historical Society
X-ORIGINAL-URL:https://ontariohistoricalsociety.ca
X-WR-CALDESC:Events for The Ontario Historical Society
REFRESH-INTERVAL;VALUE=DURATION:PT1H
X-Robots-Tag:noindex
X-PUBLISHED-TTL:PT1H
BEGIN:VTIMEZONE
TZID:America/Toronto
BEGIN:DAYLIGHT
TZOFFSETFROM:-0500
TZOFFSETTO:-0400
TZNAME:EDT
DTSTART:20210314T070000
END:DAYLIGHT
BEGIN:STANDARD
TZOFFSETFROM:-0400
TZOFFSETTO:-0500
TZNAME:EST
DTSTART:20211107T060000
END:STANDARD
BEGIN:DAYLIGHT
TZOFFSETFROM:-0500
TZOFFSETTO:-0400
TZNAME:EDT
DTSTART:20220313T070000
END:DAYLIGHT
BEGIN:STANDARD
TZOFFSETFROM:-0400
TZOFFSETTO:-0500
TZNAME:EST
DTSTART:20221106T060000
END:STANDARD
BEGIN:DAYLIGHT
TZOFFSETFROM:-0500
TZOFFSETTO:-0400
TZNAME:EDT
DTSTART:20230312T070000
END:DAYLIGHT
BEGIN:STANDARD
TZOFFSETFROM:-0400
TZOFFSETTO:-0500
TZNAME:EST
DTSTART:20231105T060000
END:STANDARD
END:VTIMEZONE
BEGIN:VEVENT
DTSTART;TZID=America/Toronto:20221027T190000
DTEND;TZID=America/Toronto:20221027T190000
DTSTAMP:20260421T063159
CREATED:20220927T140114Z
LAST-MODIFIED:20220927T140114Z
UID:10000711-1666897200-1666897200@ontariohistoricalsociety.ca
SUMMARY:Baysville Public Library: Author J. Patrick Boyer on "Putting Muskoka on the Map / From Indigenous Wayfinding to Satellite Imaging"
DESCRIPTION:Join J. Patrick Boyer who will speak about his book Putting Muskoka on the Map / From Indigenous Wayfinding to Satellite Imaging.
URL:https://ontariohistoricalsociety.ca/event/baysville-public-library-author-j-patrick-boyer/
LOCATION:Baysville Public Library\, 10 University St.\, Baysville\, Ontario\, P0B 1A0
ORGANIZER;CN="J. Patrick Boyer":MAILTO:patrick@muskokabooks.ca
GEO:45.1469728;-79.1173333
X-APPLE-STRUCTURED-LOCATION;VALUE=URI;X-ADDRESS=Baysville Public Library 10 University St. Baysville Ontario P0B 1A0;X-APPLE-RADIUS=500;X-TITLE=10 University St.:geo:-79.1173333,45.1469728
END:VEVENT
END:VCALENDAR