BEGIN:VCALENDAR
VERSION:2.0
PRODID:-//The Ontario Historical Society - ECPv6.15.20//NONSGML v1.0//EN
CALSCALE:GREGORIAN
METHOD:PUBLISH
X-ORIGINAL-URL:https://ontariohistoricalsociety.ca
X-WR-CALDESC:Events for The Ontario Historical Society
REFRESH-INTERVAL;VALUE=DURATION:PT1H
X-Robots-Tag:noindex
X-PUBLISHED-TTL:PT1H
BEGIN:VTIMEZONE
TZID:America/Toronto
BEGIN:DAYLIGHT
TZOFFSETFROM:-0500
TZOFFSETTO:-0400
TZNAME:EDT
DTSTART:20210314T070000
END:DAYLIGHT
BEGIN:STANDARD
TZOFFSETFROM:-0400
TZOFFSETTO:-0500
TZNAME:EST
DTSTART:20211107T060000
END:STANDARD
BEGIN:DAYLIGHT
TZOFFSETFROM:-0500
TZOFFSETTO:-0400
TZNAME:EDT
DTSTART:20220313T070000
END:DAYLIGHT
BEGIN:STANDARD
TZOFFSETFROM:-0400
TZOFFSETTO:-0500
TZNAME:EST
DTSTART:20221106T060000
END:STANDARD
BEGIN:DAYLIGHT
TZOFFSETFROM:-0500
TZOFFSETTO:-0400
TZNAME:EDT
DTSTART:20230312T070000
END:DAYLIGHT
BEGIN:STANDARD
TZOFFSETFROM:-0400
TZOFFSETTO:-0500
TZNAME:EST
DTSTART:20231105T060000
END:STANDARD
BEGIN:DAYLIGHT
TZOFFSETFROM:-0500
TZOFFSETTO:-0400
TZNAME:EDT
DTSTART:20240310T070000
END:DAYLIGHT
BEGIN:STANDARD
TZOFFSETFROM:-0400
TZOFFSETTO:-0500
TZNAME:EST
DTSTART:20241103T060000
END:STANDARD
END:VTIMEZONE
BEGIN:VEVENT
DTSTART;TZID=America/Toronto:20230516T193000
DTEND;TZID=America/Toronto:20230516T193000
DTSTAMP:20260421T050324
CREATED:20230501T142846Z
LAST-MODIFIED:20230501T142846Z
UID:10000978-1684265400-1684265400@ontariohistoricalsociety.ca
SUMMARY:Peterborough Historical Society May 2023 Lecture: “Heritage Conservation and Urban Regeneration”
DESCRIPTION:NOTE: OUR MAY MEETING WILL BE HELD IN-PERSON. The date is Tuesday\, 16 May 2023 and the location will be Bagnani Hall at Traill College. \n“Heritage Conservation and Urban Regeneration”: A Panel Discussion and Round Table on Development and Adaptive Reuse \nChallenges facing urban development are much in the news\, among which affordable housing\, densification\, public transit\, environmental urgency\, economic vibrancy\, financial capacity\, cultural and recreational demand. Is the preservation of heritage buildings and spaces compatible with solutions to other urban challenges? What constructive approaches can developers\, architects\, engineers and city planners bring to the adaptive reuse of heritage properties? \nThe panelists are Deborah Keay\, Manager\, Municipal Engineering with D.M. Mills Associates in Peterborough: and Roy Turner\, Senior Architect with Lett Architects\, Peterborough. The moderator is Dennis Carter-Edwards\, retired Cultural Resource Manager with the Trent-Severn Waterway. Come and join the discussion. \nTuesday\, 16 May 2023\, Bagnani Hall\, Traill College\, 7:30 p.m. All welcome. Street parking on London and Dublin Streets.
URL:https://ontariohistoricalsociety.ca/event/peterborough-historical-society-may-2023-lecture-heritage-conservation-and-urban-regeneration/
LOCATION:Bagnani Hall\, Catherine Parr Traill College\, 315 Dublin St\, Peterborough\, Ontario\, K9H 2Z4\, Canada
ORGANIZER;CN="Peterborough Historical Society":MAILTO:info@peterboroughhistoricalsociety.ca
GEO:44.3114997;-78.327468
X-APPLE-STRUCTURED-LOCATION;VALUE=URI;X-ADDRESS=Bagnani Hall Catherine Parr Traill College 315 Dublin St Peterborough Ontario K9H 2Z4 Canada;X-APPLE-RADIUS=500;X-TITLE=315 Dublin St:geo:-78.327468,44.3114997
END:VEVENT
BEGIN:VEVENT
DTSTART;TZID=America/Toronto:20221115T193000
DTEND;TZID=America/Toronto:20221115T193000
DTSTAMP:20260421T050324
CREATED:20220902T144846Z
LAST-MODIFIED:20221031T151513Z
UID:10000659-1668540600-1668540600@ontariohistoricalsociety.ca
SUMMARY:Peterborough Historical Society November 2022 Lecture: "Playing with Fire: The 1918 Explosion at the British Chemical Company\, Trenton"
DESCRIPTION:OUR NOVEMBER MEETING WILL BE HELD IN-PERSON. The location will be Bagnani Hall at Traill College. It is a spacious room with an HVAC system and an additional HEPA filter. \n\nA Documentary and Commentary by Sean Scally\, filmmaker \nSean Scally’s documentary film\, Playing with Fire\, recounts the story of the horrific explosion of the British Chemical Company’s munitions plant in Trenton in October 1918. This little-known story is replete with terror\, heroism and intrigue but with less devastating consequences than the better-known Halifax Explosion ten months earlier. Sean Scally began making films after a career in the Canadian military and Ontario Hydro. He is a self-taught photographer\, podcaster and cinematographer\, having created a body of award-winning work in photography\, short films and features. He is prominent in the cultural life of theatre\, music and history in the Quinte area. \nTuesday\, 15 November 2022\, Bagnani Hall\, Traill College\, 7:30 p.m. All welcome. Street parking on London\, Dublin\, Rubidge and Stewart Streets.
URL:https://ontariohistoricalsociety.ca/event/peterborough-historical-society-november-2022-lecture/
LOCATION:Bagnani Hall\, Catherine Parr Traill College\, 315 Dublin St\, Peterborough\, Ontario\, K9H 2Z4\, Canada
ORGANIZER;CN="Peterborough Historical Society":MAILTO:info@peterboroughhistoricalsociety.ca
GEO:44.3114997;-78.327468
X-APPLE-STRUCTURED-LOCATION;VALUE=URI;X-ADDRESS=Bagnani Hall Catherine Parr Traill College 315 Dublin St Peterborough Ontario K9H 2Z4 Canada;X-APPLE-RADIUS=500;X-TITLE=315 Dublin St:geo:-78.327468,44.3114997
END:VEVENT
BEGIN:VEVENT
DTSTART;TZID=America/Toronto:20221018T193000
DTEND;TZID=America/Toronto:20221018T193000
DTSTAMP:20260421T050324
CREATED:20220902T144636Z
LAST-MODIFIED:20220930T194407Z
UID:10000658-1666121400-1666121400@ontariohistoricalsociety.ca
SUMMARY:Peterborough Historical Society October 2022 Lecture: Panel Discussion on "What is an Urban Park for?"
DESCRIPTION:OUR OCTOBER MEETING WILL BE HELD IN-PERSON. The location will be Bagnani Hall at Traill College. It is a spacious room with an HVAC system and an additional HEPA filter. \n\n“What is an Urban Park For?”\nA Panel Discussion on Jackson Park \nThe discussion will examine the history of Jackson Park from its industrial origins to an entertainment and recreational park\, and on the challenges facing the park today. This promises insights into one of the City’s vital assets at a time when the pressures of development underscore the need for sustainable urban greenspaces. The panelists include Robert Clarke\, award winning author and resident expert on the movie industry; Terry Hawkins\, former Academic Superintendent of the Peterborough County Board of Education and early resident of Bonaccord Street; Karen Carter-Edwards\, retired history teacher and local historian; and Richard Scott\, retired planner with Parks Canada who worked on the Trent Severn Waterway and the Rouge National Urban Park. \nTuesday\, 18 October 2022\, Bagnani Hall\, Traill College\, 7:30 p.m. All welcome. Street parking on London and Dublin Streets.
URL:https://ontariohistoricalsociety.ca/event/peterborough-historical-society-october-2022-lecture/
LOCATION:Bagnani Hall\, Catherine Parr Traill College\, 315 Dublin St\, Peterborough\, Ontario\, K9H 2Z4\, Canada
ORGANIZER;CN="Peterborough Historical Society":MAILTO:info@peterboroughhistoricalsociety.ca
GEO:44.3114997;-78.327468
X-APPLE-STRUCTURED-LOCATION;VALUE=URI;X-ADDRESS=Bagnani Hall Catherine Parr Traill College 315 Dublin St Peterborough Ontario K9H 2Z4 Canada;X-APPLE-RADIUS=500;X-TITLE=315 Dublin St:geo:-78.327468,44.3114997
END:VEVENT
END:VCALENDAR