BEGIN:VCALENDAR
VERSION:2.0
PRODID:-//The Ontario Historical Society - ECPv6.15.20//NONSGML v1.0//EN
CALSCALE:GREGORIAN
METHOD:PUBLISH
X-ORIGINAL-URL:https://ontariohistoricalsociety.ca
X-WR-CALDESC:Events for The Ontario Historical Society
REFRESH-INTERVAL;VALUE=DURATION:PT1H
X-Robots-Tag:noindex
X-PUBLISHED-TTL:PT1H
BEGIN:VTIMEZONE
TZID:America/Toronto
BEGIN:DAYLIGHT
TZOFFSETFROM:-0500
TZOFFSETTO:-0400
TZNAME:EDT
DTSTART:20180311T070000
END:DAYLIGHT
BEGIN:STANDARD
TZOFFSETFROM:-0400
TZOFFSETTO:-0500
TZNAME:EST
DTSTART:20181104T060000
END:STANDARD
BEGIN:DAYLIGHT
TZOFFSETFROM:-0500
TZOFFSETTO:-0400
TZNAME:EDT
DTSTART:20190310T070000
END:DAYLIGHT
BEGIN:STANDARD
TZOFFSETFROM:-0400
TZOFFSETTO:-0500
TZNAME:EST
DTSTART:20191103T060000
END:STANDARD
BEGIN:DAYLIGHT
TZOFFSETFROM:-0500
TZOFFSETTO:-0400
TZNAME:EDT
DTSTART:20200308T070000
END:DAYLIGHT
BEGIN:STANDARD
TZOFFSETFROM:-0400
TZOFFSETTO:-0500
TZNAME:EST
DTSTART:20201101T060000
END:STANDARD
BEGIN:DAYLIGHT
TZOFFSETFROM:-0500
TZOFFSETTO:-0400
TZNAME:EDT
DTSTART:20210314T070000
END:DAYLIGHT
BEGIN:STANDARD
TZOFFSETFROM:-0400
TZOFFSETTO:-0500
TZNAME:EST
DTSTART:20211107T060000
END:STANDARD
BEGIN:DAYLIGHT
TZOFFSETFROM:-0500
TZOFFSETTO:-0400
TZNAME:EDT
DTSTART:20220313T070000
END:DAYLIGHT
BEGIN:STANDARD
TZOFFSETFROM:-0400
TZOFFSETTO:-0500
TZNAME:EST
DTSTART:20221106T060000
END:STANDARD
BEGIN:DAYLIGHT
TZOFFSETFROM:-0500
TZOFFSETTO:-0400
TZNAME:EDT
DTSTART:20230312T070000
END:DAYLIGHT
BEGIN:STANDARD
TZOFFSETFROM:-0400
TZOFFSETTO:-0500
TZNAME:EST
DTSTART:20231105T060000
END:STANDARD
BEGIN:DAYLIGHT
TZOFFSETFROM:-0500
TZOFFSETTO:-0400
TZNAME:EDT
DTSTART:20240310T070000
END:DAYLIGHT
BEGIN:STANDARD
TZOFFSETFROM:-0400
TZOFFSETTO:-0500
TZNAME:EST
DTSTART:20241103T060000
END:STANDARD
BEGIN:DAYLIGHT
TZOFFSETFROM:-0500
TZOFFSETTO:-0400
TZNAME:EDT
DTSTART:20250309T070000
END:DAYLIGHT
BEGIN:STANDARD
TZOFFSETFROM:-0400
TZOFFSETTO:-0500
TZNAME:EST
DTSTART:20251102T060000
END:STANDARD
BEGIN:DAYLIGHT
TZOFFSETFROM:-0500
TZOFFSETTO:-0400
TZNAME:EDT
DTSTART:20260308T070000
END:DAYLIGHT
BEGIN:STANDARD
TZOFFSETFROM:-0400
TZOFFSETTO:-0500
TZNAME:EST
DTSTART:20261101T060000
END:STANDARD
END:VTIMEZONE
BEGIN:VEVENT
DTSTART;TZID=America/Toronto:20251117T193000
DTEND;TZID=America/Toronto:20251117T193000
DTSTAMP:20260421T100139
CREATED:20251031T142949Z
LAST-MODIFIED:20251031T142949Z
UID:10001636-1763407800-1763407800@ontariohistoricalsociety.ca
SUMMARY:Albion Bolton Historical Society Meeting : The Home Front 1914-1918
DESCRIPTION:The Albion Bolton Historical Society’s next meeting is on Monday\, November 17th at the Albion Bolton Community Centre\, Meeting Room C\, 2nd Floor\, 150 Queen Street South\, Bolton for a 7:30 PM start. Nathan Hiller is presenting ‘The Home Front 1914-1918. Nathan will share what was happening locally and the contributions the community made during the First World War. \n  \nMany men answered the call to volunteer during the First World War and went overseas to serve. Back home in Canada there was also a concentrated effort to encourage the general population to do their part. Nathan will present how the men\, women and even children of Albion\, Bolton and Peel contributed\, using local newspapers and other sources from the 1914-1918 war years. Our local communities rose to the challenge and accomplished some amazing achievements. Meanwhile daily life continued on the home front despite their hardships\, losses and fears.
URL:https://ontariohistoricalsociety.ca/event/albion-bolton-historical-society-meeting-the-home-front-1914-1918/
LOCATION:Albion Bolton Community Centre (Meeting Room C\, 2nd Floor)\, 150 Queen St. South\, Bolton\, Ontario\, L7E 1E3\, Canada
ORGANIZER;CN="Albion Bolton Historical Society":MAILTO:nhillerphoto@bell.net
GEO:43.8760991;-79.7355183
X-APPLE-STRUCTURED-LOCATION;VALUE=URI;X-ADDRESS=Albion Bolton Community Centre (Meeting Room C 2nd Floor) 150 Queen St. South Bolton Ontario L7E 1E3 Canada;X-APPLE-RADIUS=500;X-TITLE=150 Queen St. South:geo:-79.7355183,43.8760991
END:VEVENT
BEGIN:VEVENT
DTSTART;TZID=America/Toronto:20251006T193000
DTEND;TZID=America/Toronto:20251006T193000
DTSTAMP:20260421T100139
CREATED:20250923T123737Z
LAST-MODIFIED:20250923T123737Z
UID:10001607-1759779000-1759779000@ontariohistoricalsociety.ca
SUMMARY:Albion Bolton Historical Society Presents "Out of Old Peel County Kitchens"
DESCRIPTION:The next Albion Bolton Historical Society is on Monday October 6th at the Albion Bolton Community Centre\, Meeting Room C\, 2nd Floor\, 150 Queen Street South\, Bolton for a 7:30 PM start. Carolyn Crawford is presenting ‘Out of Old Peel County Kitchens’. Carolyn will share her passion for local cookbooks and their recipes. You are invited to bring cookbooks and recipes to share with the group.
URL:https://ontariohistoricalsociety.ca/event/albion-bolton-historical-society-presents-out-of-old-peel-county-kitchens/
LOCATION:Albion Bolton Community Centre (Meeting Room C\, 2nd Floor)\, 150 Queen St. South\, Bolton\, Ontario\, L7E 1E3\, Canada
ORGANIZER;CN="Albion Bolton Historical Society":MAILTO:nhillerphoto@bell.net
GEO:43.8760991;-79.7355183
X-APPLE-STRUCTURED-LOCATION;VALUE=URI;X-ADDRESS=Albion Bolton Community Centre (Meeting Room C 2nd Floor) 150 Queen St. South Bolton Ontario L7E 1E3 Canada;X-APPLE-RADIUS=500;X-TITLE=150 Queen St. South:geo:-79.7355183,43.8760991
END:VEVENT
BEGIN:VEVENT
DTSTART;TZID=America/Toronto:20250609T193000
DTEND;TZID=America/Toronto:20250609T193000
DTSTAMP:20260421T100139
CREATED:20250512T174357Z
LAST-MODIFIED:20250512T174357Z
UID:10001460-1749497400-1749497400@ontariohistoricalsociety.ca
SUMMARY:Albion Bolton Historical Society Presents "The Grandsons of Eliza Duffy"
DESCRIPTION:The next Albion Bolton Historical Society meeting is on Monday\, June 9\, for a 7:30 PM start\, at the Albion Bolton Community Centre\, 150 Queen Street\, South\, Bolton\, meeting room C\, 2nd Floor\, (elevator available). \nWe’re very happy to have Alan Duffy present ‘The Grandsons of Eliza Duffy’. \n  \nMany of the current executive decided to serve for 2025 but we still need a secretary. Please consider volunteering. \nFor those who haven’t paid your 2025 membership the price will remain at $10 per year and guests at $5 per visit. \nIt’s sure to be an entertaining and interesting presentation. Hope to see you there. All are welcome.
URL:https://ontariohistoricalsociety.ca/event/albion-bolton-historical-society-presents-the-grandsons-of-eliza-duffy/
LOCATION:Albion Bolton Community Centre (Meeting Room C\, 2nd Floor)\, 150 Queen St. South\, Bolton\, Ontario\, L7E 1E3\, Canada
ORGANIZER;CN="Albion Bolton Historical Society":MAILTO:nhillerphoto@bell.net
GEO:43.8760991;-79.7355183
X-APPLE-STRUCTURED-LOCATION;VALUE=URI;X-ADDRESS=Albion Bolton Community Centre (Meeting Room C 2nd Floor) 150 Queen St. South Bolton Ontario L7E 1E3 Canada;X-APPLE-RADIUS=500;X-TITLE=150 Queen St. South:geo:-79.7355183,43.8760991
END:VEVENT
BEGIN:VEVENT
DTSTART;TZID=America/Toronto:20250414T193000
DTEND;TZID=America/Toronto:20250414T193000
DTSTAMP:20260421T100139
CREATED:20250409T130225Z
LAST-MODIFIED:20250409T130225Z
UID:10001450-1744659000-1744659000@ontariohistoricalsociety.ca
SUMMARY:Albion Bolton Historical Society Meeting "The Hiking Experience: The Humber Valley Heritage Trail"
DESCRIPTION:the next Albion Bolton Historical Society meeting is on Monday\, April 14\, for a 7:30 PM start\, at the Albion Bolton Community Centre\, 150 Queen Street\, South\, Bolton\, meeting room C\, 2nd Floor\, (elevator available). We’re very happy to have Jerry Gorman present ‘The Hiking Experience: The Humber Valley Heritage Trail’. Tell your friends and family.
URL:https://ontariohistoricalsociety.ca/event/albion-bolton-historical-society-meeting-the-hiking-experience-the-humber-valley-heritage-trail/
LOCATION:Albion Bolton Community Centre (Meeting Room C\, 2nd Floor)\, 150 Queen St. South\, Bolton\, Ontario\, L7E 1E3\, Canada
ORGANIZER;CN="Albion Bolton Historical Society":MAILTO:nhillerphoto@bell.net
GEO:43.8760991;-79.7355183
X-APPLE-STRUCTURED-LOCATION;VALUE=URI;X-ADDRESS=Albion Bolton Community Centre (Meeting Room C 2nd Floor) 150 Queen St. South Bolton Ontario L7E 1E3 Canada;X-APPLE-RADIUS=500;X-TITLE=150 Queen St. South:geo:-79.7355183,43.8760991
END:VEVENT
BEGIN:VEVENT
DTSTART;TZID=America/Toronto:20250210T193000
DTEND;TZID=America/Toronto:20250210T213000
DTSTAMP:20260421T100139
CREATED:20250124T154255Z
LAST-MODIFIED:20250124T154255Z
UID:10001411-1739215800-1739223000@ontariohistoricalsociety.ca
SUMMARY:Albion Bolton Historical Society Presentation "Stand by Your Man (more or less): The Wives of Canada’s Prime Ministers"
DESCRIPTION:At the ABHS meeting on Monday February 10 noted historian Ken Weber will discuss a number of truly interesting women who have accompanied their spouses to the peak of Canada’s political landscape and how they approached their role as prime minister’s wife in quite different ways. Several wives were supportive helpmates while some others came to dislike the position intensely and tried to remain hidden. Interestingly despite the incredible pressures put on marriages that are in the public eye\, to date there have been no less than five great love matches among Canada’s prime ministral couples. \nThis is sure to be an entertaining and interesting presentation. Hope to see you there! \nThis evening will also include the Annual General Meeting. Many of the current executive have decided to put their names forward for 2025 but we need a secretary and a director to have a full slate. Please consider volunteering. \nYour 2025 membership is due in February and will remain at $10 per year and guests at $5 per visit. \nQuestions: Contact Nathan Hiller at nhillerphoto@bell.net or 905-584-2801.
URL:https://ontariohistoricalsociety.ca/event/albion-bolton-historical-society-2025-february/
LOCATION:Albion Bolton Community Centre (Meeting Room C\, 2nd Floor)\, 150 Queen St. South\, Bolton\, Ontario\, L7E 1E3\, Canada
ORGANIZER;CN="Albion Bolton Historical Society":MAILTO:nhillerphoto@bell.net
GEO:43.8760991;-79.7355183
X-APPLE-STRUCTURED-LOCATION;VALUE=URI;X-ADDRESS=Albion Bolton Community Centre (Meeting Room C 2nd Floor) 150 Queen St. South Bolton Ontario L7E 1E3 Canada;X-APPLE-RADIUS=500;X-TITLE=150 Queen St. South:geo:-79.7355183,43.8760991
END:VEVENT
BEGIN:VEVENT
DTSTART;TZID=America/Toronto:20241118T193000
DTEND;TZID=America/Toronto:20241118T213000
DTSTAMP:20260421T100139
CREATED:20241022T162452Z
LAST-MODIFIED:20241022T162452Z
UID:10001374-1731958200-1731965400@ontariohistoricalsociety.ca
SUMMARY:Albion Bolton Historical Society Presentation "OH CANADA! Our Home & Inventive Land!"
DESCRIPTION:From a life-long passion for Canadian Inventors\, Professor Mark Rector inspired his students with tales of great Canadian inventions. Mark will share many intriguing and poignant tales of amazing Canadian ingenuity. This multimedia road show presentation will have you cheering for Canada as he relates many stories from the book including the tragedy of the Avro Arrow\, the triumph of millions saved by the pacemaker and the most intricate robot ever built\, the Canadarm. Mark will also tell the triumphant story of his project with four students that made history with a world’s first. \nQuestions? Contact Nathan at 905-584-2801 or nhillerphoto@bell.net
URL:https://ontariohistoricalsociety.ca/event/albion-bolton-historical-society-presentation-oh-canada-our-home-inventive-land/
LOCATION:Albion Bolton Community Centre (Meeting Room C\, 2nd Floor)\, 150 Queen St. South\, Bolton\, Ontario\, L7E 1E3\, Canada
ORGANIZER;CN="Albion Bolton Historical Society":MAILTO:nhillerphoto@bell.net
GEO:43.8760991;-79.7355183
X-APPLE-STRUCTURED-LOCATION;VALUE=URI;X-ADDRESS=Albion Bolton Community Centre (Meeting Room C 2nd Floor) 150 Queen St. South Bolton Ontario L7E 1E3 Canada;X-APPLE-RADIUS=500;X-TITLE=150 Queen St. South:geo:-79.7355183,43.8760991
END:VEVENT
BEGIN:VEVENT
DTSTART;TZID=America/Toronto:20241007T193000
DTEND;TZID=America/Toronto:20241007T213000
DTSTAMP:20260421T100139
CREATED:20240910T184252Z
LAST-MODIFIED:20240910T184252Z
UID:10001353-1728329400-1728336600@ontariohistoricalsociety.ca
SUMMARY:Albion-Bolton Historical Society: "The History of Milling in Bolton: 1821-1967" by John McFall
DESCRIPTION:On Monday\, October 7th at 7:30 – 9:30 PM we are having a scheduled meeting with a presentation “The History of Milling in Bolton: 1821-1967” by John McFall. The Albion Bolton Community Centre\, 150 Queen Street South\, Bolton\, Meeting Room C\, 2nd Floor (elevator available). This will be a pay what you can for non-members.
URL:https://ontariohistoricalsociety.ca/event/albion-bolton-historical-society-the-history-of-milling-in-bolton-1821-1967-by-john-mcfall/
LOCATION:Albion Bolton Community Centre (Meeting Room C\, 2nd Floor)\, 150 Queen St. South\, Bolton\, Ontario\, L7E 1E3\, Canada
ORGANIZER;CN="Albion Bolton Historical Society":MAILTO:nhillerphoto@bell.net
GEO:43.8760991;-79.7355183
X-APPLE-STRUCTURED-LOCATION;VALUE=URI;X-ADDRESS=Albion Bolton Community Centre (Meeting Room C 2nd Floor) 150 Queen St. South Bolton Ontario L7E 1E3 Canada;X-APPLE-RADIUS=500;X-TITLE=150 Queen St. South:geo:-79.7355183,43.8760991
END:VEVENT
BEGIN:VEVENT
DTSTART;TZID=America/Toronto:20240415T193000
DTEND;TZID=America/Toronto:20240415T193000
DTSTAMP:20260421T100139
CREATED:20240404T134147Z
LAST-MODIFIED:20240404T134147Z
UID:10001273-1713209400-1713209400@ontariohistoricalsociety.ca
SUMMARY:Albion Bolton Historical Society: 'An Evening With Archivists'
DESCRIPTION:Presented by Alesha Grummett-Roesch and Jacob Keszei \nAn evening with two Region of Peel archivists\, as they discuss archival work and highlight collections tied to the Albion area. Together we will explore new donations showcasing records that provide a glimpse into the area’s history. A night of thrills! \nThe evening will also include an activity of sharing images from the Bolton Enterprise in the hopes of identifying individuals. \nQuestions: contact Nathan at 905-584-2801 or nhillerphoto@bell.net
URL:https://ontariohistoricalsociety.ca/event/albion-bolton-historical-society-an-evening-with-archivists/
LOCATION:Albion Bolton Community Centre (Meeting Room C\, 2nd Floor)\, 150 Queen St. South\, Bolton\, Ontario\, L7E 1E3\, Canada
ORGANIZER;CN="Albion Bolton Historical Society":MAILTO:nhillerphoto@bell.net
GEO:43.8760991;-79.7355183
X-APPLE-STRUCTURED-LOCATION;VALUE=URI;X-ADDRESS=Albion Bolton Community Centre (Meeting Room C 2nd Floor) 150 Queen St. South Bolton Ontario L7E 1E3 Canada;X-APPLE-RADIUS=500;X-TITLE=150 Queen St. South:geo:-79.7355183,43.8760991
END:VEVENT
BEGIN:VEVENT
DTSTART;TZID=America/Toronto:20240212T193000
DTEND;TZID=America/Toronto:20240212T193000
DTSTAMP:20260421T100139
CREATED:20240115T152711Z
LAST-MODIFIED:20240115T152711Z
UID:10001250-1707766200-1707766200@ontariohistoricalsociety.ca
SUMMARY:Albion Bolton Historical Society "Upper Canada Preserved"
DESCRIPTION:Presented by Richard David Feltoe February 12\, 2024 at 7:30 P.M. \nAfter over 200 years\, the War of 1812-1815 may seem a distant memory. However\, it is still possible to visit many of these significant historic sites and event locations across Ontario (Upper Canada). Feltoe will lead a virtual tour of some of these historic locations\, using original artwork and current photographs to reveal what can be seen on a modern family tour or day-trip down the Niagara Peninsula.
URL:https://ontariohistoricalsociety.ca/event/albion-bolton-historical-society-upper-canada-preserved/
LOCATION:Albion Bolton Community Centre (Meeting Room C\, 2nd Floor)\, 150 Queen St. South\, Bolton\, Ontario\, L7E 1E3\, Canada
ORGANIZER;CN="Albion Bolton Historical Society":MAILTO:nhillerphoto@bell.net
GEO:43.8760991;-79.7355183
X-APPLE-STRUCTURED-LOCATION;VALUE=URI;X-ADDRESS=Albion Bolton Community Centre (Meeting Room C 2nd Floor) 150 Queen St. South Bolton Ontario L7E 1E3 Canada;X-APPLE-RADIUS=500;X-TITLE=150 Queen St. South:geo:-79.7355183,43.8760991
END:VEVENT
BEGIN:VEVENT
DTSTART;TZID=America/Toronto:20231120T193000
DTEND;TZID=America/Toronto:20231120T193000
DTSTAMP:20260421T100139
CREATED:20231102T185828Z
LAST-MODIFIED:20231102T185828Z
UID:10001220-1700508600-1700508600@ontariohistoricalsociety.ca
SUMMARY:Albion Bolton Historical Society Presents The Life & Times of Cy Wallace Presented by Nathan Hiller
DESCRIPTION:Using Cy Wallace’s memoir\, which he titled Reflections\, Notes and\nRamblings of My Life & Times\, you’ll see place and events which stayed\nclose to him throughout his life. Showcasing his numerous sketches and\ndesigns and using local photographs from the Albion Bolton Historical\nSociety\, Nathan will take you down this Memory Lane. No doubt many\nwho knew Cy have a story or two that they can share with us.
URL:https://ontariohistoricalsociety.ca/event/albion-bolton-historical-society-presents-the-life-times-of-cy-wallace-presented-by-nathan-hiller/
LOCATION:Albion Bolton Community Centre (Meeting Room C\, 2nd Floor)\, 150 Queen St. South\, Bolton\, Ontario\, L7E 1E3\, Canada
ORGANIZER;CN="Albion Bolton Historical Society":MAILTO:nhillerphoto@bell.net
GEO:43.8760991;-79.7355183
X-APPLE-STRUCTURED-LOCATION;VALUE=URI;X-ADDRESS=Albion Bolton Community Centre (Meeting Room C 2nd Floor) 150 Queen St. South Bolton Ontario L7E 1E3 Canada;X-APPLE-RADIUS=500;X-TITLE=150 Queen St. South:geo:-79.7355183,43.8760991
END:VEVENT
BEGIN:VEVENT
DTSTART;TZID=America/Toronto:20231016T193000
DTEND;TZID=America/Toronto:20231016T203000
DTSTAMP:20260421T100139
CREATED:20230921T141900Z
LAST-MODIFIED:20230921T141900Z
UID:10001176-1697484600-1697488200@ontariohistoricalsociety.ca
SUMMARY:Albion Bolton Historical Society October Meeting
DESCRIPTION:The October 16 meeting will be a Show & Tell. Members or guests can bring something with a Albion or Bolton connection. It can be anything that you think will be interesting. Having a photograph of any items brought to the Show & Tell would be great so that it can be projected on the screen during each mini-presentation. Please send a photograph to nhillerphoto@bell.net or 905-584-2801 or call to arrange to photograph your item. We will accept last minute items on the night\, but in order to prepare the program\, advance notice would be helpful. Hope to see you on Monday October 16 for a 7:30 PM start.
URL:https://ontariohistoricalsociety.ca/event/albion-bolton-historical-society-october-meeting/
LOCATION:Albion Bolton Community Centre (Meeting Room C\, 2nd Floor)\, 150 Queen St. South\, Bolton\, Ontario\, L7E 1E3\, Canada
ORGANIZER;CN="Albion Bolton Historical Society":MAILTO:nhillerphoto@bell.net
GEO:43.8760991;-79.7355183
X-APPLE-STRUCTURED-LOCATION;VALUE=URI;X-ADDRESS=Albion Bolton Community Centre (Meeting Room C 2nd Floor) 150 Queen St. South Bolton Ontario L7E 1E3 Canada;X-APPLE-RADIUS=500;X-TITLE=150 Queen St. South:geo:-79.7355183,43.8760991
END:VEVENT
BEGIN:VEVENT
DTSTART;TZID=America/Toronto:20230619T193000
DTEND;TZID=America/Toronto:20230619T193000
DTSTAMP:20260421T100139
CREATED:20230523T212002Z
LAST-MODIFIED:20230523T212002Z
UID:10000999-1687203000-1687203000@ontariohistoricalsociety.ca
SUMMARY:Albion Bolton Historical Society: Canada's History Through the Lens
DESCRIPTION:Presented by Nathan Hiller. \nTwo of Nathan’s passions are history and photography. He has combined these two interests into ‘Canada’s History: Through the Lens.’ Canada has a rich history that spans millenniums but Nathan’s presentation will focus on Canadian history beginning with the introduction of photography in the 1840s through to modern times\, showing important events\, famous and infamous people and majestic places. \nQuestions: Nathan at 905-584-2801 nhillerphoto@bell.net
URL:https://ontariohistoricalsociety.ca/event/albion-bolton-historical-society-canadas-history-through-the-lens/
LOCATION:Albion Bolton Community Centre (Meeting Room C\, 2nd Floor)\, 150 Queen St. South\, Bolton\, Ontario\, L7E 1E3\, Canada
ORGANIZER;CN="Albion Bolton Historical Society":MAILTO:nhillerphoto@bell.net
GEO:43.8760991;-79.7355183
X-APPLE-STRUCTURED-LOCATION;VALUE=URI;X-ADDRESS=Albion Bolton Community Centre (Meeting Room C 2nd Floor) 150 Queen St. South Bolton Ontario L7E 1E3 Canada;X-APPLE-RADIUS=500;X-TITLE=150 Queen St. South:geo:-79.7355183,43.8760991
END:VEVENT
BEGIN:VEVENT
DTSTART;TZID=America/Toronto:20230417T193000
DTEND;TZID=America/Toronto:20230417T193000
DTSTAMP:20260421T100139
CREATED:20230321T150924Z
LAST-MODIFIED:20230321T150948Z
UID:10000913-1681759800-1681759800@ontariohistoricalsociety.ca
SUMMARY:Albion Bolton Historical Society: Seven Hotels & a Distillery: The History of Bolton's Hospitality Industry in the 19th Century
DESCRIPTION:Presented by Valerie Mackie. \nWhile Bolton was not alone in having inns and hotels as part of the village landscape\, it is certainly unique in having had seven in operation during the 1870s\, six within a two-block radius along Queen Street. With the use of photographs from the Society’s archival collection and modern photos\, Valerie will identify their locations and what that location looks like today. \nQuestions: Nathan at 905-584-2801 nhillerphoto@bell.net
URL:https://ontariohistoricalsociety.ca/event/albion-bolton-historical-society-seven-hotels-a-distillery/
LOCATION:Albion Bolton Community Centre (Meeting Room C\, 2nd Floor)\, 150 Queen St. South\, Bolton\, Ontario\, L7E 1E3\, Canada
ORGANIZER;CN="Albion Bolton Historical Society":MAILTO:nhillerphoto@bell.net
GEO:43.8760991;-79.7355183
X-APPLE-STRUCTURED-LOCATION;VALUE=URI;X-ADDRESS=Albion Bolton Community Centre (Meeting Room C 2nd Floor) 150 Queen St. South Bolton Ontario L7E 1E3 Canada;X-APPLE-RADIUS=500;X-TITLE=150 Queen St. South:geo:-79.7355183,43.8760991
END:VEVENT
BEGIN:VEVENT
DTSTART;TZID=America/Toronto:20230213T193000
DTEND;TZID=America/Toronto:20230213T193000
DTSTAMP:20260421T100139
CREATED:20230104T201900Z
LAST-MODIFIED:20230105T143019Z
UID:10000845-1676316600-1676316600@ontariohistoricalsociety.ca
SUMMARY:Albion Bolton Historical Society: The History of Wildfield
DESCRIPTION:The Village of Wildfield has a vibrant history spanning over 200 years. Join us when lifelong Wildfield resident Dan O’Reilly recounts family and village history through anecdotes\, facts and photographs. Wildfield is the site of St. Patrick’s Church\, the 2nd oldest church in the Archdiocese of Toronto. But there are many other historical facts about Wildfield that are interesting\, if not fascinating. \nQuestions: Nathan at 905-584-2801 nhillerphoto@bell.net
URL:https://ontariohistoricalsociety.ca/event/albion-bolton-historical-society-the-history-of-wildfield/
LOCATION:Albion Bolton Community Centre (Meeting Room C\, 2nd Floor)\, 150 Queen St. South\, Bolton\, Ontario\, L7E 1E3\, Canada
ORGANIZER;CN="Albion Bolton Historical Society":MAILTO:nhillerphoto@bell.net
GEO:43.8760991;-79.7355183
X-APPLE-STRUCTURED-LOCATION;VALUE=URI;X-ADDRESS=Albion Bolton Community Centre (Meeting Room C 2nd Floor) 150 Queen St. South Bolton Ontario L7E 1E3 Canada;X-APPLE-RADIUS=500;X-TITLE=150 Queen St. South:geo:-79.7355183,43.8760991
END:VEVENT
BEGIN:VEVENT
DTSTART;TZID=America/Toronto:20221107T193000
DTEND;TZID=America/Toronto:20221107T193000
DTSTAMP:20260421T100139
CREATED:20221028T141306Z
LAST-MODIFIED:20221028T141713Z
UID:10000762-1667849400-1667849400@ontariohistoricalsociety.ca
SUMMARY:Albion Bolton Historical Society: Bolton's Bicentennial 1821-2021
DESCRIPTION:Presented by Valerie Mackie \nThis year has marked the 200 + 1 anniversary of the founding of Bolton. As the celebrations come to a close\, Valerie will summarize a few of the year’s events\, share what is known about George Bolton and use photos from the Society’s collection to illustrate how the village evolved during George’s lifetime\, including its six hotels. \nMemberships are paid up till the end of the year and memberships are available for the 2023 season $10 per person. Guests are welcome $5 per person. \nAt this time there is no mandated Covid restrictions but due recent activity masks are highly recommended. \nQuestions\, contact Nathan at 905-584-2801 or nhillerphoto@bell.net. \nAlbion Bolton Community Centre\, 150 Queen Street South\, Bolton\, Meeting Room C\, 2nd Floor
URL:https://ontariohistoricalsociety.ca/event/albion-bolton-historical-society-boltons-bicentennial-1821-2021/
LOCATION:Albion Bolton Community Centre (Meeting Room C\, 2nd Floor)\, 150 Queen St. South\, Bolton\, Ontario\, L7E 1E3\, Canada
ORGANIZER;CN="Albion Bolton Historical Society":MAILTO:nhillerphoto@bell.net
GEO:43.8760991;-79.7355183
X-APPLE-STRUCTURED-LOCATION;VALUE=URI;X-ADDRESS=Albion Bolton Community Centre (Meeting Room C 2nd Floor) 150 Queen St. South Bolton Ontario L7E 1E3 Canada;X-APPLE-RADIUS=500;X-TITLE=150 Queen St. South:geo:-79.7355183,43.8760991
END:VEVENT
BEGIN:VEVENT
DTSTART;TZID=America/Toronto:20190916T190000
DTEND;TZID=America/Toronto:20190916T190000
DTSTAMP:20260421T100139
CREATED:20190909T192220Z
LAST-MODIFIED:20190909T192254Z
UID:10000081-1568660400-1568660400@ontariohistoricalsociety.ca
SUMMARY:Albion Bolton HS September 2019 Meeting: The 20th Anniversary of the Humber River's Designation as a Canadian Heritage River
DESCRIPTION:
URL:https://ontariohistoricalsociety.ca/event/albion-bolton-hs-september-2019-meeting/
LOCATION:Albion Bolton Community Centre (Meeting Room C\, 2nd Floor)\, 150 Queen St. South\, Bolton\, Ontario\, L7E 1E3\, Canada
ATTACH;FMTTYPE=image/png:https://ontariohistoricalsociety.ca/wp-content/uploads/2019/09/Albion-Bolton-HS-Logo.png
ORGANIZER;CN="Albion Bolton Historical Society":MAILTO:nhillerphoto@bell.net
GEO:43.8760991;-79.7355183
X-APPLE-STRUCTURED-LOCATION;VALUE=URI;X-ADDRESS=Albion Bolton Community Centre (Meeting Room C 2nd Floor) 150 Queen St. South Bolton Ontario L7E 1E3 Canada;X-APPLE-RADIUS=500;X-TITLE=150 Queen St. South:geo:-79.7355183,43.8760991
END:VEVENT
END:VCALENDAR