BEGIN:VCALENDAR
VERSION:2.0
PRODID:-//The Ontario Historical Society - ECPv6.15.20//NONSGML v1.0//EN
CALSCALE:GREGORIAN
METHOD:PUBLISH
X-ORIGINAL-URL:https://ontariohistoricalsociety.ca
X-WR-CALDESC:Events for The Ontario Historical Society
REFRESH-INTERVAL;VALUE=DURATION:PT1H
X-Robots-Tag:noindex
X-PUBLISHED-TTL:PT1H
BEGIN:VTIMEZONE
TZID:America/Toronto
BEGIN:DAYLIGHT
TZOFFSETFROM:-0500
TZOFFSETTO:-0400
TZNAME:EDT
DTSTART:20200308T070000
END:DAYLIGHT
BEGIN:STANDARD
TZOFFSETFROM:-0400
TZOFFSETTO:-0500
TZNAME:EST
DTSTART:20201101T060000
END:STANDARD
BEGIN:DAYLIGHT
TZOFFSETFROM:-0500
TZOFFSETTO:-0400
TZNAME:EDT
DTSTART:20210314T070000
END:DAYLIGHT
BEGIN:STANDARD
TZOFFSETFROM:-0400
TZOFFSETTO:-0500
TZNAME:EST
DTSTART:20211107T060000
END:STANDARD
BEGIN:DAYLIGHT
TZOFFSETFROM:-0500
TZOFFSETTO:-0400
TZNAME:EDT
DTSTART:20220313T070000
END:DAYLIGHT
BEGIN:STANDARD
TZOFFSETFROM:-0400
TZOFFSETTO:-0500
TZNAME:EST
DTSTART:20221106T060000
END:STANDARD
END:VTIMEZONE
BEGIN:VEVENT
DTSTART;TZID=America/Toronto:20211120T190000
DTEND;TZID=America/Toronto:20211120T203000
DTSTAMP:20260422T133543
CREATED:20211115T141803Z
LAST-MODIFIED:20211115T141803Z
UID:10000414-1637434800-1637440200@ontariohistoricalsociety.ca
SUMMARY:Woodland Cultural Centre (Virtual): Unplugged - Tehonkieron:nions (They are Entertaining) Performing Art Series
DESCRIPTION:The Woodland Cultural Centre is inviting the community out to their first virtual concert\, showcasing Nationally renowned Indigenous Singer Songwriters from across Turtle Island on November 20th\, 2021 from 7PM. \nUnplugged is a virtual concert as part of the Tehonkieron:nions (They are Entertaining) performing art series. This acoustic concert is highlighting the Indigenous singer-songwriters voices of Celeigh Cardinal (Alberta)\, Don Amero (Winnipeg)\, Semiah Smith (Six Nations) and Aysanabee (Toronto). Due to COVID-19 restrictions the performances will be screened virtually. \nEven though we are unable to host the concert on the steps of the former Mohawk Institute Residential School\, however the Tehonkieron:nions (They are Entertaining) performing art series symbolizes the resilience of Indigenous culture\, creativity and expression. Make some snacks at home\, wear your comfy clothes\, and join us to celebrate this talented artists. \nAdvance tickets will be on sale at WoodlandCulturalCentre.ca for $15 each per household login.
URL:https://ontariohistoricalsociety.ca/event/woodland-cultural-centre-virtual-unplugged-tehonkieronnions-they-are-entertaining-performing-art-series/
LOCATION:online
GEO:56.130366;-106.346771
END:VEVENT
BEGIN:VEVENT
DTSTART;TZID=America/Toronto:20211117T100000
DTEND;TZID=America/Toronto:20211117T110000
DTSTAMP:20260422T133543
CREATED:20211116T152931Z
LAST-MODIFIED:20211116T152931Z
UID:10000418-1637143200-1637146800@ontariohistoricalsociety.ca
SUMMARY:Woodland Cultural Centre (Virtual): Beginner’s Guide to Digitizing Audio
DESCRIPTION:Listen Hear Our Voices Workshop Series: \nLooking for a simply way to digitize cassettes and old audio? \nAs part of the Listen Hear our Voices project\, join Stephanie Pile\, and Dwadwenaga:dat Language Centre Digitizer\, Eiwaihe Powless for a how-to tutorial on digitizing language materials and other important resources that yo may have.
URL:https://ontariohistoricalsociety.ca/event/woodland-cultural-centre-virtual-beginners-guide-to-digitizing-audio/
LOCATION:online
GEO:56.130366;-106.346771
END:VEVENT
BEGIN:VEVENT
DTSTART;TZID=America/Toronto:20211027T190000
DTEND;TZID=America/Toronto:20211027T190000
DTSTAMP:20260422T133543
CREATED:20211014T133550Z
LAST-MODIFIED:20211014T133550Z
UID:10000366-1635361200-1635361200@ontariohistoricalsociety.ca
SUMMARY:Mohawk Institute Residential School Virtual Tour
DESCRIPTION:Save The Evidence Public Virtual Tour \nThe Woodland Cultural Centre presents a screening of the Mohawk Institute Residential School as a fundraiser for the Save the Evidence fundraising campaign. \nJoin us every third Wednesday of the month at 7pm and help us raise funds for this important project. \nThe virtual tour video was created with local production company Thru the Reddoor\, and it follows the guide\, Lorrie Gallant\, as she gives a tour of the former Mohawk Institute Indian Residential School. During the video Lorrie provides the history of the institution over its 140 year history. Viewers will get to see the different rooms in the school\, from the girls’ and boys’ dormitories\, the cafeteria\, laundry room\, and other rooms throughout the building\, as well as hear interviews from five Survivors of the Mohawk Institute. \nEvent Information: \nTickets – $10 donation to Save the Evidence \nVirtual Tour Length – 45 Minutes \nQ&A Debrief – 15 Minutes
URL:https://ontariohistoricalsociety.ca/event/mohawk-institute-residential-school-virtual-tour-20211027/
LOCATION:online
GEO:56.130366;-106.346771
END:VEVENT
BEGIN:VEVENT
DTSTART;TZID=America/Toronto:20211024T190000
DTEND;TZID=America/Toronto:20211024T190000
DTSTAMP:20260422T133543
CREATED:20211014T134239Z
LAST-MODIFIED:20211014T134239Z
UID:10000367-1635102000-1635102000@ontariohistoricalsociety.ca
SUMMARY:Woodland Cultural Centre: Teióia’ks iakwateró:roks “We watch movies” Film Series – The Gift by Gary Farmer
DESCRIPTION:This short documentary examines the role of corn in the lives of Indigenous peoples in the Americas. Before colonization\, corn was widely used as a beverage\, a food staple\, an oil\, and a ceremonial object. It was respected and revered as a critical part of creation. This film explores the powerful bond and spiritual relationship that continues to exist between people and corn. \nCombining interviews\, dance\, and song\, The Gift captures the traditional\, spiritual\, economic\, and political importance of this sacred plant. \nThis online gathering is a chance for us to watch movies together\, even when we can’t go to the movies or to an in person film screening. \nMake your popcorn at home and cozy up with us every other month for this ongoing series.
URL:https://ontariohistoricalsociety.ca/event/woodland-cultural-centre-teioiaks-iakwateroroks-we-watch-movies-film-series-the-gift-by-gary-farmer/
LOCATION:online
GEO:56.130366;-106.346771
END:VEVENT
BEGIN:VEVENT
DTSTART;TZID=America/Toronto:20211020T190000
DTEND;TZID=America/Toronto:20211020T190000
DTSTAMP:20260422T133543
CREATED:20211014T132840Z
LAST-MODIFIED:20211014T132840Z
UID:10000365-1634756400-1634756400@ontariohistoricalsociety.ca
SUMMARY:Mohawk Institute Residential School Virtual Tour
DESCRIPTION:Save The Evidence Public Virtual Tour \nThe Woodland Cultural Centre presents a screening of the Mohawk Institute Residential School as a fundraiser for the Save the Evidence fundraising campaign. \nJoin us every third Wednesday of the month at 7pm and help us raise funds for this important project. \nThe virtual tour video was created with local production company Thru the Reddoor\, and it follows the guide\, Lorrie Gallant\, as she gives a tour of the former Mohawk Institute Indian Residential School. During the video Lorrie provides the history of the institution over its 140 year history. Viewers will get to see the different rooms in the school\, from the girls’ and boys’ dormitories\, the cafeteria\, laundry room\, and other rooms throughout the building\, as well as hear interviews from five Survivors of the Mohawk Institute. \nEvent Information: \nTickets – $10 donation to Save the Evidence \nVirtual Tour Length – 45 Minutes \nQ&A Debrief – 15 Minutes
URL:https://ontariohistoricalsociety.ca/event/mohawk-institute-residential-school-virtual-tour-20211020/
LOCATION:online
GEO:56.130366;-106.346771
END:VEVENT
BEGIN:VEVENT
DTSTART;TZID=America/Toronto:20210922T100000
DTEND;TZID=America/Toronto:20210922T100000
DTSTAMP:20260422T133543
CREATED:20210913T141103Z
LAST-MODIFIED:20210913T141132Z
UID:10000339-1632304800-1632304800@ontariohistoricalsociety.ca
SUMMARY:Woodland Cultural Centre: Accessing the Archives Workshop
DESCRIPTION:Accessing the Archives: How to Reclaim Cultural Information in a Digital World \nJoin Woodland Cultural Centre and Taylor Gibson for a journey into the archives from an Indigenous Perspective. \nExamine Hodinǫ̱hsǫ:ni in the archives and explore Archival Institutions.
URL:https://ontariohistoricalsociety.ca/event/woodland-cultural-centre-accessing-the-archives-workshop/
LOCATION:online
GEO:56.130366;-106.346771
END:VEVENT
END:VCALENDAR