BEGIN:VCALENDAR
VERSION:2.0
PRODID:-//The Ontario Historical Society - ECPv6.15.20//NONSGML v1.0//EN
CALSCALE:GREGORIAN
METHOD:PUBLISH
X-ORIGINAL-URL:https://ontariohistoricalsociety.ca
X-WR-CALDESC:Events for The Ontario Historical Society
REFRESH-INTERVAL;VALUE=DURATION:PT1H
X-Robots-Tag:noindex
X-PUBLISHED-TTL:PT1H
BEGIN:VTIMEZONE
TZID:America/Toronto
BEGIN:DAYLIGHT
TZOFFSETFROM:-0500
TZOFFSETTO:-0400
TZNAME:EDT
DTSTART:20220313T070000
END:DAYLIGHT
BEGIN:STANDARD
TZOFFSETFROM:-0400
TZOFFSETTO:-0500
TZNAME:EST
DTSTART:20221106T060000
END:STANDARD
BEGIN:DAYLIGHT
TZOFFSETFROM:-0500
TZOFFSETTO:-0400
TZNAME:EDT
DTSTART:20230312T070000
END:DAYLIGHT
BEGIN:STANDARD
TZOFFSETFROM:-0400
TZOFFSETTO:-0500
TZNAME:EST
DTSTART:20231105T060000
END:STANDARD
BEGIN:DAYLIGHT
TZOFFSETFROM:-0500
TZOFFSETTO:-0400
TZNAME:EDT
DTSTART:20240310T070000
END:DAYLIGHT
BEGIN:STANDARD
TZOFFSETFROM:-0400
TZOFFSETTO:-0500
TZNAME:EST
DTSTART:20241103T060000
END:STANDARD
END:VTIMEZONE
BEGIN:VEVENT
DTSTART;TZID=America/Toronto:20231020T190000
DTEND;TZID=America/Toronto:20231020T210000
DTSTAMP:20260421T114128
CREATED:20231002T142656Z
LAST-MODIFIED:20231002T142656Z
UID:10001191-1697828400-1697835600@ontariohistoricalsociety.ca
SUMMARY:Wellington County Museum and Archives - Cemetery Tours
DESCRIPTION:It is spooky season at the WCMA and you are invited! It’s at this time of the year where everyone loves hearing scary stories\, but real history holds some of the scariest and unnerving stories. Join us as we take a trip through the real history of the House of Industry and Refuge and explore some of the more unsettling stories of inmates and staff that called this place home. \nThis tour takes place outside on museum grounds and at the Poor House Cemetery where over 200 inmates were laid to rest. Please be aware there are no accessibility routes for this tour. \nThis tour is designed for a 14+ audience.
URL:https://ontariohistoricalsociety.ca/event/wellington-county-museum-and-archives-cemetery-tours/2023-10-20/
LOCATION:Wellington County Museum and Archives\, Wellington Road 18 536\, Fergus\, Ontario\, N1M 2W3\, Canada
ORGANIZER;CN="Wellington County Museum and Archives":MAILTO:wcma@wellington.ca
GEO:43.6932922;-80.3995322
X-APPLE-STRUCTURED-LOCATION;VALUE=URI;X-ADDRESS=Wellington County Museum and Archives Wellington Road 18 536 Fergus Ontario N1M 2W3 Canada;X-APPLE-RADIUS=500;X-TITLE=Wellington Road 18 536:geo:-80.3995322,43.6932922
END:VEVENT
END:VCALENDAR