BEGIN:VCALENDAR
VERSION:2.0
PRODID:-//The Ontario Historical Society - ECPv6.15.20//NONSGML v1.0//EN
CALSCALE:GREGORIAN
METHOD:PUBLISH
X-ORIGINAL-URL:https://ontariohistoricalsociety.ca
X-WR-CALDESC:Events for The Ontario Historical Society
REFRESH-INTERVAL;VALUE=DURATION:PT1H
X-Robots-Tag:noindex
X-PUBLISHED-TTL:PT1H
BEGIN:VTIMEZONE
TZID:America/Toronto
BEGIN:DAYLIGHT
TZOFFSETFROM:-0500
TZOFFSETTO:-0400
TZNAME:EDT
DTSTART:20230312T070000
END:DAYLIGHT
BEGIN:STANDARD
TZOFFSETFROM:-0400
TZOFFSETTO:-0500
TZNAME:EST
DTSTART:20231105T060000
END:STANDARD
BEGIN:DAYLIGHT
TZOFFSETFROM:-0500
TZOFFSETTO:-0400
TZNAME:EDT
DTSTART:20240310T070000
END:DAYLIGHT
BEGIN:STANDARD
TZOFFSETFROM:-0400
TZOFFSETTO:-0500
TZNAME:EST
DTSTART:20241103T060000
END:STANDARD
BEGIN:DAYLIGHT
TZOFFSETFROM:-0500
TZOFFSETTO:-0400
TZNAME:EDT
DTSTART:20250309T070000
END:DAYLIGHT
BEGIN:STANDARD
TZOFFSETFROM:-0400
TZOFFSETTO:-0500
TZNAME:EST
DTSTART:20251102T060000
END:STANDARD
BEGIN:DAYLIGHT
TZOFFSETFROM:-0500
TZOFFSETTO:-0400
TZNAME:EDT
DTSTART:20260308T070000
END:DAYLIGHT
BEGIN:STANDARD
TZOFFSETFROM:-0400
TZOFFSETTO:-0500
TZNAME:EST
DTSTART:20261101T060000
END:STANDARD
END:VTIMEZONE
BEGIN:VEVENT
DTSTART;TZID=America/Toronto:20251023T190000
DTEND;TZID=America/Toronto:20251023T193000
DTSTAMP:20260421T050429
CREATED:20250915T132640Z
LAST-MODIFIED:20250915T132640Z
UID:10001601-1761246000-1761247800@ontariohistoricalsociety.ca
SUMMARY:Thornhill Historical Society Presentation "From Prosperity to Preservation"
DESCRIPTION:Mark your calendars and join us Thursday\, October 23rd at the Heintzman House at 7:15-7:30pm for a special illustrated presentation with guest speaker Miranda Ellison who will take us on a journey From Prosperity to Preservation: The Story of Little Hall – a 14th century timber-framed merchant’s hall in Lavenham\, one of England’s best-preserved medieval towns. \n 
URL:https://ontariohistoricalsociety.ca/event/thornhill-historical-society-presentation-from-prosperity-to-preservation/
LOCATION:Heintzman House\, Bay Thorn Drive 135\, Markham\, Ontario\, L3T 3V1\, Canada
ORGANIZER;CN="Thornhill Historical Society":MAILTO:president@thornhillhistoric.org
GEO:43.8238317;-79.4162569
X-APPLE-STRUCTURED-LOCATION;VALUE=URI;X-ADDRESS=Heintzman House Bay Thorn Drive 135 Markham Ontario L3T 3V1 Canada;X-APPLE-RADIUS=500;X-TITLE=Bay Thorn Drive 135:geo:-79.4162569,43.8238317
END:VEVENT
BEGIN:VEVENT
DTSTART;TZID=America/Toronto:20250921T110000
DTEND;TZID=America/Toronto:20250921T140000
DTSTAMP:20260421T050429
CREATED:20250812T150938Z
LAST-MODIFIED:20250812T150938Z
UID:10001586-1758452400-1758463200@ontariohistoricalsociety.ca
SUMMARY:Group of Seven in Thornhill – Easel & Plaque Unveiling Event
DESCRIPTION:You are warmly invited to join the Thornhill Historical Society on Sunday\, September 21st from 11am-2pm at the J.E.H. MacDonald House at 121 Centre Street\, Thornhill\,  for the official unveiling of the Moments of Algoma Group of Seven in Thornhill easel and Group of Seven Commemorative Plaques. \nThis special event is co-hosted by the Thornhill Historical Society\, City of Vaughan and Toronto and Region Conservation Authority (TRCA) Sustainable Neighbourhood Action Program (SNAP) and Moments of Algoma. \nFollowing the ceremony\, guests are welcome to participate in guided walking tours through the village of Thornhill\, visiting the former homes of five Group of Seven members. The day will also feature a en Plein Air art show\, family art event and community booths. \nThe new easel installation commemorates the Group of Seven’s artistic and cultural legacy and their connection to Thornhill. As part of the broader Moments of Algoma Group of Seven Touring Route\, this interpretive panel places Thornhill on the map as a significant stop in the story of Canada’s artistic identity. \nThe Group of Seven Commemorative Plaques\, installed in honour of the Thornhill Historical Society’s 50th anniversary in 2024\, mark the homes once occupied by the five members of the Group of Seven who called Thornhill home. \nThis project is the result of vision\, dedication\, and collaboration—led by the Thornhill Historical Society and supported by the City of Vaughan\, TRCA’s Sustainable Neighbourhood Action Program (SNAP)\, Moments of Algoma\, and our generous donor and benefactor\, Lorna Rogers. Her contribution has brought this project to life\, celebrating the power of community\, the importance of art\, and the value of preserving local history. \nWe sincerely hope you will join us for this meaningful celebration. \nFor more information visit our website at thornhillhistoric.org where you will find our event FAQ page and a sign up form if you want to participate in our en Plein Air event.
URL:https://ontariohistoricalsociety.ca/event/group-of-seven-in-thornhill-easel-plaque-unveiling-event/
LOCATION:J.E.H MacDonald House\, 121 Centre Street\, Thornhill\, ON\, L4J 1G3\, Canada
ORGANIZER;CN="Thornhill Historical Society":MAILTO:president@thornhillhistoric.org
END:VEVENT
BEGIN:VEVENT
DTSTART;TZID=America/Toronto:20250621T080000
DTEND;TZID=America/Toronto:20250621T180000
DTSTAMP:20260421T050429
CREATED:20250527T132642Z
LAST-MODIFIED:20250527T132642Z
UID:10001468-1750492800-1750528800@ontariohistoricalsociety.ca
SUMMARY:Thornhill Historical Society Annual Bus Trip
DESCRIPTION:Join us for a day trip to Grey County with legendary tour guide Dave Rawcliffe!\n\nWe will be travelling by highway coach taking a scenic countryside drive through Dufferin & Grey Counties visiting historical & cultural sites.  Lunch break at Owen Sound and a scenic drive back through Simcoe & Dufferin Counties.\n\nTickets are $85 per person or $72 per person for two or more people.  Price includes travel by highway coach and entrance fees.  Lunch not included.  Payment must be made at time of reservation.  Reserve before June 7th.  Departure details will be shared via email.\n\nReserve your seats HERE! 
URL:https://ontariohistoricalsociety.ca/event/thornhill-historical-society-annual-bus-trip/
ORGANIZER;CN="Thornhill Historical Society":MAILTO:president@thornhillhistoric.org
END:VEVENT
BEGIN:VEVENT
DTSTART;TZID=America/Toronto:20240622T080000
DTEND;TZID=America/Toronto:20240622T180000
DTSTAMP:20260421T050429
CREATED:20240515T192646Z
LAST-MODIFIED:20240515T192646Z
UID:10001299-1719043200-1719079200@ontariohistoricalsociety.ca
SUMMARY:Thornhill Historical Society - Bus Tour to Prince Edward County
DESCRIPTION:The Thornhill Historical Society invites you to join us for a day trip to Prince Edward County. \nHop on the bus and join your fellow heritage enthusiast as we leave to explore Prince Edward County. Our visit will include a countryside drive\, a County museum visit\, a stop at a winery or cider\nfarm. The lunch stop will be in the charming small town of Picton\, where you can also explore the local stores. \nPrice $85 per person or $75 per person for 2 or more tickets (save $20!). Includes travel by highway coach & entrance fees. Lunch not included. Payment made at time of reservation. \nRESERVE HERE before May 22nd! Information about the final day tour stops and departure details will be shared via email to those who reserve by May 22nd. \nThis tour is made possible by the Thornhill Historical Society with a generous sponsorship from the Thornhill Heritage Foundation.
URL:https://ontariohistoricalsociety.ca/event/thornhill-historical-society-bus-tour-to-prince-edward-county/
ORGANIZER;CN="Thornhill Historical Society":MAILTO:president@thornhillhistoric.org
END:VEVENT
BEGIN:VEVENT
DTSTART;TZID=America/Toronto:20240516T190000
DTEND;TZID=America/Toronto:20240516T210000
DTSTAMP:20260421T050429
CREATED:20240515T134855Z
LAST-MODIFIED:20240515T134855Z
UID:10001294-1715886000-1715893200@ontariohistoricalsociety.ca
SUMMARY:Thornhill Historical Society - THE HISTORY OF THE LADIES' GOLF CLUB OF TORONTO
DESCRIPTION:THE HISTORY OF THE LADIES’ GOLF CLUB OF TORONTO BY JOAN ELLIOTT \nTHURSDAY\, MAY 16TH AT 7PM \nHEINTZMAN HOUSE – 135 BAY THORN DRIVE\, THORNHILL \n  \nCELEBRATING 100 YEARS! JOIN US FOR A HISTORICAL PRESENTATION OF THE LADIES’ GOLF CLUB OF TORONTO FROM WHEN IT WAS FOUNDED IN 1924 BY THE VISIONARY\, ADA MACKENZIE TO TODAY. \n  \nREFRESHMENTS AT 7:15 PM \nPRESENTATION AT 7:30 PM \n  \n$10 DONATION WELCOME \n  \nPRESENTED BY THE THORNHILL HISTORICAL SOCIETY
URL:https://ontariohistoricalsociety.ca/event/thornhill-historical-society-the-history-of-the-ladies-golf-club-of-toronto/
LOCATION:Heintzman House\, Bay Thorn Drive 135\, Markham\, Ontario\, L3T 3V1\, Canada
ORGANIZER;CN="Thornhill Historical Society":MAILTO:president@thornhillhistoric.org
GEO:43.8238317;-79.4162569
X-APPLE-STRUCTURED-LOCATION;VALUE=URI;X-ADDRESS=Heintzman House Bay Thorn Drive 135 Markham Ontario L3T 3V1 Canada;X-APPLE-RADIUS=500;X-TITLE=Bay Thorn Drive 135:geo:-79.4162569,43.8238317
END:VEVENT
BEGIN:VEVENT
DTSTART;TZID=America/Toronto:20240504T103000
DTEND;TZID=America/Toronto:20240504T143000
DTSTAMP:20260421T050429
CREATED:20240429T145731Z
LAST-MODIFIED:20240429T145731Z
UID:10001287-1714818600-1714833000@ontariohistoricalsociety.ca
SUMMARY:Thornhill Historical Society's Thornhill History Day & Jane's Walk
DESCRIPTION:Join Dave Rawcliffe on a Jane’s Walk as he takes us through what it was like in Thornhill in 1843 when Robert West arrived. \nMorning Tour:   10:30 am to Noon \nAfternoon Tour: 1 pm to 2:30 pm \nLocation: Robert West House\, 7780 Yonge St  L4J 1W3; entrance on Old Yonge St; parking at Thornhill Park. \nThe walk starts and finishes at the Robert West House \nVisit the Thornhill’s West Side Stories exhibition at the Robert West House\, presented by the Thornhill Heritage Foundation. \n-And- \nDrop by for a cup of tea and meet members of the Thornhill Historical Society at the Armstrong House on 42 Old Yonge Street (a 3 minute walk from the West House) while you learn more about the education\, advocacy and the archival work we do. \nJane’s Walk is organized by the Markham Cycling and Pedestrian Advisory Committee. \nThis is a FREE event. \n 
URL:https://ontariohistoricalsociety.ca/event/thornhill-historical-societys-thornhill-history-day-janes-walk/
LOCATION:Robert West House\, Yonge Street 7780\, Vaughan\, Ontario\, L4J 1W3\, Canada
ORGANIZER;CN="Thornhill Historical Society":MAILTO:president@thornhillhistoric.org
GEO:43.8171552;-79.4250479
X-APPLE-STRUCTURED-LOCATION;VALUE=URI;X-ADDRESS=Robert West House Yonge Street 7780 Vaughan Ontario L4J 1W3 Canada;X-APPLE-RADIUS=500;X-TITLE=Yonge Street 7780:geo:-79.4250479,43.8171552
END:VEVENT
END:VCALENDAR