BEGIN:VCALENDAR
VERSION:2.0
PRODID:-//The Ontario Historical Society - ECPv6.15.20//NONSGML v1.0//EN
CALSCALE:GREGORIAN
METHOD:PUBLISH
X-WR-CALNAME:The Ontario Historical Society
X-ORIGINAL-URL:https://ontariohistoricalsociety.ca
X-WR-CALDESC:Events for The Ontario Historical Society
REFRESH-INTERVAL;VALUE=DURATION:PT1H
X-Robots-Tag:noindex
X-PUBLISHED-TTL:PT1H
BEGIN:VTIMEZONE
TZID:America/Toronto
BEGIN:DAYLIGHT
TZOFFSETFROM:-0500
TZOFFSETTO:-0400
TZNAME:EDT
DTSTART:20240310T070000
END:DAYLIGHT
BEGIN:STANDARD
TZOFFSETFROM:-0400
TZOFFSETTO:-0500
TZNAME:EST
DTSTART:20241103T060000
END:STANDARD
BEGIN:DAYLIGHT
TZOFFSETFROM:-0500
TZOFFSETTO:-0400
TZNAME:EDT
DTSTART:20250309T070000
END:DAYLIGHT
BEGIN:STANDARD
TZOFFSETFROM:-0400
TZOFFSETTO:-0500
TZNAME:EST
DTSTART:20251102T060000
END:STANDARD
BEGIN:DAYLIGHT
TZOFFSETFROM:-0500
TZOFFSETTO:-0400
TZNAME:EDT
DTSTART:20260308T070000
END:DAYLIGHT
BEGIN:STANDARD
TZOFFSETFROM:-0400
TZOFFSETTO:-0500
TZNAME:EST
DTSTART:20261101T060000
END:STANDARD
END:VTIMEZONE
BEGIN:VEVENT
DTSTART;TZID=America/Toronto:20251203T143000
DTEND;TZID=America/Toronto:20251203T143000
DTSTAMP:20260421T095957
CREATED:20251117T164508Z
LAST-MODIFIED:20251117T164649Z
UID:10001647-1764772200-1764772200@ontariohistoricalsociety.ca
SUMMARY:PAMA Presentation - Railway History of George Laidlaw
DESCRIPTION:Please join us at Peel Art Gallery\, Museum and Archives (PAMA) for a presentation on the life and times of railway promoter George Laidlaw\, “The Prince of Bonus Hunters”\, by his great great grandson Doug Paterson. \nPresentation is free with admission. \n  \nVisitors are welcome to visit the exhibition All Aboard: The Railways of Peel. \n  \nGeorge Laidlaw emigrated from Scotland to Canada in 1855. His ability to raise money to build railways was legendary as he oversaw the construction of 500 km of railway in southern Ontario\, including the Credit Valley Railway and the Toronto Grey and Bruce Railway. \n  \nDoug Paterson is a retired banker living in his ancestral Laidlaw family home on Balsam Lake. He has an interest in family history and by good fortune has access to a trove of historical information and artifacts. He is currently writing a book on the Laidlaw and Corby families\, titled “Rails and Rye”.
URL:https://ontariohistoricalsociety.ca/event/pama-presentation/
LOCATION:Peel Art Gallery\, Museum & Archives (PAMA)\, 9 Wellington Street East\, Brampton\, ON\, Canada
END:VEVENT
END:VCALENDAR