BEGIN:VCALENDAR
VERSION:2.0
PRODID:-//The Ontario Historical Society - ECPv6.15.20//NONSGML v1.0//EN
CALSCALE:GREGORIAN
METHOD:PUBLISH
X-ORIGINAL-URL:https://ontariohistoricalsociety.ca
X-WR-CALDESC:Events for The Ontario Historical Society
REFRESH-INTERVAL;VALUE=DURATION:PT1H
X-Robots-Tag:noindex
X-PUBLISHED-TTL:PT1H
BEGIN:VTIMEZONE
TZID:America/Toronto
BEGIN:DAYLIGHT
TZOFFSETFROM:-0500
TZOFFSETTO:-0400
TZNAME:EDT
DTSTART:20200308T070000
END:DAYLIGHT
BEGIN:STANDARD
TZOFFSETFROM:-0400
TZOFFSETTO:-0500
TZNAME:EST
DTSTART:20201101T060000
END:STANDARD
BEGIN:DAYLIGHT
TZOFFSETFROM:-0500
TZOFFSETTO:-0400
TZNAME:EDT
DTSTART:20210314T070000
END:DAYLIGHT
BEGIN:STANDARD
TZOFFSETFROM:-0400
TZOFFSETTO:-0500
TZNAME:EST
DTSTART:20211107T060000
END:STANDARD
BEGIN:DAYLIGHT
TZOFFSETFROM:-0500
TZOFFSETTO:-0400
TZNAME:EDT
DTSTART:20220313T070000
END:DAYLIGHT
BEGIN:STANDARD
TZOFFSETFROM:-0400
TZOFFSETTO:-0500
TZNAME:EST
DTSTART:20221106T060000
END:STANDARD
END:VTIMEZONE
BEGIN:VEVENT
DTSTART;TZID=America/Toronto:20211023T090000
DTEND;TZID=America/Toronto:20211024T153000
DTSTAMP:20260419T092833
CREATED:20211005T192853Z
LAST-MODIFIED:20211005T193429Z
UID:10000357-1634979600-1635089400@ontariohistoricalsociety.ca
SUMMARY:Ontario Women’s History Network AGM & Conference: 30 Years of Advancing the Study of Women’s History
DESCRIPTION:The Ontario Women’s History Network is holding its Annual General Meeting and Conference\, entitled “Ontario Women’s History Network: 30 Years of Advancing the Study of Women’s History” on October 22-23\, 2021. \nTo participate in the conference\, please complete the online conference registration form: \nhttps://owhn-rhfo.ca/conference-registration-2021-2/ \nTo view a complete schedule of the conference\, please visit the Conference Program page at https://owhn-rhfo.ca/program-for-fall-2021-conference-and-agm/ or download it in PDF format (suitable for printing) at https://owhn-rhfo.ca/wp-content/uploads/2021/10/OWHN-AGM-Program-October-22-23-2021.pdf. \n\nThe Ontario Women’s History Network (OWHN) encourages the preservation\, production\, and dissemination of women’s and gender history in Ontario\, with a special emphasis on teaching and study of history. We welcome students\, teachers\, museum professionals\, public historians\, professors\, archivists\, librarians\, independent researchers and anyone else interested in women’s and gender history.
URL:https://ontariohistoricalsociety.ca/event/ontario-womens-history-network-agm-conference-30-years-of-advancing-the-study-of-womens-history/2021-10-23/
LOCATION:online
ORGANIZER;CN="Ontario Women's History Network":MAILTO:info@owhn-rhfo.ca
GEO:56.130366;-106.346771
END:VEVENT
BEGIN:VEVENT
DTSTART;TZID=America/Toronto:20211022T090000
DTEND;TZID=America/Toronto:20211023T153000
DTSTAMP:20260419T092833
CREATED:20211005T192853Z
LAST-MODIFIED:20211005T193429Z
UID:10000356-1634893200-1635003000@ontariohistoricalsociety.ca
SUMMARY:Ontario Women’s History Network AGM & Conference: 30 Years of Advancing the Study of Women’s History
DESCRIPTION:The Ontario Women’s History Network is holding its Annual General Meeting and Conference\, entitled “Ontario Women’s History Network: 30 Years of Advancing the Study of Women’s History” on October 22-23\, 2021. \nTo participate in the conference\, please complete the online conference registration form: \nhttps://owhn-rhfo.ca/conference-registration-2021-2/ \nTo view a complete schedule of the conference\, please visit the Conference Program page at https://owhn-rhfo.ca/program-for-fall-2021-conference-and-agm/ or download it in PDF format (suitable for printing) at https://owhn-rhfo.ca/wp-content/uploads/2021/10/OWHN-AGM-Program-October-22-23-2021.pdf. \n\nThe Ontario Women’s History Network (OWHN) encourages the preservation\, production\, and dissemination of women’s and gender history in Ontario\, with a special emphasis on teaching and study of history. We welcome students\, teachers\, museum professionals\, public historians\, professors\, archivists\, librarians\, independent researchers and anyone else interested in women’s and gender history.
URL:https://ontariohistoricalsociety.ca/event/ontario-womens-history-network-agm-conference-30-years-of-advancing-the-study-of-womens-history/2021-10-22/
LOCATION:online
ORGANIZER;CN="Ontario Women's History Network":MAILTO:info@owhn-rhfo.ca
GEO:56.130366;-106.346771
END:VEVENT
END:VCALENDAR