BEGIN:VCALENDAR
VERSION:2.0
PRODID:-//The Ontario Historical Society - ECPv6.15.20//NONSGML v1.0//EN
CALSCALE:GREGORIAN
METHOD:PUBLISH
X-ORIGINAL-URL:https://ontariohistoricalsociety.ca
X-WR-CALDESC:Events for The Ontario Historical Society
REFRESH-INTERVAL;VALUE=DURATION:PT1H
X-Robots-Tag:noindex
X-PUBLISHED-TTL:PT1H
BEGIN:VTIMEZONE
TZID:America/Toronto
BEGIN:DAYLIGHT
TZOFFSETFROM:-0500
TZOFFSETTO:-0400
TZNAME:EDT
DTSTART:20200308T070000
END:DAYLIGHT
BEGIN:STANDARD
TZOFFSETFROM:-0400
TZOFFSETTO:-0500
TZNAME:EST
DTSTART:20201101T060000
END:STANDARD
BEGIN:DAYLIGHT
TZOFFSETFROM:-0500
TZOFFSETTO:-0400
TZNAME:EDT
DTSTART:20210314T070000
END:DAYLIGHT
BEGIN:STANDARD
TZOFFSETFROM:-0400
TZOFFSETTO:-0500
TZNAME:EST
DTSTART:20211107T060000
END:STANDARD
BEGIN:DAYLIGHT
TZOFFSETFROM:-0500
TZOFFSETTO:-0400
TZNAME:EDT
DTSTART:20220313T070000
END:DAYLIGHT
BEGIN:STANDARD
TZOFFSETFROM:-0400
TZOFFSETTO:-0500
TZNAME:EST
DTSTART:20221106T060000
END:STANDARD
END:VTIMEZONE
BEGIN:VEVENT
DTSTART;TZID=America/Toronto:20211104T190000
DTEND;TZID=America/Toronto:20211104T190000
DTSTAMP:20260421T100331
CREATED:20211103T175120Z
LAST-MODIFIED:20211103T175120Z
UID:10000407-1636052400-1636052400@ontariohistoricalsociety.ca
SUMMARY:Lundy's Lane Historical Society Presents Sherman Zavitz: "Thomas Hines: A Confederate Soldier at Niagara"
DESCRIPTION:The next regular meeting of the Lundy’s Lane Historical Society will be held Thursday November 4th at 7 p.m. at the Niagara Falls Military Museum\, 5409 Victoria Avenue. Parking is in the rear. \nThe speaker for the evening will be Past President of the Lundy’s Lane Historical Society and former City Historian\, our own Mr. Sherman Zavitz. \nSherman’s topic for the evening is entitled\, “Thomas Hines: A Confederate Soldier at Niagara.” It promises to be an action-packed\, high interest tale! \nPlease bring your mask and be prepared to provide proof of double vaccination and we also suggest you bring your own beverages. \nWe appreciate your continued support and look forward to seeing you at the Military Museum.
URL:https://ontariohistoricalsociety.ca/event/lundys-lane-historical-society-presents-sherman-zavitz-thomas-hines-a-confederate-soldier-at-niagara/
LOCATION:Niagara Military Museum\, 5409 Victoria Ave.\, Niagara Falls\, Ontario\, L2E 4E2\, Canada
ORGANIZER;CN="Lundy's Lane Historical Society":MAILTO:lundyslanehistoricalsociety@gmail.com
GEO:43.096114;-79.0728448
X-APPLE-STRUCTURED-LOCATION;VALUE=URI;X-ADDRESS=Niagara Military Museum 5409 Victoria Ave. Niagara Falls Ontario L2E 4E2 Canada;X-APPLE-RADIUS=500;X-TITLE=5409 Victoria Ave.:geo:-79.0728448,43.096114
END:VEVENT
END:VCALENDAR