BEGIN:VCALENDAR
VERSION:2.0
PRODID:-//The Ontario Historical Society - ECPv6.15.20//NONSGML v1.0//EN
CALSCALE:GREGORIAN
METHOD:PUBLISH
X-WR-CALNAME:The Ontario Historical Society
X-ORIGINAL-URL:https://ontariohistoricalsociety.ca
X-WR-CALDESC:Events for The Ontario Historical Society
REFRESH-INTERVAL;VALUE=DURATION:PT1H
X-Robots-Tag:noindex
X-PUBLISHED-TTL:PT1H
BEGIN:VTIMEZONE
TZID:America/Toronto
BEGIN:DAYLIGHT
TZOFFSETFROM:-0500
TZOFFSETTO:-0400
TZNAME:EDT
DTSTART:20180311T070000
END:DAYLIGHT
BEGIN:STANDARD
TZOFFSETFROM:-0400
TZOFFSETTO:-0500
TZNAME:EST
DTSTART:20181104T060000
END:STANDARD
BEGIN:DAYLIGHT
TZOFFSETFROM:-0500
TZOFFSETTO:-0400
TZNAME:EDT
DTSTART:20190310T070000
END:DAYLIGHT
BEGIN:STANDARD
TZOFFSETFROM:-0400
TZOFFSETTO:-0500
TZNAME:EST
DTSTART:20191103T060000
END:STANDARD
BEGIN:DAYLIGHT
TZOFFSETFROM:-0500
TZOFFSETTO:-0400
TZNAME:EDT
DTSTART:20200308T070000
END:DAYLIGHT
BEGIN:STANDARD
TZOFFSETFROM:-0400
TZOFFSETTO:-0500
TZNAME:EST
DTSTART:20201101T060000
END:STANDARD
END:VTIMEZONE
BEGIN:VEVENT
DTSTART;TZID=America/Toronto:20190521T190000
DTEND;TZID=America/Toronto:20190521T190000
DTSTAMP:20260422T004636
CREATED:20190521T150552Z
LAST-MODIFIED:20190521T150552Z
UID:10000071-1558465200-1558465200@ontariohistoricalsociety.ca
SUMMARY:"For Want of a Lighthouse" at Lennox & Addington County Museum & Archives
DESCRIPTION:
URL:https://ontariohistoricalsociety.ca/event/for-want-of-a-lighthouse-at-lennox-addington-county-museum-archives/
LOCATION:Museum of Lennox & Addington\, 97 Thomas Street East\, Napanee\, ON\, K7R 1L1\, Canada
ORGANIZER;CN="Lennox & Addington County Museum & Archives":MAILTO:museum@lennox-addington.on.ca
GEO:44.252383;-76.9502066
X-APPLE-STRUCTURED-LOCATION;VALUE=URI;X-ADDRESS=Museum of Lennox & Addington 97 Thomas Street East Napanee ON K7R 1L1 Canada;X-APPLE-RADIUS=500;X-TITLE=97 Thomas Street East:geo:-76.9502066,44.252383
END:VEVENT
END:VCALENDAR