BEGIN:VCALENDAR
VERSION:2.0
PRODID:-//The Ontario Historical Society - ECPv6.15.20//NONSGML v1.0//EN
CALSCALE:GREGORIAN
METHOD:PUBLISH
X-ORIGINAL-URL:https://ontariohistoricalsociety.ca
X-WR-CALDESC:Events for The Ontario Historical Society
REFRESH-INTERVAL;VALUE=DURATION:PT1H
X-Robots-Tag:noindex
X-PUBLISHED-TTL:PT1H
BEGIN:VTIMEZONE
TZID:America/Toronto
BEGIN:DAYLIGHT
TZOFFSETFROM:-0500
TZOFFSETTO:-0400
TZNAME:EDT
DTSTART:20240310T070000
END:DAYLIGHT
BEGIN:STANDARD
TZOFFSETFROM:-0400
TZOFFSETTO:-0500
TZNAME:EST
DTSTART:20241103T060000
END:STANDARD
BEGIN:DAYLIGHT
TZOFFSETFROM:-0500
TZOFFSETTO:-0400
TZNAME:EDT
DTSTART:20250309T070000
END:DAYLIGHT
BEGIN:STANDARD
TZOFFSETFROM:-0400
TZOFFSETTO:-0500
TZNAME:EST
DTSTART:20251102T060000
END:STANDARD
BEGIN:DAYLIGHT
TZOFFSETFROM:-0500
TZOFFSETTO:-0400
TZNAME:EDT
DTSTART:20260308T070000
END:DAYLIGHT
BEGIN:STANDARD
TZOFFSETFROM:-0400
TZOFFSETTO:-0500
TZNAME:EST
DTSTART:20261101T060000
END:STANDARD
BEGIN:DAYLIGHT
TZOFFSETFROM:-0500
TZOFFSETTO:-0400
TZNAME:EDT
DTSTART:20270314T070000
END:DAYLIGHT
BEGIN:STANDARD
TZOFFSETFROM:-0400
TZOFFSETTO:-0500
TZNAME:EST
DTSTART:20271107T060000
END:STANDARD
END:VTIMEZONE
BEGIN:VEVENT
DTSTART;TZID=America/Toronto:20260411T133000
DTEND;TZID=America/Toronto:20260411T133000
DTSTAMP:20260421T095904
CREATED:20260331T135942Z
LAST-MODIFIED:20260331T135942Z
UID:10001718-1775914200-1775914200@ontariohistoricalsociety.ca
SUMMARY:Lanark County Genealogical Society Speaker Event
DESCRIPTION:All are welcome to join us on April 11\, 2026\, at 1:30 p.m. for a presentation by Larry Schruder of the Ottawa Valley Genealogy Group. Larry will speak about the group’s revitalization\, highlighting its recent successes and sharing updates on current and ongoing projects. This promises to be an engaging and informative session for anyone interested in genealogy and local history.
URL:https://ontariohistoricalsociety.ca/event/lanark-county-genealogical-society-speaker-event/
LOCATION:Beckwith Township Municipal Office Complex\, 2022 Beckwith Park Lane\, Carleton Place\, ON\, K7C 3P2\, Canada
END:VEVENT
BEGIN:VEVENT
DTSTART;TZID=America/Toronto:20260307T133000
DTEND;TZID=America/Toronto:20260307T153000
DTSTAMP:20260421T095904
CREATED:20260304T152528Z
LAST-MODIFIED:20260304T152528Z
UID:10001694-1772890200-1772897400@ontariohistoricalsociety.ca
SUMMARY:Lanark County Genealogical Society Vintage Show & Tell Genealogy Gathering
DESCRIPTION:Come for an afternoon of connection\, conversation\, and discovery. Share a meaningful heirloom\, or come enjoy the stories and inspiration. \nAttend in person:\nBeckwith Township Municipal Office Complex\n2022 Beckwith Park Lane\, Carleton Place\, ON K7C 3P2\nAttend online:\nZoom meeting available- please register to receive access\ninformation at communications@lanarkgenealogy.com \nBring an heirloom-or just bring your curiosity! A photo\, document\, keepsake\, or treasured heirloom-and share what it reveals about your family’s past. (Or simply come to listen and enjoy!) All are welcome\, members\, guests and newcomers alike.
URL:https://ontariohistoricalsociety.ca/event/lanark-county-genealogical-society-vintage-show-tell-genealogy-gathering/
LOCATION:Beckwith Township Municipal Office Complex\, 2022 Beckwith Park Lane\, Carleton Place\, ON\, K7C 3P2\, Canada
END:VEVENT
BEGIN:VEVENT
DTSTART;TZID=America/Toronto:20251206T133000
DTEND;TZID=America/Toronto:20251206T133000
DTSTAMP:20260421T095904
CREATED:20251126T162214Z
LAST-MODIFIED:20251126T162214Z
UID:10001656-1765027800-1765027800@ontariohistoricalsociety.ca
SUMMARY:Lanark County Genealogical Society Monthly Meeting - Smiths Falls Heritage House Museum
DESCRIPTION:Join us via Zoom at 1:30 pm for an enlightening session with Leisa Purdon Bell\, Curator of the Smiths Falls Heritage House Museum. She will explore the fascinating history of the residents at 11 Old Slys Road. \nA Glimpse into the Past \n– Built by Joshua Bates from 1860 to 1863\, the Heritage House has housed numerous families between 1864 and 1977. \n– Notable figures include Truman R. Ward\, the firstborn resident of Smiths Falls\, the community’s electric works\, and a renowned party horse. \n– Additional family names featured in the discussion will include the Davidsons\, O’Haras\, McGraths\, Ryans\, and Gleesons. \nSince 1977\, the Heritage House has served as a community museum\, preserving and sharing the stories of both the home and the surrounding community. Today the museum continues to partner with the Lanark County Genealogical Society\, offering a space for researchers from all over the world in its Genealogy Reference Library. \nAll are Welcome to attend this Lanark County Genealogical Society membership meeting. \nIf you have any inquiries or require more information about the event or to register to attend\, feel free to reach out to Jayne at 613-257-9482 or send an email to lcgspresident@gmail[dot]com. We are eager to assist you and ensure that you have all the details needed to join in to our meeting \n 
URL:https://ontariohistoricalsociety.ca/event/lanark-county-genealogical-society-monthly-meeting-smiths-falls-heritage-house-museum/
LOCATION:online
GEO:56.130366;-106.346771
END:VEVENT
END:VCALENDAR