BEGIN:VCALENDAR
VERSION:2.0
PRODID:-//The Ontario Historical Society - ECPv6.15.20//NONSGML v1.0//EN
CALSCALE:GREGORIAN
METHOD:PUBLISH
X-WR-CALNAME:The Ontario Historical Society
X-ORIGINAL-URL:https://ontariohistoricalsociety.ca
X-WR-CALDESC:Events for The Ontario Historical Society
REFRESH-INTERVAL;VALUE=DURATION:PT1H
X-Robots-Tag:noindex
X-PUBLISHED-TTL:PT1H
BEGIN:VTIMEZONE
TZID:America/Toronto
BEGIN:DAYLIGHT
TZOFFSETFROM:-0500
TZOFFSETTO:-0400
TZNAME:EDT
DTSTART:20210314T070000
END:DAYLIGHT
BEGIN:STANDARD
TZOFFSETFROM:-0400
TZOFFSETTO:-0500
TZNAME:EST
DTSTART:20211107T060000
END:STANDARD
BEGIN:DAYLIGHT
TZOFFSETFROM:-0500
TZOFFSETTO:-0400
TZNAME:EDT
DTSTART:20220313T070000
END:DAYLIGHT
BEGIN:STANDARD
TZOFFSETFROM:-0400
TZOFFSETTO:-0500
TZNAME:EST
DTSTART:20221106T060000
END:STANDARD
BEGIN:DAYLIGHT
TZOFFSETFROM:-0500
TZOFFSETTO:-0400
TZNAME:EDT
DTSTART:20230312T070000
END:DAYLIGHT
BEGIN:STANDARD
TZOFFSETFROM:-0400
TZOFFSETTO:-0500
TZNAME:EST
DTSTART:20231105T060000
END:STANDARD
BEGIN:DAYLIGHT
TZOFFSETFROM:-0500
TZOFFSETTO:-0400
TZNAME:EDT
DTSTART:20240310T070000
END:DAYLIGHT
BEGIN:STANDARD
TZOFFSETFROM:-0400
TZOFFSETTO:-0500
TZNAME:EST
DTSTART:20241103T060000
END:STANDARD
BEGIN:DAYLIGHT
TZOFFSETFROM:-0500
TZOFFSETTO:-0400
TZNAME:EDT
DTSTART:20250309T070000
END:DAYLIGHT
BEGIN:STANDARD
TZOFFSETFROM:-0400
TZOFFSETTO:-0500
TZNAME:EST
DTSTART:20251102T060000
END:STANDARD
BEGIN:DAYLIGHT
TZOFFSETFROM:-0500
TZOFFSETTO:-0400
TZNAME:EDT
DTSTART:20260308T070000
END:DAYLIGHT
BEGIN:STANDARD
TZOFFSETFROM:-0400
TZOFFSETTO:-0500
TZNAME:EST
DTSTART:20261101T060000
END:STANDARD
END:VTIMEZONE
BEGIN:VEVENT
DTSTART;TZID=America/Toronto:20251207T130000
DTEND;TZID=America/Toronto:20251207T130000
DTSTAMP:20260421T100327
CREATED:20251112T173903Z
LAST-MODIFIED:20251112T173903Z
UID:10001644-1765112400-1765112400@ontariohistoricalsociety.ca
SUMMARY:Kensington Market Historical Society - “Good View of Bellevue”  ANNUAL AGM AND FREE WALKING TOUR OF KENSINGTON MARKET
DESCRIPTION:“Good View of Bellevue” \nANNUAL AGM AND FREE WALKING TOUR OF KENSINGTON MARKET \n  \nSUNDAY\, DECEMBER 7\, 2025\n1:00 PM \nMeet at St. Stephen-in-the-Fields Church \n103 Bellevue Ave (corner of Bellevue & College) \nRSVP: info@kmhs.ca \nDress warmly!
URL:https://ontariohistoricalsociety.ca/event/kensington-market-historical-society-good-view-of-bellevue-annual-agm-and-free-walking-tour-of-kensington-market/
LOCATION:St. Stephen-in-the-Fields Church\, 103 Bellevue Ave\, Toronto\, Ontario\, Canada
ORGANIZER;CN="Kensington Market Historical Society":MAILTO:info@kmhs.ca
END:VEVENT
BEGIN:VEVENT
DTSTART;TZID=America/Toronto:20241222T140000
DTEND;TZID=America/Toronto:20241222T140000
DTSTAMP:20260421T100327
CREATED:20241202T170821Z
LAST-MODIFIED:20241202T170821Z
UID:10001391-1734876000-1734876000@ontariohistoricalsociety.ca
SUMMARY:Kensington Market Historical Society -  ANNUAL AGM AND WALKING TOUR OF KENSINGTON MARKET
DESCRIPTION:Roam the Market with us on an informal tour as we present our yearly reports at stops along the way.\nHave a coffee!\nDo some shopping!\nAsk us questions about Market history! \nMeet at the Al Waxman Statue\nin Bellevue Square Park (Denison & Bellevue) \nRSVP: info@kmhs.ca \nDress warmly!
URL:https://ontariohistoricalsociety.ca/event/kensington-market-historical-society-annual-agm-and-walking-tour-of-kensington-market/
ORGANIZER;CN="Kensington Market Historical Society":MAILTO:info@kmhs.ca
END:VEVENT
BEGIN:VEVENT
DTSTART;TZID=America/Toronto:20241010T183000
DTEND;TZID=America/Toronto:20241010T183000
DTSTAMP:20260421T100327
CREATED:20240930T170514Z
LAST-MODIFIED:20240930T170514Z
UID:10001366-1728585000-1728585000@ontariohistoricalsociety.ca
SUMMARY:Kensington Market Historical Society - "Pivotal Art Movements of Kensington Market: CEAC and ChromaZone"
DESCRIPTION:Kensington Market Historical Society and Koffler Arts are proud to co-present talks by distinguished artists Bruce Eves and Andy Fabo. \nEves was an integral member of CEAC\, the Centre for Experimental Art and Communication (1976-1978)\, which had its roots in the Kensington Art Association (1973-1978). Fabo was one of six emerging Canadian artists who created and exhibited in Toronto as ChromaZone/ Chromatique Collective (1981-1985)\, also situated in Kensington Market. Both speakers will discuss their personal involvement in CEAC and ChromaZone\, and will highlight the significant and lasting contributions of these artist-run collectives in Toronto’s contemporary art scene. \nThis talk is presented in honour of National Coming Out Day (Friday\, October 11\, 2024) as both artists have been producing unabashedly gay-themed art from their earliest days.
URL:https://ontariohistoricalsociety.ca/event/kensington-market-historical-society-pivotal-art-movements-of-kensington-market-ceac-and-chromazone/
LOCATION:Paul Cadario Conference Centre\, King's College Circle 15\, Toronto\, Ontario\, M5S 3H7\, Canada
ORGANIZER;CN="Kensington Market Historical Society":MAILTO:info@kmhs.ca
GEO:43.6624645;-79.3961984
X-APPLE-STRUCTURED-LOCATION;VALUE=URI;X-ADDRESS=Paul Cadario Conference Centre King's College Circle 15 Toronto Ontario M5S 3H7 Canada;X-APPLE-RADIUS=500;X-TITLE=King's College Circle 15:geo:-79.3961984,43.6624645
END:VEVENT
BEGIN:VEVENT
DTSTART;TZID=America/Toronto:20221218T110000
DTEND;TZID=America/Toronto:20221218T110000
DTSTAMP:20260421T100327
CREATED:20221205T172610Z
LAST-MODIFIED:20221212T151643Z
UID:10000820-1671361200-1671361200@ontariohistoricalsociety.ca
SUMMARY:Kensington Market Historical Society Roving AGM and Tour
DESCRIPTION:Roam the Market with us on an informal tour as we present our yearly reports at stops along the way. \nHave a coffee!\nDo some shopping!\nAsk us questions about Market history! \nMeet at 80 Bellevue Avenue\nRSVP: info@kmhs.ca
URL:https://ontariohistoricalsociety.ca/event/kensington-market-historical-society-roving-agm-and-tour/
LOCATION:Kensington Market\, 80 Bellevue Avenue\, Toronto\, Ontario\, M5T 2N7\, Canada
ORGANIZER;CN="Kensington Market Historical Society":MAILTO:info@kmhs.ca
GEO:43.6553269;-79.4039648
X-APPLE-STRUCTURED-LOCATION;VALUE=URI;X-ADDRESS=Kensington Market 80 Bellevue Avenue Toronto Ontario M5T 2N7 Canada;X-APPLE-RADIUS=500;X-TITLE=80 Bellevue Avenue:geo:-79.4039648,43.6553269
END:VEVENT
BEGIN:VEVENT
DTSTART;TZID=America/Toronto:20220505T190000
DTEND;TZID=America/Toronto:20220505T210000
DTSTAMP:20260421T100327
CREATED:20220404T133549Z
LAST-MODIFIED:20220404T134036Z
UID:10000528-1651777200-1651784400@ontariohistoricalsociety.ca
SUMMARY:Kensington Market Historical Society (Virtual): Marcus Garvey and the UNIA Hall in Toronto 1925-1982
DESCRIPTION:An illustrated talk by Dr. Cheryl Thompson\, Assistant Professor at X University \nFor the past several years\, 355 College Street was home to Thymeless Bar\, a reggae nightspot situated just steps from Kensington Market. What many people forget or don’t know is that for 57 years this building was home to the Universal Negro Improvement (UNIA) Hall. Join us for an exploration of this history\, Garvey’s importance to Black discourse in the early twentieth century\, and why Toronto’s Black historical spaces and places matter today. \nEmail info@kmhs.ca for the Zoom link.
URL:https://ontariohistoricalsociety.ca/event/kensington-market-historical-society-virtual-marcus-garvey-and-the-unia-hall-in-toronto-1925-1982/
LOCATION:online
ORGANIZER;CN="Kensington Market Historical Society":MAILTO:info@kmhs.ca
GEO:56.130366;-106.346771
END:VEVENT
END:VCALENDAR