BEGIN:VCALENDAR
VERSION:2.0
PRODID:-//The Ontario Historical Society - ECPv6.15.20//NONSGML v1.0//EN
CALSCALE:GREGORIAN
METHOD:PUBLISH
X-WR-CALNAME:The Ontario Historical Society
X-ORIGINAL-URL:https://ontariohistoricalsociety.ca
X-WR-CALDESC:Events for The Ontario Historical Society
REFRESH-INTERVAL;VALUE=DURATION:PT1H
X-Robots-Tag:noindex
X-PUBLISHED-TTL:PT1H
BEGIN:VTIMEZONE
TZID:America/Toronto
BEGIN:DAYLIGHT
TZOFFSETFROM:-0500
TZOFFSETTO:-0400
TZNAME:EDT
DTSTART:20220313T070000
END:DAYLIGHT
BEGIN:STANDARD
TZOFFSETFROM:-0400
TZOFFSETTO:-0500
TZNAME:EST
DTSTART:20221106T060000
END:STANDARD
BEGIN:DAYLIGHT
TZOFFSETFROM:-0500
TZOFFSETTO:-0400
TZNAME:EDT
DTSTART:20230312T070000
END:DAYLIGHT
BEGIN:STANDARD
TZOFFSETFROM:-0400
TZOFFSETTO:-0500
TZNAME:EST
DTSTART:20231105T060000
END:STANDARD
BEGIN:DAYLIGHT
TZOFFSETFROM:-0500
TZOFFSETTO:-0400
TZNAME:EDT
DTSTART:20240310T070000
END:DAYLIGHT
BEGIN:STANDARD
TZOFFSETFROM:-0400
TZOFFSETTO:-0500
TZNAME:EST
DTSTART:20241103T060000
END:STANDARD
BEGIN:DAYLIGHT
TZOFFSETFROM:-0500
TZOFFSETTO:-0400
TZNAME:EDT
DTSTART:20250309T070000
END:DAYLIGHT
BEGIN:STANDARD
TZOFFSETFROM:-0400
TZOFFSETTO:-0500
TZNAME:EST
DTSTART:20251102T060000
END:STANDARD
BEGIN:DAYLIGHT
TZOFFSETFROM:-0500
TZOFFSETTO:-0400
TZNAME:EDT
DTSTART:20260308T070000
END:DAYLIGHT
BEGIN:STANDARD
TZOFFSETFROM:-0400
TZOFFSETTO:-0500
TZNAME:EST
DTSTART:20261101T060000
END:STANDARD
BEGIN:DAYLIGHT
TZOFFSETFROM:-0500
TZOFFSETTO:-0400
TZNAME:EDT
DTSTART:20270314T070000
END:DAYLIGHT
BEGIN:STANDARD
TZOFFSETFROM:-0400
TZOFFSETTO:-0500
TZNAME:EST
DTSTART:20271107T060000
END:STANDARD
END:VTIMEZONE
BEGIN:VEVENT
DTSTART;TZID=America/Toronto:20260419T100000
DTEND;TZID=America/Toronto:20260419T143000
DTSTAMP:20260421T050409
CREATED:20260126T161201Z
LAST-MODIFIED:20260126T161201Z
UID:10001679-1776592800-1776609000@ontariohistoricalsociety.ca
SUMMARY:Four Seasons Bottle Collector Club: 30th Annual Toronto Bottle & Antique Show and Sale
DESCRIPTION:Step back in time at the 30th Annual Toronto Bottle & Antique Show and Sale\, presented by the Four Seasons Bottle Collector Club\, on Sunday\, April 19th  \nExplore Canada’s history through the everyday objects that shaped it—glass\, stoneware\, and collectibles once found in homes\, shops\, and industries across the country. With 50+ dealers\, you’ll find antique and vintage bottles\, syphons\, milk and medicine bottles\, sealer jars\, soda and ginger ale bottles\, stoneware crocks and jugs\, art glass\, insulators\, and more. \nHave a mystery item? Visit the club table for help with identification and historical background. The show also features special historic displays highlighting\, Hamilton’s brewing industry\, Canadian electrical and telegraph insulators\, and the important role dairies played during wartime. \n Chestnut Hill Recreational Complex\n1867 Valley Farm Rd.\, Pickering\, ON\n 10:00 AM – 2:30 PM\n Admission: $5 \nWhether you’re a seasoned collector\, a history enthusiast\, or just curious\, this is a great chance to discover\, learn\, and take home a piece of Canada’s past.
URL:https://ontariohistoricalsociety.ca/event/four-seasons-bottle-collector-club-30th-annual-toronto-bottle-antique-show-and-sale/
LOCATION:Chestnut Hill Recreational Complex\, Valley Farm Road 1867\, Pickering\, ON\, L1V 3Y7\, Canada
GEO:43.83955;-79.0800299
X-APPLE-STRUCTURED-LOCATION;VALUE=URI;X-ADDRESS=Chestnut Hill Recreational Complex Valley Farm Road 1867 Pickering ON L1V 3Y7 Canada;X-APPLE-RADIUS=500;X-TITLE=Valley Farm Road 1867:geo:-79.0800299,43.83955
END:VEVENT
BEGIN:VEVENT
DTSTART;TZID=America/Toronto:20250413T100000
DTEND;TZID=America/Toronto:20250413T143000
DTSTAMP:20260421T050409
CREATED:20241205T182248Z
LAST-MODIFIED:20241205T182248Z
UID:10001394-1744538400-1744554600@ontariohistoricalsociety.ca
SUMMARY:29th annual Toronto Bottle & Antique Show and Sale
DESCRIPTION:The Four Seasons Bottle Collector Club is hosting the 29th annual Toronto Bottle & Antique Show and Sale at the Chestnut Hill Recreational Complex\, Pickering\, April 13th \nJoin us to find treasures\, meet other Bottle and Pottery enthusiasts and take advantage of the club table for identification. \nAntique and vintage bottles\, syphons\, milks\, medicines\, sealer jars\, pop and gingers\, stoneware crocks and jugs\, even art glass and insulators! \nLocation: 1867 Valley Farm Rd..\nAdmission: $5.00 \nThe show runs from April 13th 10 am to 2:30 pm \nWe have tried to differentiate from a collector show in that we have a section devoted to: \nHistoric Displays\, Early Canadian Fruit Jars\, Sodas\, Milk Bottles\, Medicines\, pottery\, and their stories\, these are usually based on personal collections\nAuthors section\, with their Canadian reference books\, we encourage authors in this field to offer their books at the show. \nWe hope you can join us! \nMore details here. \nhttps://www.facebook.com/share/2jPeLThtjM5Asszf/
URL:https://ontariohistoricalsociety.ca/event/29th-annual-toronto-bottle-antique-show-and-sale/
LOCATION:Chestnut Hill Recreational Complex\, Valley Farm Road 1867\, Pickering\, ON\, L1V 3Y7\, Canada
GEO:43.83955;-79.0800299
X-APPLE-STRUCTURED-LOCATION;VALUE=URI;X-ADDRESS=Chestnut Hill Recreational Complex Valley Farm Road 1867 Pickering ON L1V 3Y7 Canada;X-APPLE-RADIUS=500;X-TITLE=Valley Farm Road 1867:geo:-79.0800299,43.83955
END:VEVENT
BEGIN:VEVENT
DTSTART;TZID=America/Toronto:20240414T100000
DTEND;TZID=America/Toronto:20240414T143000
DTSTAMP:20260421T050409
CREATED:20231101T131032Z
LAST-MODIFIED:20231101T131032Z
UID:10001217-1713088800-1713105000@ontariohistoricalsociety.ca
SUMMARY:28th Annual Toronto Bottle and Antique Show
DESCRIPTION:The Four Seasons Bottle Collector Club is hosting the 28th annual Toronto Bottle & Antique Show and Sale at the Chestnut Hill Recreational Complex\, Pickering\, April 14th 2024 \nJoin us to find treasures\, meet other Bottle and Pottery enthusiasts and take advantage of the appraisal table. \nAntique and vintage bottles\, syphons\, milks\, medicines\, sealer jars\, pop and gingers\, stoneware crocks and jugs\, even art glass and insulators! \nLocation: 1867 Valley Farm Rd..\nAdmission: $5.00 \nThe show runs from April 14th 10 am to 2:30 pm \nWe have tried to differentiate from a collector show in that we have a section devoted to: \n\nHistoric Displays\, Early Canadian Fruit Jars\, Sodas\, Milk Bottles\, Medicines\, pottery\, and their stories\, these are usually based on personal collections and include seldom seen artifacts\nAuthors section\, with their Canadian reference books\, we encourage authors in this field to offer their books at the show.\n\nWe hope you can join us!
URL:https://ontariohistoricalsociety.ca/event/28th-annual-toronto-bottle-and-antique-show/
LOCATION:Pickering Recreational Complex\, 1867 Valley Farm Road\, Pickering\, Ontario\, Canada
GEO:43.83955;-79.0800299
X-APPLE-STRUCTURED-LOCATION;VALUE=URI;X-ADDRESS=Pickering Recreational Complex 1867 Valley Farm Road Pickering Ontario Canada;X-APPLE-RADIUS=500;X-TITLE=1867 Valley Farm Road:geo:-79.0800299,43.83955
END:VEVENT
BEGIN:VEVENT
DTSTART;TZID=America/Toronto:20240217T190000
DTEND;TZID=America/Toronto:20240217T210000
DTSTAMP:20260421T050409
CREATED:20231115T140253Z
LAST-MODIFIED:20231115T140253Z
UID:10001230-1708196400-1708203600@ontariohistoricalsociety.ca
SUMMARY:Four Seasons Bottle Collectors Club Presentation “The Rich History of 19th-century Toronto Potteries.”
DESCRIPTION:FSBC is proud to host Moe Johnson as a guest speaker at our Feb 17th  meeting. The topic of the presentation is “The Rich History of 19th-century Toronto\nPotteries.” \nMoe Johnson is well known for his book\, “The Potter’s Reach in 19th Century Ontario\,” which examines Ontario Pottery and its place in the province’s social\nand economic development. The presentation is about an hour in length followed by a shorter “show and tell” where you are invited to bring an example or two from your collection for\ndiscussion. \nWe meet at the Armour Heights Community Center\, 2140 Avenue Road Toronto. \nStart time is 7:00 pm. \nSpace is limited at the facility\, please RSVP to: Jon Matheson FSBC (Four Seasons Bottle Club) Jwmatheson1@gmail.com
URL:https://ontariohistoricalsociety.ca/event/four-seasons-bottle-collectors-club-presentation-the-rich-history-of-19th-century-toronto-potteries/
LOCATION:Armour Heights Community Centre\, Avenue Road 2140\, Toronto\, Ontario\, M5M 4M7\, Canada
GEO:43.7393349;-79.4219493
X-APPLE-STRUCTURED-LOCATION;VALUE=URI;X-ADDRESS=Armour Heights Community Centre Avenue Road 2140 Toronto Ontario M5M 4M7 Canada;X-APPLE-RADIUS=500;X-TITLE=Avenue Road 2140:geo:-79.4219493,43.7393349
END:VEVENT
BEGIN:VEVENT
DTSTART;TZID=America/Toronto:20230423T100000
DTEND;TZID=America/Toronto:20230423T143000
DTSTAMP:20260421T050409
CREATED:20230214T203823Z
LAST-MODIFIED:20230331T150200Z
UID:10000888-1682244000-1682260200@ontariohistoricalsociety.ca
SUMMARY:Toronto Bottle & Antique Show and Sale
DESCRIPTION:The Four Seasons Bottle Collector Club is hosting their annual Toronto Bottle & Antique Show and Sale.\nJoin us to find treasures\, meet other bottle enthusiasts and take advantage of the appraisal table.\nAntique and vintage bottles\, syphons\, milks\, medicines\, sealer jars\, pop and gingers\, crocks\, signs\, and related advertising.\n\n\nIn our 30th year\, the event is an annual collector show and sale with a “Historical Display” section\n– Largest and longest running National Antique Bottle and Stoneware show in Canada.\n– Run by The Four Seasons Bottle Club of Toronto\n– Most collectors come to the show looking for the “opportunity” something unique to fit their collection\n– Others visit for something they like for décor or vintage decorating\n– Goods in this show are almost entirely of Canadian origin\n– Dealers and customers will come in from across Canada\n– Typical draw 300+ \nThe vendors mainly offer.\n– Stoneware and Redware containers\, before the advent of mass-produced glass and metal packaging\nstoneware was widely manufactured across Canada\, most was made in Canada in locations such as\nPicton\, Belleville\, Cornwall\, St. Jean\, Medicine Hat\, and London\n– Glass Bottles\, dairy\, sodas\, medicals\, fruit jars of all sorts some going back to the origins of glass making\nin Canada\n– This year we are proud to support the launch of the new book “The Potters Reach” by Moe Johnson\,\nthe history of Ontario made earthenware and Stoneware pottery! \nHistorical displays.\nThe Historical displays section showcases early Canadian;\no Pharmaceutical Manufacturers (quack cure-alls).\no Dairy bottles\, one of them is war slogans this time\no Sodas\no Fruit jars\, yes some very valuable ones…\no Stoneware\, packaging before the advent of tins and bottle \n\n\nLocation: The Chestnut Hill Developments Recreational Complex.\nAdmission: $5.00
URL:https://ontariohistoricalsociety.ca/event/toronto-bottle-antique-show-and-sale/
LOCATION:Pickering Recreational Complex\, 1867 Valley Farm Road\, Pickering\, Ontario\, Canada
GEO:43.83955;-79.0800299
X-APPLE-STRUCTURED-LOCATION;VALUE=URI;X-ADDRESS=Pickering Recreational Complex 1867 Valley Farm Road Pickering Ontario Canada;X-APPLE-RADIUS=500;X-TITLE=1867 Valley Farm Road:geo:-79.0800299,43.83955
END:VEVENT
END:VCALENDAR