BEGIN:VCALENDAR
VERSION:2.0
PRODID:-//The Ontario Historical Society - ECPv6.15.20//NONSGML v1.0//EN
CALSCALE:GREGORIAN
METHOD:PUBLISH
X-ORIGINAL-URL:https://ontariohistoricalsociety.ca
X-WR-CALDESC:Events for The Ontario Historical Society
REFRESH-INTERVAL;VALUE=DURATION:PT1H
X-Robots-Tag:noindex
X-PUBLISHED-TTL:PT1H
BEGIN:VTIMEZONE
TZID:America/Toronto
BEGIN:DAYLIGHT
TZOFFSETFROM:-0500
TZOFFSETTO:-0400
TZNAME:EDT
DTSTART:20220313T070000
END:DAYLIGHT
BEGIN:STANDARD
TZOFFSETFROM:-0400
TZOFFSETTO:-0500
TZNAME:EST
DTSTART:20221106T060000
END:STANDARD
BEGIN:DAYLIGHT
TZOFFSETFROM:-0500
TZOFFSETTO:-0400
TZNAME:EDT
DTSTART:20230312T070000
END:DAYLIGHT
BEGIN:STANDARD
TZOFFSETFROM:-0400
TZOFFSETTO:-0500
TZNAME:EST
DTSTART:20231105T060000
END:STANDARD
BEGIN:DAYLIGHT
TZOFFSETFROM:-0500
TZOFFSETTO:-0400
TZNAME:EDT
DTSTART:20240310T070000
END:DAYLIGHT
BEGIN:STANDARD
TZOFFSETFROM:-0400
TZOFFSETTO:-0500
TZNAME:EST
DTSTART:20241103T060000
END:STANDARD
END:VTIMEZONE
BEGIN:VEVENT
DTSTART;TZID=America/Toronto:20230415T150000
DTEND;TZID=America/Toronto:20230415T160000
DTSTAMP:20260423T111526
CREATED:20230331T152111Z
LAST-MODIFIED:20230331T152111Z
UID:10000931-1681570800-1681574400@ontariohistoricalsociety.ca
SUMMARY:Exporail the Canadian Railway Museum - Charles Melville Hays and the Canada Car\, A Virtual Tour
DESCRIPTION:Live virtual tour on April 15\, 2023\, at 3:00 pm in English (EST)\nDuration: approximately 45 minutes (+15 minutes for questions) \nExporail\, the Canadian Railway Museum is offering a free virtual tour of the\nCanada Car\, once used by Charles Melville Hays\, former president of the Grand\nTrunk Railway. This car\, built in 1897\, is usually inaccessible to the public\nwhen visiting Exporail. This unique experience will allow visitors to explore\nthe vehicle’s interior and hidden secrets. Moreover\, visitors will learn\nmore about the life of Charles Melville Hays\, a great visionary of Canadian\nrailways.\nTo sign up: https://exporail.org/en/virtual-tours/
URL:https://ontariohistoricalsociety.ca/event/exporail-the-canadian-railway-museum-charles-melville-hays-and-the-canada-car-a-virtual-tour/
LOCATION:online
ORGANIZER;CN="Exporail the Canadian Railway Musem":MAILTO:info@exporail.org
GEO:56.130366;-106.346771
END:VEVENT
END:VCALENDAR