BEGIN:VCALENDAR
VERSION:2.0
PRODID:-//The Ontario Historical Society - ECPv6.15.20//NONSGML v1.0//EN
CALSCALE:GREGORIAN
METHOD:PUBLISH
X-ORIGINAL-URL:https://ontariohistoricalsociety.ca
X-WR-CALDESC:Events for The Ontario Historical Society
REFRESH-INTERVAL;VALUE=DURATION:PT1H
X-Robots-Tag:noindex
X-PUBLISHED-TTL:PT1H
BEGIN:VTIMEZONE
TZID:America/Toronto
BEGIN:DAYLIGHT
TZOFFSETFROM:-0500
TZOFFSETTO:-0400
TZNAME:EDT
DTSTART:20180311T070000
END:DAYLIGHT
BEGIN:STANDARD
TZOFFSETFROM:-0400
TZOFFSETTO:-0500
TZNAME:EST
DTSTART:20181104T060000
END:STANDARD
BEGIN:DAYLIGHT
TZOFFSETFROM:-0500
TZOFFSETTO:-0400
TZNAME:EDT
DTSTART:20190310T070000
END:DAYLIGHT
BEGIN:STANDARD
TZOFFSETFROM:-0400
TZOFFSETTO:-0500
TZNAME:EST
DTSTART:20191103T060000
END:STANDARD
BEGIN:DAYLIGHT
TZOFFSETFROM:-0500
TZOFFSETTO:-0400
TZNAME:EDT
DTSTART:20200308T070000
END:DAYLIGHT
BEGIN:STANDARD
TZOFFSETFROM:-0400
TZOFFSETTO:-0500
TZNAME:EST
DTSTART:20201101T060000
END:STANDARD
END:VTIMEZONE
BEGIN:VEVENT
DTSTART;TZID=America/Toronto:20191113T193000
DTEND;TZID=America/Toronto:20191113T193000
DTSTAMP:20260421T125949
CREATED:20190909T185706Z
LAST-MODIFIED:20191112T200650Z
UID:10000082-1573673400-1573673400@ontariohistoricalsociety.ca
SUMMARY:Esquesing HS November 2019 Meeting: Events That Changed Esquesing Township
DESCRIPTION:Six executive members of the EHS will explore changes that affected the people of Esquesing over the past 200 years of our history. The topics will be government\, transportation\, communication\, utilities\, education and the Esquesing Historical Society!
URL:https://ontariohistoricalsociety.ca/event/esquesing-hs-november-2019-meeting-events-that-changed-esquesing-township/
LOCATION:Knox Presbyterian Church\, 116 Main St. S.\, Georgetown\, ON\, L7G 3E6\, Canada
ATTACH;FMTTYPE=image/jpeg:https://ontariohistoricalsociety.ca/wp-content/uploads/2019/09/Esquesing-HS-Logo.jpg
ORGANIZER;CN="Esquesing Historical Society":MAILTO:esquesinghs@gmail.com
GEO:43.6485314;-79.9253678
X-APPLE-STRUCTURED-LOCATION;VALUE=URI;X-ADDRESS=Knox Presbyterian Church 116 Main St. S. Georgetown ON L7G 3E6 Canada;X-APPLE-RADIUS=500;X-TITLE=116 Main St. S.:geo:-79.9253678,43.6485314
END:VEVENT
BEGIN:VEVENT
DTSTART;TZID=America/Toronto:20191009T193000
DTEND;TZID=America/Toronto:20191009T193000
DTSTAMP:20260421T125949
CREATED:20190909T185337Z
LAST-MODIFIED:20190909T185337Z
UID:10000083-1570649400-1570649400@ontariohistoricalsociety.ca
SUMMARY:Esquesing HS October 2019 Meeting: The Settlement of Esquesing Township
DESCRIPTION:Ray Denny will continue the 200th anniversary celebration by exploring the settlements of the Township from Crewson’s Corners to Whaley’s Corners! What commodity did each community contribute to the economy of the Township?
URL:https://ontariohistoricalsociety.ca/event/esquesing-hs-october-2019/
LOCATION:Acton Town Hall\, 19 Willow St. North\, Acton\, ON\, L7J 1Z6\, Canada
ATTACH;FMTTYPE=image/jpeg:https://ontariohistoricalsociety.ca/wp-content/uploads/2019/09/Esquesing-HS-Logo.jpg
ORGANIZER;CN="Esquesing Historical Society":MAILTO:esquesinghs@gmail.com
GEO:43.6309702;-80.0412237
X-APPLE-STRUCTURED-LOCATION;VALUE=URI;X-ADDRESS=Acton Town Hall 19 Willow St. North Acton ON L7J 1Z6 Canada;X-APPLE-RADIUS=500;X-TITLE=19 Willow St. North:geo:-80.0412237,43.6309702
END:VEVENT
BEGIN:VEVENT
DTSTART;TZID=America/Toronto:20190911T190000
DTEND;TZID=America/Toronto:20190911T190000
DTSTAMP:20260421T125949
CREATED:20190909T181753Z
LAST-MODIFIED:20190909T181753Z
UID:10000086-1568228400-1568228400@ontariohistoricalsociety.ca
SUMMARY:Esquesing HS September 2019 Meeting: The Early Years of Esquesing Township
DESCRIPTION:John Mark Rowe begins the celebration of 200 years of settlement by exploring the pre-history\, survey and first years of settlement in Esquesing township with a short walk and slide show in the cradle of Esquesing’s history.
URL:https://ontariohistoricalsociety.ca/event/esquesing-hs-september-2019-meeting-the-early-years-of-esquesing-township/
LOCATION:St. John’s Anglican Church\, Stewarttown\, 10996 Trafalgar Rd.\, Georgetown\, Ontario\, L7G 4S5\, Canada
ATTACH;FMTTYPE=image/jpeg:https://ontariohistoricalsociety.ca/wp-content/uploads/2019/09/Esquesing-HS-Logo.jpg
ORGANIZER;CN="Esquesing Historical Society":MAILTO:esquesinghs@gmail.com
GEO:43.6277279;-79.9211722
X-APPLE-STRUCTURED-LOCATION;VALUE=URI;X-ADDRESS=St. John’s Anglican Church Stewarttown 10996 Trafalgar Rd. Georgetown Ontario L7G 4S5 Canada;X-APPLE-RADIUS=500;X-TITLE=10996 Trafalgar Rd.:geo:-79.9211722,43.6277279
END:VEVENT
END:VCALENDAR